##############################################################################
##############################################################################
###
### Running command:
###
### chmod a+r synapterdata -R && E:\biocbld\bbs-3.3-bioc\R\bin\R.exe CMD build --keep-empty-dirs --no-resave-data synapterdata
###
##############################################################################
##############################################################################
* checking for file 'synapterdata/DESCRIPTION' ... OK
* preparing 'synapterdata':
* checking DESCRIPTION meta-information ... OK
* checking for LF line-endings in source and make files
* checking for empty or unneeded directories
* looking to see if a 'data/datalist' file should be added
* building 'synapterdata_1.10.0.tar.gz'