##############################################################################
##############################################################################
###
### Running command:
###
### cd seventyGeneData.buildbin-libdir/seventyGeneData && zip -r ../../seventyGeneData_1.7.0.zip . & cd ../..
###
##############################################################################
##############################################################################
adding: CITATION (188 bytes security) (deflated 49%)
adding: data/ (256 bytes security) (stored 0%)
adding: data/datalist (188 bytes security) (stored 0%)
adding: data/vanDeVijver.rda (188 bytes security) (deflated 0%)
adding: data/vantVeer.rda (188 bytes security) (deflated 0%)
adding: DESCRIPTION (188 bytes security) (deflated 40%)
adding: doc/ (256 bytes security) (stored 0%)
adding: doc/index.html (188 bytes security) (deflated 60%)
adding: doc/seventyGeneData.pdf (188 bytes security) (deflated 12%)
adding: doc/seventyGeneData.R (188 bytes security) (deflated 76%)
adding: doc/seventyGeneData.Rnw (188 bytes security) (deflated 75%)
adding: extdata/ (256 bytes security) (stored 0%)
adding: extdata/vanDeVijver/ (256 bytes security) (stored 0%)
adding: extdata/vanDeVijver/nejm_table1.zip (188 bytes security) (stored 0%)
adding: extdata/vanDeVijver/ZipFiles295Samples.zip (188 bytes security) (stored 0%)
adding: extdata/vantVeer/ (256 bytes security) (stored 0%)
adding: extdata/vantVeer/415530a-s8.xls (188 bytes security) (deflated 86%)
adding: extdata/vantVeer/415530a-s9.xls (188 bytes security) (deflated 66%)
adding: extdata/vantVeer/ArrayData_19samples_.txt.gz (188 bytes security) (deflated 0%)
adding: extdata/vantVeer/ArrayData_BRCA1.txt.gz (188 bytes security) (deflated 0%)
adding: extdata/vantVeer/ArrayData_greater_than_5yr.txt.gz (188 bytes security) (deflated 0%)
adding: extdata/vantVeer/ArrayData_less_than_5yr.txt.gz (188 bytes security) (deflated 0%)
adding: extdata/vantVeer/ArrayNomenclature_contig_accession.xls (188 bytes security) (deflated 75%)
adding: extdata/vantVeer/ProbeSeq.xls (188 bytes security) (deflated 73%)
adding: help/ (256 bytes security) (stored 0%)
adding: help/aliases.rds (188 bytes security) (stored 0%)
adding: help/AnIndex (188 bytes security) (deflated 50%)
adding: help/paths.rds (188 bytes security) (stored 0%)
adding: help/seventyGeneData.rdb (188 bytes security) (deflated 0%)
adding: help/seventyGeneData.rdx (188 bytes security) (stored 0%)
adding: html/ (256 bytes security) (stored 0%)
adding: html/00Index.html (188 bytes security) (deflated 64%)
adding: html/R.css (188 bytes security) (deflated 75%)
adding: INDEX (188 bytes security) (deflated 13%)
adding: MD5 (188 bytes security) (deflated 46%)
adding: Meta/ (256 bytes security) (stored 0%)
adding: Meta/data.rds (188 bytes security) (stored 0%)
adding: Meta/hsearch.rds (188 bytes security) (stored 0%)
adding: Meta/links.rds (188 bytes security) (stored 0%)
adding: Meta/nsInfo.rds (188 bytes security) (stored 0%)
adding: Meta/package.rds (188 bytes security) (stored 0%)
adding: Meta/Rd.rds (188 bytes security) (stored 0%)
adding: Meta/vignette.rds (188 bytes security) (stored 0%)
adding: NAMESPACE (188 bytes security) (stored 0%)