##############################################################################
##############################################################################
###
### Running command:
###
### rm -rf mtbls2.buildbin-libdir && mkdir mtbls2.buildbin-libdir && /Users/biocbuild/BBS/utils/build-universal.sh mtbls2_1.1.0.tar.gz /Library/Frameworks/R.framework/Versions/Current/Resources/bin/R mtbls2.buildbin-libdir
###
##############################################################################
##############################################################################
>>>>>>>
>>>>>>> INSTALLATION WITH 'R CMD INSTALL --preclean --no-multiarch --library=mtbls2.buildbin-libdir mtbls2_1.1.0.tar.gz'
>>>>>>>
* installing *source* package ‘mtbls2’ ...
** R
** data
** inst
** preparing package for lazy loading
** help
*** installing help indices
** building package indices
** installing vignettes
** testing if installed package can be loaded
* DONE (mtbls2)