##############################################################################
##############################################################################
###
### Running command:
###
### /Library/Frameworks/R.framework/Versions/Current/Resources/bin/R CMD build --keep-empty-dirs --no-resave-data mAPKLData
###
##############################################################################
##############################################################################
* checking for file ‘mAPKLData/DESCRIPTION’ ... OK
* preparing ‘mAPKLData’:
* checking DESCRIPTION meta-information ... OK
* checking whether ‘INDEX’ is up-to-date ... NO
* use ‘--force’ to remove the existing ‘INDEX’
* checking for LF line-endings in source and make files
* checking for empty or unneeded directories
WARNING: directory ‘mAPKLData/inst’ is empty
* looking to see if a ‘data/datalist’ file should be added
* building ‘mAPKLData_1.3.0.tar.gz’