##############################################################################
##############################################################################
###
### Running command:
###
### cd lumiBarnes.buildbin-libdir/lumiBarnes && zip -r ../../lumiBarnes_1.12.0.zip . & cd ../..
###
##############################################################################
##############################################################################
adding: data/ (256 bytes security) (stored 0%)
adding: data/datalist (188 bytes security) (stored 0%)
adding: data/lumiBarnes.rda (188 bytes security) (deflated 1%)
adding: DESCRIPTION (188 bytes security) (deflated 39%)
adding: help/ (256 bytes security) (stored 0%)
adding: help/aliases.rds (188 bytes security) (deflated 1%)
adding: help/AnIndex (188 bytes security) (deflated 26%)
adding: help/lumiBarnes.rdb (188 bytes security) (stored 0%)
adding: help/lumiBarnes.rdx (188 bytes security) (stored 0%)
adding: help/paths.rds (188 bytes security) (stored 0%)
adding: html/ (256 bytes security) (stored 0%)
adding: html/00Index.html (188 bytes security) (deflated 51%)
adding: html/R.css (188 bytes security) (deflated 75%)
adding: INDEX (188 bytes security) (deflated 38%)
adding: MD5 (188 bytes security) (deflated 40%)
adding: Meta/ (256 bytes security) (stored 0%)
adding: Meta/data.rds (188 bytes security) (stored 0%)
adding: Meta/hsearch.rds (188 bytes security) (stored 0%)
adding: Meta/links.rds (188 bytes security) (stored 0%)
adding: Meta/nsInfo.rds (188 bytes security) (stored 0%)
adding: Meta/package.rds (188 bytes security) (stored 0%)
adding: Meta/Rd.rds (188 bytes security) (stored 0%)
adding: NAMESPACE (188 bytes security) (stored 0%)