##############################################################################
##############################################################################
###
### Running command:
###
### cd hapmap100kxba.buildbin-libdir/hapmap100kxba && zip -r ../../hapmap100kxba_1.14.0.zip . & cd ../..
###
##############################################################################
##############################################################################
Scanning files
adding: celFiles/ (256 bytes security) (stored 0%)
adding: celFiles/NA06985.CEL (188 bytes security) (deflated 46%)
adding: celFiles/NA06991.CEL (188 bytes security) (deflated 46%)
adding: celFiles/NA06993.CEL (188 bytes security) (deflated 46%)
adding: CITATION (188 bytes security) (deflated 43%)
adding: DESCRIPTION (188 bytes security) (deflated 29%)
adding: help/ (256 bytes security) (stored 0%)
adding: help/aliases.rds (188 bytes security) (stored 0%)
adding: help/AnIndex (188 bytes security) (deflated 60%)
adding: help/hapmap100kxba.rdb (188 bytes security) (stored 0%)
adding: help/hapmap100kxba.rdx (188 bytes security) (stored 0%)
adding: help/paths.rds (188 bytes security) (stored 0%)
adding: html/ (256 bytes security) (stored 0%)
adding: html/00Index.html (188 bytes security) (deflated 54%)
adding: html/R.css (188 bytes security) (deflated 75%)
adding: INDEX (188 bytes security) (stored 0%)
adding: MD5 (188 bytes security) (deflated 42%)
adding: Meta/ (256 bytes security) (stored 0%)
adding: Meta/hsearch.rds (188 bytes security) (stored 0%)
adding: Meta/links.rds (188 bytes security) (stored 0%)
adding: Meta/nsInfo.rds (188 bytes security) (stored 0%)
adding: Meta/package.rds (188 bytes security) (stored 0%)
adding: Meta/Rd.rds (188 bytes security) (stored 0%)
adding: NAMESPACE (188 bytes security) (stored 0%)
adding: R/ (256 bytes security) (stored 0%)
adding: R/hapmap100kxba (188 bytes security) (deflated 41%)
adding: R/hapmap100kxba.rdb (188 bytes security) (deflated 15%)
adding: R/hapmap100kxba.rdx (188 bytes security) (stored 0%)