##############################################################################
##############################################################################
###
### Running command:
###
### cd golubEsets.buildbin-libdir/golubEsets && zip -r ../../golubEsets_1.14.0.zip . & cd ../..
###
##############################################################################
##############################################################################
Scanning files
adding: data/ (256 bytes security) (stored 0%)
adding: data/datalist (188 bytes security) (deflated 44%)
adding: data/golubMerge.R (188 bytes security) (deflated 25%)
adding: data/golubMerge.rda (188 bytes security) (deflated 0%)
adding: data/golubTest.R (188 bytes security) (deflated 23%)
adding: data/golubTest.rda (188 bytes security) (deflated 0%)
adding: data/golubTrain.R (188 bytes security) (deflated 25%)
adding: data/golubTrain.rda (188 bytes security) (deflated 0%)
adding: data/Golub_Merge.rda (188 bytes security) (deflated 0%)
adding: data/Golub_Test.rda (188 bytes security) (deflated 0%)
adding: data/Golub_Train.rda (188 bytes security) (deflated 0%)
adding: DESCRIPTION (188 bytes security) (deflated 34%)
adding: help/ (256 bytes security) (stored 0%)
adding: help/aliases.rds (188 bytes security) (stored 0%)
adding: help/AnIndex (188 bytes security) (deflated 63%)
adding: help/golubEsets.rdb (188 bytes security) (deflated 4%)
adding: help/golubEsets.rdx (188 bytes security) (stored 0%)
adding: help/paths.rds (188 bytes security) (stored 0%)
adding: html/ (256 bytes security) (stored 0%)
adding: html/00Index.html (188 bytes security) (deflated 64%)
adding: html/R.css (188 bytes security) (deflated 75%)
adding: INDEX (188 bytes security) (deflated 56%)
adding: MD5 (188 bytes security) (deflated 44%)
adding: Meta/ (256 bytes security) (stored 0%)
adding: Meta/data.rds (188 bytes security) (stored 0%)
adding: Meta/hsearch.rds (188 bytes security) (stored 0%)
adding: Meta/links.rds (188 bytes security) (stored 0%)
adding: Meta/nsInfo.rds (188 bytes security) (stored 0%)
adding: Meta/package.rds (188 bytes security) (stored 0%)
adding: Meta/Rd.rds (188 bytes security) (stored 0%)
adding: NAMESPACE (188 bytes security) (stored 0%)