##############################################################################
##############################################################################
###
### Running command:
###
### /Library/Frameworks/R.framework/Versions/Current/Resources/bin/R CMD build --keep-empty-dirs --no-resave-data geuvStore
###
##############################################################################
##############################################################################
* checking for file ‘geuvStore/DESCRIPTION’ ... OK
* preparing ‘geuvStore’:
* checking DESCRIPTION meta-information ... OK
* installing the package to process help pages
* saving partial Rd database
* creating vignettes ... OK
* checking for LF line-endings in source and make files
* checking for empty or unneeded directories
WARNING: directory ‘geuvStore/inst/geuvStore/exports’ is empty
WARNING: directory ‘geuvStore/inst/geuvStore/pending’ is empty
* looking to see if a ‘data/datalist’ file should be added
* building ‘geuvStore_1.3.0.tar.gz’