##############################################################################
##############################################################################
###
### Running command:
###
### cd estrogen.buildbin-libdir/estrogen && zip -r ../../estrogen_1.17.0.zip . & cd ../..
###
##############################################################################
##############################################################################
adding: DESCRIPTION (188 bytes security) (deflated 32%)
adding: doc/ (256 bytes security) (stored 0%)
adding: doc/estrogen.pdf (188 bytes security) (deflated 10%)
adding: doc/estrogen.R (188 bytes security) (deflated 82%)
adding: doc/estrogen.Rnw (188 bytes security) (deflated 64%)
adding: doc/index.html (188 bytes security) (deflated 59%)
adding: extdata/ (256 bytes security) (stored 0%)
adding: extdata/bad.cel (188 bytes security) (deflated 69%)
adding: extdata/estrogen.txt (188 bytes security) (deflated 60%)
adding: extdata/high10-1.cel (188 bytes security) (deflated 70%)
adding: extdata/high10-2.cel (188 bytes security) (deflated 70%)
adding: extdata/high48-1.cel (188 bytes security) (deflated 68%)
adding: extdata/high48-2.cel (188 bytes security) (deflated 68%)
adding: extdata/low10-1.cel (188 bytes security) (deflated 70%)
adding: extdata/low10-2.cel (188 bytes security) (deflated 70%)
adding: extdata/low48-1.cel (188 bytes security) (deflated 68%)
adding: extdata/low48-2.cel (188 bytes security) (deflated 68%)
adding: extdata/phenoData.txt (188 bytes security) (deflated 60%)
adding: extdata/targLimma.txt (188 bytes security) (deflated 57%)
adding: help/ (256 bytes security) (stored 0%)
adding: help/aliases.rds (188 bytes security) (stored 0%)
adding: help/AnIndex (188 bytes security) (deflated 24%)
adding: help/estrogen.rdb (188 bytes security) (stored 0%)
adding: help/estrogen.rdx (188 bytes security) (stored 0%)
adding: help/paths.rds (188 bytes security) (stored 0%)
adding: html/ (256 bytes security) (stored 0%)
adding: html/00Index.html (188 bytes security) (deflated 50%)
adding: html/R.css (188 bytes security) (deflated 75%)
adding: INDEX (188 bytes security) (deflated 33%)
adding: MD5 (188 bytes security) (deflated 47%)
adding: Meta/ (256 bytes security) (stored 0%)
adding: Meta/hsearch.rds (188 bytes security) (stored 0%)
adding: Meta/links.rds (188 bytes security) (stored 0%)
adding: Meta/nsInfo.rds (188 bytes security) (stored 0%)
adding: Meta/package.rds (188 bytes security) (stored 0%)
adding: Meta/Rd.rds (188 bytes security) (stored 0%)
adding: Meta/vignette.rds (188 bytes security) (stored 0%)
adding: NAMESPACE (188 bytes security) (stored 0%)
adding: R/ (256 bytes security) (stored 0%)
adding: R/estrogen (188 bytes security) (deflated 41%)
adding: R/estrogen.rdb (188 bytes security) (deflated 11%)
adding: R/estrogen.rdx (188 bytes security) (stored 0%)