##############################################################################
##############################################################################
###
### Running command:
###
### cd cMap2data.buildbin-libdir/cMap2data && zip -r ../../cMap2data_1.8.0.zip . & cd ../..
###
##############################################################################
##############################################################################
adding: data/ (256 bytes security) (stored 0%)
adding: data/datalist (188 bytes security) (deflated 14%)
adding: data/Rdata.rdb (188 bytes security) (deflated 2%)
adding: data/Rdata.rds (188 bytes security) (stored 0%)
adding: data/Rdata.rdx (188 bytes security) (stored 0%)
adding: DESCRIPTION (188 bytes security) (deflated 35%)
adding: doc/ (256 bytes security) (stored 0%)
adding: doc/cMap2data.pdf (188 bytes security) (deflated 7%)
adding: doc/cMap2data.R (188 bytes security) (deflated 62%)
adding: doc/cMap2data.Rnw (188 bytes security) (deflated 55%)
adding: doc/index.html (188 bytes security) (deflated 59%)
adding: help/ (256 bytes security) (stored 0%)
adding: help/aliases.rds (188 bytes security) (stored 0%)
adding: help/AnIndex (188 bytes security) (deflated 50%)
adding: help/cMap2data.rdb (188 bytes security) (deflated 1%)
adding: help/cMap2data.rdx (188 bytes security) (stored 0%)
adding: help/paths.rds (188 bytes security) (stored 0%)
adding: html/ (256 bytes security) (stored 0%)
adding: html/00Index.html (188 bytes security) (deflated 62%)
adding: html/R.css (188 bytes security) (deflated 75%)
adding: INDEX (188 bytes security) (deflated 49%)
adding: MD5 (188 bytes security) (deflated 43%)
adding: Meta/ (256 bytes security) (stored 0%)
adding: Meta/data.rds (188 bytes security) (stored 0%)
adding: Meta/hsearch.rds (188 bytes security) (stored 0%)
adding: Meta/links.rds (188 bytes security) (stored 0%)
adding: Meta/nsInfo.rds (188 bytes security) (stored 0%)
adding: Meta/package.rds (188 bytes security) (stored 0%)
adding: Meta/Rd.rds (188 bytes security) (stored 0%)
adding: Meta/vignette.rds (188 bytes security) (stored 0%)
adding: NAMESPACE (188 bytes security) (stored 0%)