##############################################################################
##############################################################################
###
### Running command:
###
### rm -rf bcellViper.buildbin-libdir && mkdir bcellViper.buildbin-libdir && /Users/biocbuild/BBS/utils/build-universal.sh bcellViper_1.7.0.tar.gz /Library/Frameworks/R.framework/Versions/Current/Resources/bin/R bcellViper.buildbin-libdir
###
##############################################################################
##############################################################################
>>>>>>>
>>>>>>> INSTALLATION WITH 'R CMD INSTALL --preclean --no-multiarch --library=bcellViper.buildbin-libdir bcellViper_1.7.0.tar.gz'
>>>>>>>
* installing *source* package ‘bcellViper’ ...
** data
** inst
** help
*** installing help indices
** building package indices
** installing vignettes
** testing if installed package can be loaded
* DONE (bcellViper)