##############################################################################
##############################################################################
###
### Running command:
###
### cd TimerQuant.buildbin-libdir/TimerQuant && zip -r ../../TimerQuant_1.1.0.zip . & cd ../..
###
##############################################################################
##############################################################################
adding: data/ (256 bytes security) (stored 0%)
adding: data/FRETdata.rda (188 bytes security) (stored 0%)
adding: data/maturationData.rda (188 bytes security) (deflated 0%)
adding: data/profileGradients.rda (188 bytes security) (deflated 0%)
adding: DESCRIPTION (188 bytes security) (deflated 36%)
adding: doc/ (256 bytes security) (stored 0%)
adding: doc/genPaperFigures.pdf (188 bytes security) (deflated 26%)
adding: doc/genPaperFigures.Rnw (188 bytes security) (deflated 74%)
adding: doc/index.html (188 bytes security) (deflated 66%)
adding: doc/mathematicalDerivations.pdf (188 bytes security) (deflated 9%)
adding: doc/mathematicalDerivations.Rnw (188 bytes security) (deflated 62%)
adding: extdata/ (256 bytes security) (stored 0%)
adding: extdata/chooseFP2App/ (256 bytes security) (stored 0%)
adding: extdata/chooseFP2App/server.R (188 bytes security) (deflated 59%)
adding: extdata/chooseFP2App/ui.R (188 bytes security) (deflated 60%)
adding: extdata/modelDerivations.nb (188 bytes security) (deflated 81%)
adding: extdata/timerModellingApp/ (256 bytes security) (stored 0%)
adding: extdata/timerModellingApp/server.R (188 bytes security) (deflated 68%)
adding: extdata/timerModellingApp/ui.R (188 bytes security) (deflated 67%)
adding: help/ (256 bytes security) (stored 0%)
adding: help/aliases.rds (188 bytes security) (stored 0%)
adding: help/AnIndex (188 bytes security) (deflated 60%)
adding: help/paths.rds (188 bytes security) (stored 0%)
adding: help/TimerQuant.rdb (188 bytes security) (deflated 2%)
adding: help/TimerQuant.rdx (188 bytes security) (stored 0%)
adding: html/ (256 bytes security) (stored 0%)
adding: html/00Index.html (188 bytes security) (deflated 75%)
adding: html/R.css (188 bytes security) (deflated 75%)
adding: INDEX (188 bytes security) (deflated 58%)
adding: MD5 (188 bytes security) (deflated 44%)
adding: Meta/ (256 bytes security) (stored 0%)
adding: Meta/data.rds (188 bytes security) (stored 0%)
adding: Meta/hsearch.rds (188 bytes security) (stored 0%)
adding: Meta/links.rds (188 bytes security) (stored 0%)
adding: Meta/nsInfo.rds (188 bytes security) (stored 0%)
adding: Meta/package.rds (188 bytes security) (stored 0%)
adding: Meta/Rd.rds (188 bytes security) (stored 0%)
adding: Meta/vignette.rds (188 bytes security) (stored 0%)
adding: NAMESPACE (188 bytes security) (deflated 53%)
adding: R/ (256 bytes security) (stored 0%)
adding: R/TimerQuant (188 bytes security) (deflated 41%)
adding: R/TimerQuant.rdb (188 bytes security) (deflated 11%)
adding: R/TimerQuant.rdx (188 bytes security) (stored 0%)