##############################################################################
##############################################################################
###
### Running command:
###
### cd RIPSeekerData.buildbin-libdir/RIPSeekerData && zip -r ../../RIPSeekerData_1.7.0.zip . & cd ../..
###
##############################################################################
##############################################################################
adding: DESCRIPTION (188 bytes security) (deflated 37%)
adding: doc/ (256 bytes security) (stored 0%)
adding: doc/index.html (188 bytes security) (deflated 60%)
adding: doc/RIPSeekerData.pdf (188 bytes security) (deflated 9%)
adding: doc/RIPSeekerData.R (188 bytes security) (deflated 76%)
adding: doc/RIPSeekerData.Rnw (188 bytes security) (deflated 63%)
adding: extdata/ (256 bytes security) (stored 0%)
adding: extdata/CCNT1/ (256 bytes security) (stored 0%)
adding: extdata/CCNT1/firstscreen/ (256 bytes security) (stored 0%)
adding: extdata/CCNT1/firstscreen/humanCCNT_processed_tophat/ (256 bytes security) (stored 0%)
adding: extdata/CCNT1/firstscreen/humanCCNT_processed_tophat/accepted_hits_noDup.bam (188 bytes security) (deflated 0%)
adding: extdata/CCNT1/firstscreen/humanGFP_processed_tophat/ (256 bytes security) (stored 0%)
adding: extdata/CCNT1/firstscreen/humanGFP_processed_tophat/accepted_hits_noDup.bam (188 bytes security) (deflated 0%)
adding: extdata/PRC2/ (256 bytes security) (stored 0%)
adding: extdata/PRC2/SRR039210_processed_tophat/ (256 bytes security) (stored 0%)
adding: extdata/PRC2/SRR039210_processed_tophat/accepted_hits_noDup.bam (188 bytes security) (deflated 0%)
adding: extdata/PRC2/SRR039211_processed_tophat/ (256 bytes security) (stored 0%)
adding: extdata/PRC2/SRR039211_processed_tophat/accepted_hits_noDup.bam (188 bytes security) (deflated 0%)
adding: extdata/PRC2/SRR039212_processed_tophat/ (256 bytes security) (stored 0%)
adding: extdata/PRC2/SRR039212_processed_tophat/accepted_hits_noDup.bam (188 bytes security) (deflated 0%)
adding: extdata/PRC2/SRR039213_processed_tophat/ (256 bytes security) (stored 0%)
adding: extdata/PRC2/SRR039213_processed_tophat/accepted_hits_noDup.bam (188 bytes security) (deflated 0%)
adding: extdata/PRC2/SRR039214_processed_tophat/ (256 bytes security) (stored 0%)
adding: extdata/PRC2/SRR039214_processed_tophat/accepted_hits_noDup.bam (188 bytes security) (deflated 0%)
adding: help/ (256 bytes security) (stored 0%)
adding: help/aliases.rds (188 bytes security) (stored 0%)
adding: help/AnIndex (188 bytes security) (deflated 28%)
adding: help/paths.rds (188 bytes security) (stored 0%)
adding: help/RIPSeekerData.rdb (188 bytes security) (stored 0%)
adding: help/RIPSeekerData.rdx (188 bytes security) (stored 0%)
adding: html/ (256 bytes security) (stored 0%)
adding: html/00Index.html (188 bytes security) (deflated 50%)
adding: html/R.css (188 bytes security) (deflated 75%)
adding: INDEX (188 bytes security) (deflated 31%)
adding: MD5 (188 bytes security) (deflated 51%)
adding: Meta/ (256 bytes security) (stored 0%)
adding: Meta/hsearch.rds (188 bytes security) (stored 0%)
adding: Meta/links.rds (188 bytes security) (stored 0%)
adding: Meta/nsInfo.rds (188 bytes security) (stored 0%)
adding: Meta/package.rds (188 bytes security) (stored 0%)
adding: Meta/Rd.rds (188 bytes security) (stored 0%)
adding: Meta/vignette.rds (188 bytes security) (stored 0%)
adding: NAMESPACE (188 bytes security) (stored 0%)