##############################################################################
##############################################################################
###
### Running command:
###
### cd ABAData.buildbin-libdir/ABAData && zip -r ../../ABAData_1.2.2.zip . & cd ../..
###
##############################################################################
##############################################################################
adding: data/ (256 bytes security) (stored 0%)
adding: data/datalist (188 bytes security) (deflated 22%)
adding: data/dataset_5_stages.rda (188 bytes security) (deflated 0%)
adding: data/dataset_adult.rda (188 bytes security) (deflated 0%)
adding: data/dataset_dev_effect.rda (188 bytes security) (deflated 0%)
adding: DESCRIPTION (188 bytes security) (deflated 48%)
adding: doc/ (256 bytes security) (stored 0%)
adding: doc/ABAData.html (188 bytes security) (deflated 65%)
adding: doc/ABAData.R (188 bytes security) (deflated 68%)
adding: doc/ABAData.Rmd (188 bytes security) (deflated 62%)
adding: doc/index.html (188 bytes security) (deflated 58%)
adding: help/ (256 bytes security) (stored 0%)
adding: help/ABAData.rdb (188 bytes security) (stored 0%)
adding: help/ABAData.rdx (188 bytes security) (stored 0%)
adding: help/aliases.rds (188 bytes security) (stored 0%)
adding: help/AnIndex (188 bytes security) (deflated 65%)
adding: help/paths.rds (188 bytes security) (stored 0%)
adding: html/ (256 bytes security) (stored 0%)
adding: html/00Index.html (188 bytes security) (deflated 70%)
adding: html/R.css (188 bytes security) (deflated 75%)
adding: INDEX (188 bytes security) (deflated 67%)
adding: MD5 (188 bytes security) (deflated 43%)
adding: Meta/ (256 bytes security) (stored 0%)
adding: Meta/data.rds (188 bytes security) (stored 0%)
adding: Meta/hsearch.rds (188 bytes security) (stored 0%)
adding: Meta/links.rds (188 bytes security) (stored 0%)
adding: Meta/nsInfo.rds (188 bytes security) (stored 0%)
adding: Meta/package.rds (188 bytes security) (stored 0%)
adding: Meta/Rd.rds (188 bytes security) (stored 0%)
adding: Meta/vignette.rds (188 bytes security) (stored 0%)
adding: NAMESPACE (188 bytes security) (stored 0%)