Back to the "Multiple platform build/check report" A  B  C  D  E  F  G  H  I  J  K  L  M  N  O  P  Q  R [S] T  U  V  W  X  Y  Z 

BioC 3.2: CHECK report for systemPipeR on perceval

This page was generated on 2015-11-10 14:49:09 -0800 (Tue, 10 Nov 2015).

Package 1041/1104HostnameOS / ArchINSTALLBUILDCHECKBUILD BIN
systemPipeR 1.4.4
Thomas Girke
Snapshot Date: 2015-11-09 16:24:09 -0800 (Mon, 09 Nov 2015)
URL: https://hedgehog.fhcrc.org/bioconductor/branches/RELEASE_3_2/madman/Rpacks/systemPipeR
Last Changed Rev: 110016 / Revision: 110496
Last Changed Date: 2015-10-27 17:48:57 -0700 (Tue, 27 Oct 2015)
zin1 Linux (Ubuntu 14.04.2 LTS) / x86_64  OK  OK  OK UNNEEDED, same version exists in internal repository
perceval Mac OS X Snow Leopard (10.6.8) / x86_64  OK  OK [ OK ] OK UNNEEDED, same version exists in internal repository
oaxaca Mac OS X Mavericks (10.9.5) / x86_64  OK  OK  OK  OK UNNEEDED, same version exists in internal repository

Summary

Package: systemPipeR
Version: 1.4.4
Command: /Library/Frameworks/R.framework/Versions/Current/Resources/bin/R CMD check --no-vignettes --timings systemPipeR_1.4.4.tar.gz
StartedAt: 2015-11-10 10:02:50 -0800 (Tue, 10 Nov 2015)
EndedAt: 2015-11-10 10:10:17 -0800 (Tue, 10 Nov 2015)
EllapsedTime: 447.7 seconds
RetCode: 0
Status:  OK 
CheckDir: systemPipeR.Rcheck
Warnings: 0

Command output

##############################################################################
##############################################################################
###
### Running command:
###
###   /Library/Frameworks/R.framework/Versions/Current/Resources/bin/R CMD check --no-vignettes --timings systemPipeR_1.4.4.tar.gz
###
##############################################################################
##############################################################################


* using log directory ‘/Users/biocbuild/bbs-3.2-bioc/meat/systemPipeR.Rcheck’
* using R version 3.2.2 Patched (2015-10-08 r69496)
* using platform: x86_64-apple-darwin10.8.0 (64-bit)
* using session charset: UTF-8
* using option ‘--no-vignettes’
* checking for file ‘systemPipeR/DESCRIPTION’ ... OK
* checking extension type ... Package
* this is package ‘systemPipeR’ version ‘1.4.4’
* checking package namespace information ... OK
* checking package dependencies ... OK
* checking if this is a source package ... OK
* checking if there is a namespace ... OK
* checking for hidden files and directories ... NOTE
Found the following hidden files and directories:
  inst/extdata/.BatchJobs.R
These were most likely included in error. See section ‘Package
structure’ in the ‘Writing R Extensions’ manual.
* checking for portable file names ... NOTE
Found the following non-portable file paths:
  systemPipeR/vignettes/systemPipeR_cache/html/align_stats_parallel_cluster_0f051c2b1f70364c102c25e53a23f12e.RData
  systemPipeR/vignettes/systemPipeR_cache/html/align_stats_parallel_cluster_0f051c2b1f70364c102c25e53a23f12e.rdb
  systemPipeR/vignettes/systemPipeR_cache/html/align_stats_parallel_cluster_0f051c2b1f70364c102c25e53a23f12e.rdx
  systemPipeR/vignettes/systemPipeR_cache/html/align_stats_parallel_e41a74f26d017f5fc177af2655e45d55.RData
  systemPipeR/vignettes/systemPipeR_cache/html/align_stats_parallel_e41a74f26d017f5fc177af2655e45d55.rdb
  systemPipeR/vignettes/systemPipeR_cache/html/align_stats_parallel_e41a74f26d017f5fc177af2655e45d55.rdx
  systemPipeR/vignettes/systemPipeR_cache/html/construct_sysargs_a8854172136869af90c5343d9951536e.RData
  systemPipeR/vignettes/systemPipeR_cache/html/custom_preprocessing_e41edaa3ba2719fdfc02ff89b468a9e1.RData
  systemPipeR/vignettes/systemPipeR_cache/html/custom_preprocessing_e41edaa3ba2719fdfc02ff89b468a9e1.rdb
  systemPipeR/vignettes/systemPipeR_cache/html/custom_preprocessing_e41edaa3ba2719fdfc02ff89b468a9e1.rdx
  systemPipeR/vignettes/systemPipeR_cache/html/deseq2_deg_counts_89654aad3b028aaa60cf3b27b7166c34.RData
  systemPipeR/vignettes/systemPipeR_cache/html/fastq_quality_parallel_cluster_981fb1c217635fd948ed528cf5d9f37c.RData
  systemPipeR/vignettes/systemPipeR_cache/html/fastq_quality_parallel_cluster_981fb1c217635fd948ed528cf5d9f37c.rdb
  systemPipeR/vignettes/systemPipeR_cache/html/fastq_quality_parallel_cluster_981fb1c217635fd948ed528cf5d9f37c.rdx
  systemPipeR/vignettes/systemPipeR_cache/html/fastq_quality_parallel_single_87e6e7dcfdfbf7bc314100638c26c52d.RData
  systemPipeR/vignettes/systemPipeR_cache/html/fastq_quality_parallel_single_87e6e7dcfdfbf7bc314100638c26c52d.rdb
  systemPipeR/vignettes/systemPipeR_cache/html/fastq_quality_parallel_single_87e6e7dcfdfbf7bc314100638c26c52d.rdx
  systemPipeR/vignettes/systemPipeR_cache/html/genChip_workflow_single_6eee2576b65a48f51e1dd54432ac8ea0.RData
  systemPipeR/vignettes/systemPipeR_cache/html/genChip_workflow_single_6eee2576b65a48f51e1dd54432ac8ea0.rdb
  systemPipeR/vignettes/systemPipeR_cache/html/genChip_workflow_single_6eee2576b65a48f51e1dd54432ac8ea0.rdx
  systemPipeR/vignettes/systemPipeR_cache/html/genRibo_workflow_single_a7ee40491d0f82a7209ce7f20aa1bce9.RData
  systemPipeR/vignettes/systemPipeR_cache/html/genRibo_workflow_single_a7ee40491d0f82a7209ce7f20aa1bce9.rdb
  systemPipeR/vignettes/systemPipeR_cache/html/genRibo_workflow_single_a7ee40491d0f82a7209ce7f20aa1bce9.rdx
  systemPipeR/vignettes/systemPipeR_cache/html/genRna_workflow_single_865fbdca4c56e8ae4f6295e250ab220b.RData
  systemPipeR/vignettes/systemPipeR_cache/html/genRna_workflow_single_865fbdca4c56e8ae4f6295e250ab220b.rdb
  systemPipeR/vignettes/systemPipeR_cache/html/genRna_workflow_single_865fbdca4c56e8ae4f6295e250ab220b.rdx
  systemPipeR/vignettes/systemPipeR_cache/html/genVar_workflow_single_85369033487573758c368e1b18c2e939.RData
  systemPipeR/vignettes/systemPipeR_cache/html/genVar_workflow_single_85369033487573758c368e1b18c2e939.rdb
  systemPipeR/vignettes/systemPipeR_cache/html/genVar_workflow_single_85369033487573758c368e1b18c2e939.rdx
  systemPipeR/vignettes/systemPipeR_cache/html/hierarchical_clustering_26f264bb871fd0c2f342b0c079aee49e.RData
  systemPipeR/vignettes/systemPipeR_cache/html/hierarchical_clustering_26f264bb871fd0c2f342b0c079aee49e.rdb
  systemPipeR/vignettes/systemPipeR_cache/html/hierarchical_clustering_26f264bb871fd0c2f342b0c079aee49e.rdx
  systemPipeR/vignettes/systemPipeR_cache/html/plot_go_enrichment_a4a220bf9eb7f1125e3a802cedd67c24.RData
  systemPipeR/vignettes/systemPipeR_cache/html/process_monitoring_0e49b11e73810c66c83bdcd6bcd3e394.RData
  systemPipeR/vignettes/systemPipeR_cache/html/read_counting_mirna_4195067fd0942be85d1decde3da75c3e.RData
  systemPipeR/vignettes/systemPipeR_cache/html/read_counting_mirna_4195067fd0942be85d1decde3da75c3e.rdb
  systemPipeR/vignettes/systemPipeR_cache/html/read_counting_mirna_4195067fd0942be85d1decde3da75c3e.rdx
  systemPipeR/vignettes/systemPipeR_cache/html/read_counting_multicore_8f4bae011588aec1419eb6f86f683f9b.RData
  systemPipeR/vignettes/systemPipeR_cache/html/read_counting_multicore_8f4bae011588aec1419eb6f86f683f9b.rdb
  systemPipeR/vignettes/systemPipeR_cache/html/read_counting_multicore_8f4bae011588aec1419eb6f86f683f9b.rdx
  systemPipeR/vignettes/systemPipeR_cache/html/read_counting_multinode_83ec3b9d8967b28eed8957801d322dda.RData
  systemPipeR/vignettes/systemPipeR_cache/html/read_counting_multinode_83ec3b9d8967b28eed8957801d322dda.rdb
  systemPipeR/vignettes/systemPipeR_cache/html/read_counting_multinode_83ec3b9d8967b28eed8957801d322dda.rdx
  systemPipeR/vignettes/systemPipeR_cache/html/run_bowtie_parallel_5bfc0855d4e02f149c5d7aedcfa6ac7b.RData
  systemPipeR/vignettes/systemPipeR_cache/html/run_bowtie_parallel_5bfc0855d4e02f149c5d7aedcfa6ac7b.rdb
  systemPipeR/vignettes/systemPipeR_cache/html/run_bowtie_parallel_5bfc0855d4e02f149c5d7aedcfa6ac7b.rdx
  systemPipeR/vignettes/systemPipeR_cache/html/run_bowtie_single_c498a76143c61cef609d9c01a7de3243.RData

Tarballs are only required to store paths of up to 100 bytes and cannot
store those of more than 256 bytes, with restrictions including to 100
bytes for the final component.
See section ‘Package structure’ in the ‘Writing R Extensions’ manual.
* checking for sufficient/correct file permissions ... OK
* checking whether package ‘systemPipeR’ can be installed ... [35s/36s] OK
* checking installed package size ... NOTE
  installed size is  5.4Mb
  sub-directories of 1Mb or more:
    doc       2.9Mb
    extdata   1.7Mb
* checking package directory ... OK
* checking ‘build’ directory ... OK
* checking DESCRIPTION meta-information ... OK
* checking top-level files ... OK
* checking for left-over files ... OK
* checking index information ... OK
* checking package subdirectories ... OK
* checking R files for non-ASCII characters ... OK
* checking R files for syntax errors ... OK
* checking whether the package can be loaded ... OK
* checking whether the package can be loaded with stated dependencies ... OK
* checking whether the package can be unloaded cleanly ... OK
* checking whether the namespace can be loaded with stated dependencies ... OK
* checking whether the namespace can be unloaded cleanly ... OK
* checking dependencies in R code ... NOTE
Namespaces in Imports field not imported from:
  ‘BiocGenerics’ ‘VariantAnnotation’
  All declared Imports should be used.
* checking S3 generic/method consistency ... OK
* checking replacement functions ... OK
* checking foreign function calls ... OK
* checking R code for possible problems ... NOTE
countRangeset: warning in read.delim(infile1(args)[i], comment = "#"):
  partial argument match of 'comment' to 'comment.char'
vennPlot : ellipseVenn: warning in close.screen(all = TRUE): partial
  argument match of 'all' to 'all.screens'
writeTargetsRef: warning in read.delim(infile, comment = "#"): partial
  argument match of 'comment' to 'comment.char'
.resizeFeature: no visible global function definition for ‘DataFrame’
.subsetReadsByMappingRegion: no visible global function definition for
  ‘IRanges’
.subsetReadsByMappingRegion: no visible global function definition for
  ‘seqlengths’
.subsetReadsByMappingRegion: no visible global function definition for
  ‘readGAlignments’
clusterRun: no visible global function definition for ‘chunk’
countRangeset: no visible global function definition for ‘import.bed’
countRangeset: no visible global function definition for
  ‘summarizeOverlaps’
featureCoverage: no visible global function definition for
  ‘readGAlignments’
featureCoverage: no visible global function definition for ‘qwidth’
featureCoverage: no visible global function definition for ‘Rle’
featuretypeCounts: no visible global function definition for
  ‘readGAlignments’
featuretypeCounts: no visible global function definition for
  ‘readGAlignmentPairs’
featuretypeCounts: no visible global function definition for ‘qwidth’
featuretypeCounts: no visible global function definition for ‘last’
featuretypeCounts: no visible global function definition for ‘first’
filterDEGs: no visible binding for global variable ‘Comparisons’
filterDEGs: no visible binding for global variable ‘Counts’
filterDEGs: no visible binding for global variable ‘Type’
filterVars: no visible global function definition for ‘readVcf’
filterVars: no visible global function definition for ‘totalDepth<-’
filterVars: no visible global function definition for ‘refDepth<-’
filterVars: no visible global function definition for ‘altDepth<-’
filterVars: no visible global function definition for ‘asVCF’
filterVars: no visible global function definition for ‘writeVcf’
genFeatures: no visible global function definition for ‘DataFrame’
genFeatures: no visible global function definition for ‘seqlengths<-’
getQsubargs: no visible binding for global variable ‘tophatargs’
goBarplot: no visible binding for global variable ‘SampleMatch’
goBarplot: no visible binding for global variable ‘Sample’
GOHyperGAll_Subset: no visible binding for global variable
  ‘test_sample’
olBarplot: no visible binding for global variable ‘Intersect_Sets’
olBarplot: no visible binding for global variable ‘Counts’
olBarplot: no visible binding for global variable ‘Level’
plotfeatureCoverage: no visible binding for global variable ‘extendmax’
plotfeatureCoverage: no visible binding for global variable ‘Coverage’
plotfeatureCoverage: no visible binding for global variable ‘Strand’
plotfeaturetypeCounts: no visible binding for global variable ‘Feature’
plotfeaturetypeCounts: no visible binding for global variable ‘Counts’
plotfeaturetypeCounts: no visible binding for global variable ‘Strand’
plotfeaturetypeCounts: no visible binding for global variable ‘Length’
predORF : .predORF: no visible global function definition for ‘IRanges’
scaleRanges : .scaleRanges: no visible global function definition for
  ‘IRanges’
scaleRanges: no visible global function definition for ‘DataFrame’
seeFastqPlot : fastqPlot: no visible binding for global variable
  ‘Cycle’
seeFastqPlot : fastqPlot: no visible binding for global variable ‘low’
seeFastqPlot : fastqPlot: no visible binding for global variable ‘mid’
seeFastqPlot : fastqPlot: no visible binding for global variable ‘top’
seeFastqPlot : fastqPlot: no visible binding for global variable
  ‘Frequency’
seeFastqPlot : fastqPlot: no visible binding for global variable ‘Base’
seeFastqPlot : fastqPlot: no visible binding for global variable
  ‘Quality’
seeFastqPlot : fastqPlot: no visible binding for global variable
  ‘RelDiv’
seeFastqPlot : fastqPlot: no visible binding for global variable
  ‘Method’
seeFastqPlot : fastqPlot: no visible binding for global variable
  ‘minQuality’
seeFastqPlot : fastqPlot: no visible binding for global variable
  ‘Percent’
seeFastqPlot : fastqPlot: no visible binding for global variable
  ‘Outliers’
variantReport: no visible global function definition for ‘readVcf’
variantReport: no visible global function definition for
  ‘locateVariants’
variantReport: no visible global function definition for ‘AllVariants’
variantReport: no visible global function definition for
  ‘predictCoding’
variantReport: no visible global function definition for ‘ref’
variantReport: no visible global function definition for ‘alt’
show,INTERSECTset: no visible binding for global variable ‘vennset’
* checking Rd files ... OK
* checking Rd metadata ... OK
* checking Rd cross-references ... OK
* checking for missing documentation entries ... OK
* checking for code/documentation mismatches ... OK
* checking Rd \usage sections ... OK
* checking Rd contents ... OK
* checking for unstated dependencies in examples ... OK
* checking line endings in Makefiles ... OK
* checking for GNU extensions in Makefiles ... OK
* checking sizes of PDF files under ‘inst/doc’ ... OK
* checking installed files from ‘inst/doc’ ... OK
* checking files in ‘vignettes’ ... OK
* checking examples ... [49s/61s] OK
Examples with CPU or elapsed time > 5s
              user system elapsed
genFeatures 15.013  0.806  28.154
* checking for unstated dependencies in ‘tests’ ... OK
* checking tests ...
  Running ‘runTests.R’ [18s/18s]
 [18s/18s] OK
* checking for unstated dependencies in vignettes ... OK
* checking package vignettes in ‘inst/doc’ ... OK
* checking running R code from vignettes ... SKIPPED
* checking re-building of vignette outputs ... SKIPPED
* checking PDF version of manual ... OK
* DONE

Status: 5 NOTEs
See
  ‘/Users/biocbuild/bbs-3.2-bioc/meat/systemPipeR.Rcheck/00check.log’
for details.


systemPipeR.Rcheck/00install.out:

* installing *source* package ‘systemPipeR’ ...
** R
** inst
** preparing package for lazy loading
** help
*** installing help indices
** building package indices
** installing vignettes
** testing if installed package can be loaded
* DONE (systemPipeR)

systemPipeR.Rcheck/systemPipeR-Ex.timings:

nameusersystemelapsed
GOHyperGAll0.0020.0010.003
INTERSECTset-class0.0140.0050.020
SYSargs-class0.0560.0090.080
VENNset-class0.0110.0040.026
alignStats0.0230.0030.026
catDB-class0.0020.0000.002
catmap0.0010.0000.002
clusterRun0.0230.0040.029
countRangeset0.0950.0040.099
featureCoverage0.0160.0020.016
featuretypeCounts0.0150.0010.016
filterDEGs3.5680.0233.601
filterVars0.0170.0010.019
genFeatures15.013 0.80628.154
getQsubargs0.0220.0020.023
mergeBamByFactor0.0150.0020.016
moduleload0.0010.0000.001
olBarplot0.4550.0180.476
overLapper0.4480.0180.475
plotfeatureCoverage0.0160.0010.017
plotfeaturetypeCounts0.0150.0020.017
predORF0.4990.0100.541
preprocessReads0.0350.0030.038
qsubRun0.0250.0020.028
readComp0.0270.0020.030
returnRPKM0.0010.0000.001
runCommandline0.0240.0020.025
runDiff0.0680.0020.069
run_DESeq24.4000.0314.431
run_edgeR4.6600.0434.703
scaleRanges0.2460.0010.247
seeFastq0.0010.0000.000
symLink2bam0.0150.0010.017
sysargs0.0220.0020.024
systemArgs0.0230.0030.027
variantReport0.0190.0030.022
vennPlot0.4680.0780.554
writeTargetsRef0.0010.0010.002
writeTargetsout0.0150.0030.018