openCyto 1.8.4 Mike Jiang
Snapshot Date: 2016-04-22 16:20:12 -0700 (Fri, 22 Apr 2016) | URL: https://hedgehog.fhcrc.org/bioconductor/branches/RELEASE_3_2/madman/Rpacks/openCyto | Last Changed Rev: 111335 / Revision: 116712 | Last Changed Date: 2015-12-08 12:10:25 -0800 (Tue, 08 Dec 2015) |
| zin1 | Linux (Ubuntu 14.04.2 LTS) / x86_64 | OK | OK | OK | | ![UNNEEDED, same version exists in internal repository UNNEEDED, same version exists in internal repository](../120px-Blue_Light_Icon.svg.png) |
moscato1 | Windows Server 2008 R2 Standard (64-bit) / x64 | [ OK ] | OK | OK | OK | ![UNNEEDED, same version exists in internal repository UNNEEDED, same version exists in internal repository](../120px-Blue_Light_Icon.svg.png) |
oaxaca | Mac OS X Mavericks (10.9.5) / x86_64 | OK | OK | WARNINGS | OK | ![UNNEEDED, same version exists in internal repository UNNEEDED, same version exists in internal repository](../120px-Blue_Light_Icon.svg.png) |
##############################################################################
##############################################################################
###
### Running command:
###
### rm -rf openCyto.buildbin-libdir && mkdir openCyto.buildbin-libdir && C:\cygwin\bin\curl.exe -O http://zin1/BBS/3.2/bioc/src/contrib/openCyto_1.8.4.tar.gz && D:\biocbld\bbs-3.2-bioc\R\bin\R.exe CMD INSTALL --build --library=openCyto.buildbin-libdir --merge-multiarch openCyto_1.8.4.tar.gz && D:\biocbld\bbs-3.2-bioc\R\bin\R.exe CMD INSTALL openCyto_1.8.4.zip && rm openCyto_1.8.4.tar.gz openCyto_1.8.4.zip
###
##############################################################################
##############################################################################
% Total % Received % Xferd Average Speed Time Time Time Current
Dload Upload Total Spent Left Speed
0 0 0 0 0 0 0 0 --:--:-- --:--:-- --:--:-- 0
100 109k 100 109k 0 0 7012k 0 --:--:-- --:--:-- --:--:-- 10.6M
install for i386
* installing *source* package 'openCyto' ...
** libs
g++ -m32 -I"D:/biocbld/BBS-3˜1.2-B/R/include" -DNDEBUG -I"D:/biocbld/bbs-3.2-bioc/R/library/Rcpp/include" -I"d:/RCompile/r-compiling/local/local323/include" -O2 -Wall -mtune=core2 -c RcppExports.cpp -o RcppExports.o
g++ -m32 -I"D:/biocbld/BBS-3˜1.2-B/R/include" -DNDEBUG -I"D:/biocbld/bbs-3.2-bioc/R/library/Rcpp/include" -I"d:/RCompile/r-compiling/local/local323/include" -O2 -Wall -mtune=core2 -c misc.cpp -o misc.o
misc.cpp: In function 'Rcpp::NumericMatrix collapseData(Rcpp::List, Rcpp::StringVector)':
misc.cpp:10:40: warning: comparison between signed and unsigned integer expressions [-Wsign-compare]
misc.cpp:21:47: warning: comparison between signed and unsigned integer expressions [-Wsign-compare]
gcc -m32 -I"D:/biocbld/BBS-3˜1.2-B/R/include" -DNDEBUG -I"D:/biocbld/bbs-3.2-bioc/R/library/Rcpp/include" -I"d:/RCompile/r-compiling/local/local323/include" -O3 -Wall -std=gnu99 -mtune=core2 -c unlockNamespace.c -o unlockNamespace.o
g++ -m32 -shared -s -static-libgcc -o openCyto.dll tmp.def RcppExports.o misc.o unlockNamespace.o -Ld:/RCompile/r-compiling/local/local323/lib/i386 -Ld:/RCompile/r-compiling/local/local323/lib -LD:/biocbld/BBS-3˜1.2-B/R/bin/i386 -lR
installing to D:/biocbld/bbs-3.2-bioc/meat/openCyto.buildbin-libdir/openCyto/libs/i386
** R
** inst
** preparing package for lazy loading
** help
*** installing help indices
** building package indices
** installing vignettes
'HowToWriteCSVTemplate.Rmd'
'openCytoVignette.Rmd'
** testing if installed package can be loaded
install for x64
* installing *source* package 'openCyto' ...
** libs
g++ -m64 -I"D:/biocbld/BBS-3˜1.2-B/R/include" -DNDEBUG -I"D:/biocbld/bbs-3.2-bioc/R/library/Rcpp/include" -I"d:/RCompile/r-compiling/local/local323/include" -O2 -Wall -mtune=core2 -c RcppExports.cpp -o RcppExports.o
g++ -m64 -I"D:/biocbld/BBS-3˜1.2-B/R/include" -DNDEBUG -I"D:/biocbld/bbs-3.2-bioc/R/library/Rcpp/include" -I"d:/RCompile/r-compiling/local/local323/include" -O2 -Wall -mtune=core2 -c misc.cpp -o misc.o
gcc -m64 -I"D:/biocbld/BBS-3˜1.2-B/R/include" -DNDEBUG -I"D:/biocbld/bbs-3.2-bioc/R/library/Rcpp/include" -I"d:/RCompile/r-compiling/local/local323/include" -O2 -Wall -std=gnu99 -mtune=core2 -c unlockNamespace.c -o unlockNamespace.o
g++ -m64 -shared -s -static-libgcc -o openCyto.dll tmp.def RcppExports.o misc.o unlockNamespace.o -Ld:/RCompile/r-compiling/local/local323/lib/x64 -Ld:/RCompile/r-compiling/local/local323/lib -LD:/biocbld/BBS-3˜1.2-B/R/bin/x64 -lR
installing to D:/biocbld/bbs-3.2-bioc/meat/openCyto.buildbin-libdir/openCyto/libs/x64
** testing if installed package can be loaded
* MD5 sums
packaged installation of 'openCyto' as openCyto_1.8.4.zip
* DONE (openCyto)
* installing to library 'D:/biocbld/bbs-3.2-bioc/R/library'
package 'openCyto' successfully unpacked and MD5 sums checked