mzR 2.4.1 Bernd Fischer , Steffen Neumann , Laurent Gatto , Qiang Kou
Snapshot Date: 2016-04-22 16:20:12 -0700 (Fri, 22 Apr 2016) | URL: https://hedgehog.fhcrc.org/bioconductor/branches/RELEASE_3_2/madman/Rpacks/mzR | Last Changed Rev: 114283 / Revision: 116712 | Last Changed Date: 2016-03-05 22:50:11 -0800 (Sat, 05 Mar 2016) |
| zin1 | Linux (Ubuntu 14.04.2 LTS) / x86_64 | OK | OK | OK | | ![UNNEEDED, same version exists in internal repository UNNEEDED, same version exists in internal repository](../120px-Blue_Light_Icon.svg.png) |
moscato1 | Windows Server 2008 R2 Standard (64-bit) / x64 | TIMEOUT | [ OK ] | OK | OK | ![UNNEEDED, same version exists in internal repository UNNEEDED, same version exists in internal repository](../120px-Blue_Light_Icon.svg.png) |
oaxaca | Mac OS X Mavericks (10.9.5) / x86_64 | OK | OK | OK | OK | ![UNNEEDED, same version exists in internal repository UNNEEDED, same version exists in internal repository](../120px-Blue_Light_Icon.svg.png) |
##############################################################################
##############################################################################
###
### Running command:
###
### chmod a+r mzR -R && D:\biocbld\bbs-3.2-bioc\R\bin\R.exe CMD build --keep-empty-dirs --no-resave-data mzR
###
##############################################################################
##############################################################################
* checking for file 'mzR/DESCRIPTION' ... OK
* preparing 'mzR':
* checking DESCRIPTION meta-information ... OK
* cleaning src
* installing the package to build vignettes
* creating vignettes ... OK
* cleaning src
* checking for LF line-endings in source and make files
* checking for empty or unneeded directories
WARNING: directory 'mzR/inst/extdata' is empty
WARNING: directory 'mzR/inst/scripts' is empty
WARNING: directory 'mzR/src/boost/functional/detail' is empty
WARNING: directory 'mzR/src/boost/fusion/adapted/class/detail' is empty
WARNING: directory 'mzR/src/boost/fusion/algorithm/iteration/ext_' is empty
WARNING: directory 'mzR/src/boost/fusion/algorithm/query/ext_' is empty
WARNING: directory 'mzR/src/boost/fusion/container/ext_' is empty
WARNING: directory 'mzR/src/boost/fusion/sequence/intrinsic/ext_' is empty
WARNING: directory 'mzR/src/boost/fusion/support/ext_' is empty
WARNING: directory 'mzR/src/boost/fusion/view/ext_' is empty
WARNING: directory 'mzR/src/boost/spirit/actor' is empty
WARNING: directory 'mzR/src/boost/spirit/attribute' is empty
WARNING: directory 'mzR/src/boost/spirit/core/composite' is empty
WARNING: directory 'mzR/src/boost/spirit/core/non_terminal' is empty
WARNING: directory 'mzR/src/boost/spirit/core/primitives' is empty
WARNING: directory 'mzR/src/boost/spirit/core/scanner' is empty
WARNING: directory 'mzR/src/boost/spirit/debug' is empty
WARNING: directory 'mzR/src/boost/spirit/dynamic' is empty
WARNING: directory 'mzR/src/boost/spirit/error_handling' is empty
WARNING: directory 'mzR/src/boost/spirit/home/support/detail/integer' is empty
WARNING: directory 'mzR/src/boost/spirit/iterator' is empty
WARNING: directory 'mzR/src/boost/spirit/meta' is empty
WARNING: directory 'mzR/src/boost/spirit/phoenix' is empty
WARNING: directory 'mzR/src/boost/spirit/symbols' is empty
WARNING: directory 'mzR/src/boost/spirit/tree' is empty
WARNING: directory 'mzR/src/boost/spirit/utility' is empty
WARNING: directory 'mzR/src/boost_aux/boost/atomic/detail' is empty
WARNING: directory 'mzR/src/boost_aux/boost/lockfree/detail' is empty
WARNING: directory 'mzR/src/pwiz/utility/misc/TabReaderTest.data' is empty
* building 'mzR_2.4.1.tar.gz'
Warning: file 'mzR/cleanup' did not have execute permissions: corrected
Warning: file 'mzR/configure' did not have execute permissions: corrected