mosaics 2.4.0 Dongjun Chung
Snapshot Date: 2015-11-09 16:24:09 -0800 (Mon, 09 Nov 2015) | URL: https://hedgehog.fhcrc.org/bioconductor/branches/RELEASE_3_2/madman/Rpacks/mosaics | Last Changed Rev: 109589 / Revision: 110496 | Last Changed Date: 2015-10-13 12:36:05 -0700 (Tue, 13 Oct 2015) |
| zin1 | Linux (Ubuntu 14.04.2 LTS) / x86_64 | OK | OK | WARNINGS | | ![UNNEEDED, same version exists in internal repository UNNEEDED, same version exists in internal repository](../120px-Blue_Light_Icon.svg.png) |
perceval | Mac OS X Snow Leopard (10.6.8) / x86_64 | [ OK ] | OK | WARNINGS | OK | ![UNNEEDED, same version exists in internal repository UNNEEDED, same version exists in internal repository](../120px-Blue_Light_Icon.svg.png) |
oaxaca | Mac OS X Mavericks (10.9.5) / x86_64 | OK | OK | WARNINGS | OK | ![UNNEEDED, same version exists in internal repository UNNEEDED, same version exists in internal repository](../120px-Blue_Light_Icon.svg.png) |
##############################################################################
##############################################################################
###
### Running command:
###
### /Library/Frameworks/R.framework/Versions/Current/Resources/bin/R CMD INSTALL mosaics
###
##############################################################################
##############################################################################
* installing to library ‘/Library/Frameworks/R.framework/Versions/3.2/Resources/library’
* installing *source* package ‘mosaics’ ...
** libs
llvm-g++-4.2 -arch x86_64 -I/Library/Frameworks/R.framework/Resources/include -DNDEBUG -I/usr/local/include -I"/Library/Frameworks/R.framework/Versions/3.2/Resources/library/Rcpp/include" -fPIC -mtune=core2 -g -O2 -Wall -c convolution_1S.cpp -o convolution_1S.o
llvm-g++-4.2 -arch x86_64 -I/Library/Frameworks/R.framework/Resources/include -DNDEBUG -I/usr/local/include -I"/Library/Frameworks/R.framework/Versions/3.2/Resources/library/Rcpp/include" -fPIC -mtune=core2 -g -O2 -Wall -c convolution_2S.cpp -o convolution_2S.o
llvm-g++-4.2 -arch x86_64 -I/Library/Frameworks/R.framework/Resources/include -DNDEBUG -I/usr/local/include -I"/Library/Frameworks/R.framework/Versions/3.2/Resources/library/Rcpp/include" -fPIC -mtune=core2 -g -O2 -Wall -c emHMM.cpp -o emHMM.o
llvm-g++-4.2 -arch x86_64 -I/Library/Frameworks/R.framework/Resources/include -DNDEBUG -I/usr/local/include -I"/Library/Frameworks/R.framework/Versions/3.2/Resources/library/Rcpp/include" -fPIC -mtune=core2 -g -O2 -Wall -c updatePiMat.cpp -o updatePiMat.o
llvm-g++-4.2 -arch x86_64 -I/Library/Frameworks/R.framework/Resources/include -DNDEBUG -I/usr/local/include -I"/Library/Frameworks/R.framework/Versions/3.2/Resources/library/Rcpp/include" -fPIC -mtune=core2 -g -O2 -Wall -c viterbi.cpp -o viterbi.o
llvm-g++-4.2 -arch x86_64 -dynamiclib -Wl,-headerpad_max_install_names -undefined dynamic_lookup -single_module -multiply_defined suppress -L/Library/Frameworks/R.framework/Resources/lib -L/usr/local/lib -L/usr/local/lib -o mosaics.so convolution_1S.o convolution_2S.o emHMM.o updatePiMat.o viterbi.o -F/Library/Frameworks/R.framework/.. -framework R -Wl,-framework -Wl,CoreFoundation
installing to /Library/Frameworks/R.framework/Versions/3.2/Resources/library/mosaics/libs
** R
** inst
** preparing package for lazy loading
Creating a generic function for ‘print’ from package ‘base’ in package ‘mosaics’
Creating a generic function for ‘plot’ from package ‘graphics’ in package ‘mosaics’
** help
*** installing help indices
** building package indices
** installing vignettes
** testing if installed package can be loaded
* DONE (mosaics)