metaArray 1.48.0 Hyungwon Choi
Snapshot Date: 2016-04-22 16:20:12 -0700 (Fri, 22 Apr 2016) | URL: https://hedgehog.fhcrc.org/bioconductor/branches/RELEASE_3_2/madman/Rpacks/metaArray | Last Changed Rev: 109589 / Revision: 116712 | Last Changed Date: 2015-10-13 12:36:05 -0700 (Tue, 13 Oct 2015) |
| zin1 | Linux (Ubuntu 14.04.2 LTS) / x86_64 | OK | OK | OK | | ![UNNEEDED, same version exists in internal repository UNNEEDED, same version exists in internal repository](../120px-Blue_Light_Icon.svg.png) |
moscato1 | Windows Server 2008 R2 Standard (64-bit) / x64 | [ OK ] | OK | OK | OK | ![UNNEEDED, same version exists in internal repository UNNEEDED, same version exists in internal repository](../120px-Blue_Light_Icon.svg.png) |
oaxaca | Mac OS X Mavericks (10.9.5) / x86_64 | OK | OK | OK | OK | ![UNNEEDED, same version exists in internal repository UNNEEDED, same version exists in internal repository](../120px-Blue_Light_Icon.svg.png) |
##############################################################################
##############################################################################
###
### Running command:
###
### rm -rf metaArray.buildbin-libdir && mkdir metaArray.buildbin-libdir && C:\cygwin\bin\curl.exe -O http://zin1/BBS/3.2/bioc/src/contrib/metaArray_1.48.0.tar.gz && D:\biocbld\bbs-3.2-bioc\R\bin\R.exe CMD INSTALL --build --library=metaArray.buildbin-libdir --merge-multiarch metaArray_1.48.0.tar.gz && D:\biocbld\bbs-3.2-bioc\R\bin\R.exe CMD INSTALL metaArray_1.48.0.zip && rm metaArray_1.48.0.tar.gz metaArray_1.48.0.zip
###
##############################################################################
##############################################################################
% Total % Received % Xferd Average Speed Time Time Time Current
Dload Upload Total Spent Left Speed
0 0 0 0 0 0 0 0 --:--:-- --:--:-- --:--:-- 0
100 661k 100 661k 0 0 34.8M 0 --:--:-- --:--:-- --:--:-- 46.1M
install for i386
* installing *source* package 'metaArray' ...
** libs
gcc -m32 -I"D:/biocbld/BBS-3˜1.2-B/R/include" -DNDEBUG -I"d:/RCompile/r-compiling/local/local323/include" -DUSEDOUBLE -DWINDOWS -O3 -Wall -std=gnu99 -mtune=core2 -c contr.c -o contr.o
gcc -m32 -I"D:/biocbld/BBS-3˜1.2-B/R/include" -DNDEBUG -I"d:/RCompile/r-compiling/local/local323/include" -DUSEDOUBLE -DWINDOWS -O3 -Wall -std=gnu99 -mtune=core2 -c dproc.c -o dproc.o
dproc.c: In function 'malloc_CH':
dproc.c:111:21: warning: variable 'num' set but not used [-Wunused-but-set-variable]
dproc.c: In function 'free_CH':
dproc.c:192:16: warning: unused variable 'nc' [-Wunused-variable]
dproc.c:192:12: warning: variable 'nr' set but not used [-Wunused-but-set-variable]
dproc.c:192:7: warning: variable 'num' set but not used [-Wunused-but-set-variable]
gcc -m32 -I"D:/biocbld/BBS-3˜1.2-B/R/include" -DNDEBUG -I"d:/RCompile/r-compiling/local/local323/include" -DUSEDOUBLE -DWINDOWS -O3 -Wall -std=gnu99 -mtune=core2 -c dproc2.c -o dproc2.o
gcc -m32 -I"D:/biocbld/BBS-3˜1.2-B/R/include" -DNDEBUG -I"d:/RCompile/r-compiling/local/local323/include" -DUSEDOUBLE -DWINDOWS -O3 -Wall -std=gnu99 -mtune=core2 -c intcor.c -o intcor.o
gcc -m32 -I"D:/biocbld/BBS-3˜1.2-B/R/include" -DNDEBUG -I"d:/RCompile/r-compiling/local/local323/include" -DUSEDOUBLE -DWINDOWS -O3 -Wall -std=gnu99 -mtune=core2 -c lowess.c -o lowess.o
gcc -m32 -I"D:/biocbld/BBS-3˜1.2-B/R/include" -DNDEBUG -I"d:/RCompile/r-compiling/local/local323/include" -DUSEDOUBLE -DWINDOWS -O3 -Wall -std=gnu99 -mtune=core2 -c mmath.c -o mmath.o
gcc -m32 -I"D:/biocbld/BBS-3˜1.2-B/R/include" -DNDEBUG -I"d:/RCompile/r-compiling/local/local323/include" -DUSEDOUBLE -DWINDOWS -O3 -Wall -std=gnu99 -mtune=core2 -c perm.c -o perm.o
gcc -m32 -I"D:/biocbld/BBS-3˜1.2-B/R/include" -DNDEBUG -I"d:/RCompile/r-compiling/local/local323/include" -DUSEDOUBLE -DWINDOWS -O3 -Wall -std=gnu99 -mtune=core2 -c poe.c -o poe.o
poe.c: In function 'poe_one_iter':
poe.c:131:53: warning: variable 'shift' set but not used [-Wunused-but-set-variable]
poe.c:120:20: warning: variable 'accept' set but not used [-Wunused-but-set-variable]
gcc -m32 -shared -s -static-libgcc -o metaArray.dll tmp.def contr.o dproc.o dproc2.o intcor.o lowess.o mmath.o perm.o poe.o -lm -Ld:/RCompile/r-compiling/local/local323/lib/i386 -Ld:/RCompile/r-compiling/local/local323/lib -LD:/biocbld/BBS-3˜1.2-B/R/bin/i386 -lR
installing to D:/biocbld/bbs-3.2-bioc/meat/metaArray.buildbin-libdir/metaArray/libs/i386
** R
** data
** preparing package for lazy loading
** help
*** installing help indices
** building package indices
** installing vignettes
** testing if installed package can be loaded
install for x64
* installing *source* package 'metaArray' ...
** libs
gcc -m64 -I"D:/biocbld/BBS-3˜1.2-B/R/include" -DNDEBUG -I"d:/RCompile/r-compiling/local/local323/include" -DUSEDOUBLE -DWINDOWS -O2 -Wall -std=gnu99 -mtune=core2 -c contr.c -o contr.o
gcc -m64 -I"D:/biocbld/BBS-3˜1.2-B/R/include" -DNDEBUG -I"d:/RCompile/r-compiling/local/local323/include" -DUSEDOUBLE -DWINDOWS -O2 -Wall -std=gnu99 -mtune=core2 -c dproc.c -o dproc.o
dproc.c: In function 'malloc_CH':
dproc.c:111:21: warning: variable 'num' set but not used [-Wunused-but-set-variable]
dproc.c: In function 'free_CH':
dproc.c:192:16: warning: unused variable 'nc' [-Wunused-variable]
dproc.c:192:12: warning: variable 'nr' set but not used [-Wunused-but-set-variable]
dproc.c:192:7: warning: variable 'num' set but not used [-Wunused-but-set-variable]
gcc -m64 -I"D:/biocbld/BBS-3˜1.2-B/R/include" -DNDEBUG -I"d:/RCompile/r-compiling/local/local323/include" -DUSEDOUBLE -DWINDOWS -O2 -Wall -std=gnu99 -mtune=core2 -c dproc2.c -o dproc2.o
gcc -m64 -I"D:/biocbld/BBS-3˜1.2-B/R/include" -DNDEBUG -I"d:/RCompile/r-compiling/local/local323/include" -DUSEDOUBLE -DWINDOWS -O2 -Wall -std=gnu99 -mtune=core2 -c intcor.c -o intcor.o
gcc -m64 -I"D:/biocbld/BBS-3˜1.2-B/R/include" -DNDEBUG -I"d:/RCompile/r-compiling/local/local323/include" -DUSEDOUBLE -DWINDOWS -O2 -Wall -std=gnu99 -mtune=core2 -c lowess.c -o lowess.o
gcc -m64 -I"D:/biocbld/BBS-3˜1.2-B/R/include" -DNDEBUG -I"d:/RCompile/r-compiling/local/local323/include" -DUSEDOUBLE -DWINDOWS -O2 -Wall -std=gnu99 -mtune=core2 -c mmath.c -o mmath.o
gcc -m64 -I"D:/biocbld/BBS-3˜1.2-B/R/include" -DNDEBUG -I"d:/RCompile/r-compiling/local/local323/include" -DUSEDOUBLE -DWINDOWS -O2 -Wall -std=gnu99 -mtune=core2 -c perm.c -o perm.o
gcc -m64 -I"D:/biocbld/BBS-3˜1.2-B/R/include" -DNDEBUG -I"d:/RCompile/r-compiling/local/local323/include" -DUSEDOUBLE -DWINDOWS -O2 -Wall -std=gnu99 -mtune=core2 -c poe.c -o poe.o
poe.c: In function 'poe_one_iter':
poe.c:131:53: warning: variable 'shift' set but not used [-Wunused-but-set-variable]
poe.c:120:20: warning: variable 'accept' set but not used [-Wunused-but-set-variable]
gcc -m64 -shared -s -static-libgcc -o metaArray.dll tmp.def contr.o dproc.o dproc2.o intcor.o lowess.o mmath.o perm.o poe.o -lm -Ld:/RCompile/r-compiling/local/local323/lib/x64 -Ld:/RCompile/r-compiling/local/local323/lib -LD:/biocbld/BBS-3˜1.2-B/R/bin/x64 -lR
installing to D:/biocbld/bbs-3.2-bioc/meat/metaArray.buildbin-libdir/metaArray/libs/x64
** testing if installed package can be loaded
* MD5 sums
packaged installation of 'metaArray' as metaArray_1.48.0.zip
* DONE (metaArray)
* installing to library 'D:/biocbld/bbs-3.2-bioc/R/library'
package 'metaArray' successfully unpacked and MD5 sums checked