genomation 1.2.2 Altuna Akalin , Vedran Franke
Snapshot Date: 2016-04-22 16:20:12 -0700 (Fri, 22 Apr 2016) | URL: https://hedgehog.fhcrc.org/bioconductor/branches/RELEASE_3_2/madman/Rpacks/genomation | Last Changed Rev: 112480 / Revision: 116712 | Last Changed Date: 2016-01-12 12:58:17 -0800 (Tue, 12 Jan 2016) |
| zin1 | Linux (Ubuntu 14.04.2 LTS) / x86_64 | OK | OK | OK | | ![UNNEEDED, same version exists in internal repository UNNEEDED, same version exists in internal repository](../120px-Blue_Light_Icon.svg.png) |
moscato1 | Windows Server 2008 R2 Standard (64-bit) / x64 | [ OK ] | OK | OK | OK | ![UNNEEDED, same version exists in internal repository UNNEEDED, same version exists in internal repository](../120px-Blue_Light_Icon.svg.png) |
oaxaca | Mac OS X Mavericks (10.9.5) / x86_64 | OK | OK | OK | OK | ![UNNEEDED, same version exists in internal repository UNNEEDED, same version exists in internal repository](../120px-Blue_Light_Icon.svg.png) |
##############################################################################
##############################################################################
###
### Running command:
###
### rm -rf genomation.buildbin-libdir && mkdir genomation.buildbin-libdir && C:\cygwin\bin\curl.exe -O http://zin1/BBS/3.2/bioc/src/contrib/genomation_1.2.2.tar.gz && D:\biocbld\bbs-3.2-bioc\R\bin\R.exe CMD INSTALL --build --library=genomation.buildbin-libdir --merge-multiarch genomation_1.2.2.tar.gz && D:\biocbld\bbs-3.2-bioc\R\bin\R.exe CMD INSTALL genomation_1.2.2.zip && rm genomation_1.2.2.tar.gz genomation_1.2.2.zip
###
##############################################################################
##############################################################################
% Total % Received % Xferd Average Speed Time Time Time Current
Dload Upload Total Spent Left Speed
0 0 0 0 0 0 0 0 --:--:-- --:--:-- --:--:-- 0
100 1956k 100 1956k 0 0 64.7M 0 --:--:-- --:--:-- --:--:-- 73.4M
install for i386
* installing *source* package 'genomation' ...
** R
** data
** inst
** preparing package for lazy loading
** help
*** installing help indices
** building package indices
** installing vignettes
'GenomationManual-knitr.Rmd' using 'latin1'
** testing if installed package can be loaded
install for x64
* installing *source* package 'genomation' ...
** testing if installed package can be loaded
* MD5 sums
packaged installation of 'genomation' as genomation_1.2.2.zip
* DONE (genomation)
* installing to library 'D:/biocbld/bbs-3.2-bioc/R/library'
package 'genomation' successfully unpacked and MD5 sums checked