gage 2.20.1 Weijun Luo
Snapshot Date: 2016-04-21 16:20:06 -0700 (Thu, 21 Apr 2016) | URL: https://hedgehog.fhcrc.org/bioconductor/branches/RELEASE_3_2/madman/Rpacks/gage | Last Changed Rev: 113767 / Revision: 116677 | Last Changed Date: 2016-02-18 13:22:33 -0800 (Thu, 18 Feb 2016) |
| zin1 | Linux (Ubuntu 14.04.2 LTS) / x86_64 | OK | OK | OK | | ![UNNEEDED, same version exists in internal repository UNNEEDED, same version exists in internal repository](../120px-Blue_Light_Icon.svg.png) |
moscato1 | Windows Server 2008 R2 Standard (64-bit) / x64 | OK | OK | OK | [ OK ] | ![UNNEEDED, same version exists in internal repository UNNEEDED, same version exists in internal repository](../120px-Blue_Light_Icon.svg.png) |
oaxaca | Mac OS X Mavericks (10.9.5) / x86_64 | OK | OK | OK | OK | ![UNNEEDED, same version exists in internal repository UNNEEDED, same version exists in internal repository](../120px-Blue_Light_Icon.svg.png) |
##############################################################################
##############################################################################
###
### Running command:
###
### cd gage.buildbin-libdir/gage && zip -r ../../gage_2.20.1.zip . & cd ../..
###
##############################################################################
##############################################################################
Scanning files
adding: CITATION (188 bytes security) (deflated 43%)
adding: data/ (208 bytes security) (stored 0%)
adding: data/bods.rda (188 bytes security) (stored 0%)
adding: data/carta.gs.rda (188 bytes security) (stored 0%)
adding: data/datalist (188 bytes security) (deflated 18%)
adding: data/egSymb.rda (188 bytes security) (deflated 0%)
adding: data/go.gs.rda (188 bytes security) (deflated 0%)
adding: data/gse16873.rda (188 bytes security) (deflated 0%)
adding: data/kegg.gs.dise.rda (188 bytes security) (stored 0%)
adding: data/kegg.gs.rda (188 bytes security) (stored 0%)
adding: data/khier.rda (188 bytes security) (stored 0%)
adding: data/korg.rda (188 bytes security) (deflated 0%)
adding: DESCRIPTION (188 bytes security) (deflated 46%)
adding: doc/ (208 bytes security) (stored 0%)
adding: doc/dataPrep.pdf (188 bytes security) (deflated 8%)
adding: doc/dataPrep.R (188 bytes security) (deflated 64%)
adding: doc/dataPrep.Rnw (188 bytes security) (deflated 58%)
adding: doc/gage.pdf (188 bytes security) (deflated 16%)
adding: doc/gage.R (188 bytes security) (deflated 81%)
adding: doc/gage.Rnw (188 bytes security) (deflated 69%)
adding: doc/index.html (188 bytes security) (deflated 70%)
adding: doc/RNA-seqWorkflow.pdf (188 bytes security) (deflated 8%)
adding: doc/RNA-seqWorkflow.R (188 bytes security) (deflated 75%)
adding: doc/RNA-seqWorkflow.Rnw (188 bytes security) (deflated 69%)
adding: extdata/ (208 bytes security) (stored 0%)
adding: extdata/c2.demo.gmt (188 bytes security) (deflated 49%)
adding: extdata/gse16873.demo (188 bytes security) (deflated 51%)
adding: help/ (208 bytes security) (stored 0%)
adding: help/aliases.rds (188 bytes security) (stored 0%)
adding: help/AnIndex (188 bytes security) (deflated 61%)
adding: help/gage.rdb (188 bytes security) (deflated 1%)
adding: help/gage.rdx (188 bytes security) (stored 0%)
adding: help/paths.rds (188 bytes security) (stored 0%)
adding: html/ (208 bytes security) (stored 0%)
adding: html/00Index.html (188 bytes security) (deflated 75%)
adding: html/R.css (188 bytes security) (deflated 75%)
adding: INDEX (188 bytes security) (deflated 60%)
adding: MD5 (188 bytes security) (deflated 44%)
adding: Meta/ (208 bytes security) (stored 0%)
adding: Meta/data.rds (188 bytes security) (stored 0%)
adding: Meta/hsearch.rds (188 bytes security) (stored 0%)
adding: Meta/links.rds (188 bytes security) (stored 0%)
adding: Meta/nsInfo.rds (188 bytes security) (stored 0%)
adding: Meta/package.rds (188 bytes security) (stored 0%)
adding: Meta/Rd.rds (188 bytes security) (stored 0%)
adding: Meta/vignette.rds (188 bytes security) (stored 0%)
adding: NAMESPACE (188 bytes security) (deflated 36%)
adding: NEWS (188 bytes security) (deflated 58%)
adding: R/ (208 bytes security) (stored 0%)
adding: R/gage (188 bytes security) (deflated 41%)
adding: R/gage.rdb (188 bytes security) (deflated 1%)
adding: R/gage.rdx (188 bytes security) (stored 0%)