baySeq 2.4.1 Thomas J. Hardcastle
Snapshot Date: 2016-04-22 16:20:12 -0700 (Fri, 22 Apr 2016) | URL: https://hedgehog.fhcrc.org/bioconductor/branches/RELEASE_3_2/madman/Rpacks/baySeq | Last Changed Rev: 110948 / Revision: 116712 | Last Changed Date: 2015-11-26 07:49:43 -0800 (Thu, 26 Nov 2015) |
| zin1 | Linux (Ubuntu 14.04.2 LTS) / x86_64 | OK | OK | OK | | ![UNNEEDED, same version exists in internal repository UNNEEDED, same version exists in internal repository](../120px-Blue_Light_Icon.svg.png) |
moscato1 | Windows Server 2008 R2 Standard (64-bit) / x64 | OK | OK | OK | [ OK ] | ![UNNEEDED, same version exists in internal repository UNNEEDED, same version exists in internal repository](../120px-Blue_Light_Icon.svg.png) |
oaxaca | Mac OS X Mavericks (10.9.5) / x86_64 | OK | OK | OK | OK | ![UNNEEDED, same version exists in internal repository UNNEEDED, same version exists in internal repository](../120px-Blue_Light_Icon.svg.png) |
##############################################################################
##############################################################################
###
### Running command:
###
### cd baySeq.buildbin-libdir/baySeq && zip -r ../../baySeq_2.4.1.zip . & cd ../..
###
##############################################################################
##############################################################################
Scanning files
adding: data/ (208 bytes security) (stored 0%)
adding: data/CDPost.RData (188 bytes security) (deflated 0%)
adding: data/CDPriors.RData (188 bytes security) (deflated 0%)
adding: data/mobAnnotation.RData (188 bytes security) (deflated 0%)
adding: data/mobData.RData (188 bytes security) (deflated 2%)
adding: data/pairData.RData (188 bytes security) (deflated 1%)
adding: data/simData.RData (188 bytes security) (deflated 1%)
adding: data/zimData.RData (188 bytes security) (deflated 11%)
adding: DESCRIPTION (188 bytes security) (deflated 39%)
adding: doc/ (208 bytes security) (stored 0%)
adding: doc/baySeq.pdf (188 bytes security) (deflated 12%)
adding: doc/baySeq.R (188 bytes security) (deflated 85%)
adding: doc/baySeq.Rnw (188 bytes security) (deflated 69%)
adding: doc/baySeq_generic.pdf (188 bytes security) (deflated 13%)
adding: doc/baySeq_generic.R (188 bytes security) (deflated 83%)
adding: doc/baySeq_generic.Rnw (188 bytes security) (deflated 67%)
adding: doc/index.html (188 bytes security) (deflated 67%)
adding: help/ (208 bytes security) (stored 0%)
adding: help/aliases.rds (188 bytes security) (stored 0%)
adding: help/AnIndex (188 bytes security) (deflated 78%)
adding: help/baySeq.rdb (188 bytes security) (deflated 1%)
adding: help/baySeq.rdx (188 bytes security) (stored 0%)
adding: help/paths.rds (188 bytes security) (stored 0%)
adding: html/ (208 bytes security) (stored 0%)
adding: html/00Index.html (188 bytes security) (deflated 82%)
adding: html/R.css (188 bytes security) (deflated 75%)
adding: INDEX (188 bytes security) (deflated 70%)
adding: MD5 (188 bytes security) (deflated 45%)
adding: Meta/ (208 bytes security) (stored 0%)
adding: Meta/data.rds (188 bytes security) (stored 0%)
adding: Meta/hsearch.rds (188 bytes security) (stored 0%)
adding: Meta/links.rds (188 bytes security) (stored 0%)
adding: Meta/nsInfo.rds (188 bytes security) (stored 0%)
adding: Meta/package.rds (188 bytes security) (stored 0%)
adding: Meta/Rd.rds (188 bytes security) (stored 0%)
adding: Meta/vignette.rds (188 bytes security) (stored 0%)
adding: NAMESPACE (188 bytes security) (deflated 23%)
adding: R/ (208 bytes security) (stored 0%)
adding: R/baySeq (188 bytes security) (deflated 41%)
adding: R/baySeq.rdb (188 bytes security) (deflated 17%)
adding: R/baySeq.rdx (188 bytes security) (deflated 1%)