VanillaICE 1.32.2 Robert Scharpf
Snapshot Date: 2016-04-22 16:20:12 -0700 (Fri, 22 Apr 2016) | URL: https://hedgehog.fhcrc.org/bioconductor/branches/RELEASE_3_2/madman/Rpacks/VanillaICE | Last Changed Rev: 114820 / Revision: 116712 | Last Changed Date: 2016-03-15 18:53:01 -0700 (Tue, 15 Mar 2016) |
| zin1 | Linux (Ubuntu 14.04.2 LTS) / x86_64 | OK | OK | OK | | ![UNNEEDED, same version exists in internal repository UNNEEDED, same version exists in internal repository](../120px-Blue_Light_Icon.svg.png) |
moscato1 | Windows Server 2008 R2 Standard (64-bit) / x64 | [ OK ] | OK | OK | OK | ![UNNEEDED, same version exists in internal repository UNNEEDED, same version exists in internal repository](../120px-Blue_Light_Icon.svg.png) |
oaxaca | Mac OS X Mavericks (10.9.5) / x86_64 | OK | OK | OK | OK | ![UNNEEDED, same version exists in internal repository UNNEEDED, same version exists in internal repository](../120px-Blue_Light_Icon.svg.png) |
##############################################################################
##############################################################################
###
### Running command:
###
### rm -rf VanillaICE.buildbin-libdir && mkdir VanillaICE.buildbin-libdir && C:\cygwin\bin\curl.exe -O http://zin1/BBS/3.2/bioc/src/contrib/VanillaICE_1.32.2.tar.gz && D:\biocbld\bbs-3.2-bioc\R\bin\R.exe CMD INSTALL --build --library=VanillaICE.buildbin-libdir --merge-multiarch VanillaICE_1.32.2.tar.gz && D:\biocbld\bbs-3.2-bioc\R\bin\R.exe CMD INSTALL VanillaICE_1.32.2.zip && rm VanillaICE_1.32.2.tar.gz VanillaICE_1.32.2.zip
###
##############################################################################
##############################################################################
% Total % Received % Xferd Average Speed Time Time Time Current
Dload Upload Total Spent Left Speed
0 0 0 0 0 0 0 0 --:--:-- --:--:-- --:--:-- 0
100 1129k 100 1129k 0 0 32.8M 0 --:--:-- --:--:-- --:--:-- 36.7M
install for i386
* installing *source* package 'VanillaICE' ...
** libs
gcc -m32 -I"D:/biocbld/BBS-3˜1.2-B/R/include" -DNDEBUG -I"d:/RCompile/r-compiling/local/local323/include" -O3 -Wall -std=gnu99 -mtune=core2 -c rinit.c -o rinit.o
gcc -m32 -I"D:/biocbld/BBS-3˜1.2-B/R/include" -DNDEBUG -I"d:/RCompile/r-compiling/local/local323/include" -O3 -Wall -std=gnu99 -mtune=core2 -c viterbi.c -o viterbi.o
gcc -m32 -shared -s -static-libgcc -o VanillaICE.dll tmp.def rinit.o viterbi.o -lm -Ld:/RCompile/r-compiling/local/local323/lib/i386 -Ld:/RCompile/r-compiling/local/local323/lib -LD:/biocbld/BBS-3˜1.2-B/R/bin/i386 -lR
installing to D:/biocbld/bbs-3.2-bioc/meat/VanillaICE.buildbin-libdir/VanillaICE/libs/i386
** R
** data
** inst
** preparing package for lazy loading
Creating a new generic function for 'distance' in package 'VanillaICE'
** help
*** installing help indices
** building package indices
** installing vignettes
'VanillaICE.Rnw'
'crlmmDownstream.Rnw'
** testing if installed package can be loaded
install for x64
* installing *source* package 'VanillaICE' ...
** libs
gcc -m64 -I"D:/biocbld/BBS-3˜1.2-B/R/include" -DNDEBUG -I"d:/RCompile/r-compiling/local/local323/include" -O2 -Wall -std=gnu99 -mtune=core2 -c rinit.c -o rinit.o
gcc -m64 -I"D:/biocbld/BBS-3˜1.2-B/R/include" -DNDEBUG -I"d:/RCompile/r-compiling/local/local323/include" -O2 -Wall -std=gnu99 -mtune=core2 -c viterbi.c -o viterbi.o
gcc -m64 -shared -s -static-libgcc -o VanillaICE.dll tmp.def rinit.o viterbi.o -lm -Ld:/RCompile/r-compiling/local/local323/lib/x64 -Ld:/RCompile/r-compiling/local/local323/lib -LD:/biocbld/BBS-3˜1.2-B/R/bin/x64 -lR
installing to D:/biocbld/bbs-3.2-bioc/meat/VanillaICE.buildbin-libdir/VanillaICE/libs/x64
** testing if installed package can be loaded
* MD5 sums
packaged installation of 'VanillaICE' as VanillaICE_1.32.2.zip
* DONE (VanillaICE)
* installing to library 'D:/biocbld/bbs-3.2-bioc/R/library'
package 'VanillaICE' successfully unpacked and MD5 sums checked