UniProt.ws 2.10.4 Bioconductor Package Maintainer
Snapshot Date: 2016-04-22 16:20:12 -0700 (Fri, 22 Apr 2016) | URL: https://hedgehog.fhcrc.org/bioconductor/branches/RELEASE_3_2/madman/Rpacks/UniProt.ws | Last Changed Rev: 114190 / Revision: 116712 | Last Changed Date: 2016-03-02 14:35:19 -0800 (Wed, 02 Mar 2016) |
| zin1 | Linux (Ubuntu 14.04.2 LTS) / x86_64 | OK | OK | OK | | ![UNNEEDED, same version exists in internal repository UNNEEDED, same version exists in internal repository](../120px-Blue_Light_Icon.svg.png) |
moscato1 | Windows Server 2008 R2 Standard (64-bit) / x64 | [ OK ] | OK | OK | OK | ![UNNEEDED, same version exists in internal repository UNNEEDED, same version exists in internal repository](../120px-Blue_Light_Icon.svg.png) |
oaxaca | Mac OS X Mavericks (10.9.5) / x86_64 | OK | OK | OK | OK | ![UNNEEDED, same version exists in internal repository UNNEEDED, same version exists in internal repository](../120px-Blue_Light_Icon.svg.png) |
##############################################################################
##############################################################################
###
### Running command:
###
### rm -rf UniProt.ws.buildbin-libdir && mkdir UniProt.ws.buildbin-libdir && C:\cygwin\bin\curl.exe -O http://zin1/BBS/3.2/bioc/src/contrib/UniProt.ws_2.10.4.tar.gz && D:\biocbld\bbs-3.2-bioc\R\bin\R.exe CMD INSTALL --build --library=UniProt.ws.buildbin-libdir --merge-multiarch UniProt.ws_2.10.4.tar.gz && D:\biocbld\bbs-3.2-bioc\R\bin\R.exe CMD INSTALL UniProt.ws_2.10.4.zip && rm UniProt.ws_2.10.4.tar.gz UniProt.ws_2.10.4.zip
###
##############################################################################
##############################################################################
% Total % Received % Xferd Average Speed Time Time Time Current
Dload Upload Total Spent Left Speed
0 0 0 0 0 0 0 0 --:--:-- --:--:-- --:--:-- 0
100 283k 100 283k 0 0 14.2M 0 --:--:-- --:--:-- --:--:-- 18.4M
install for i386
* installing *source* package 'UniProt.ws' ...
** R
** inst
** preparing package for lazy loading
** help
*** installing help indices
** building package indices
** installing vignettes
** testing if installed package can be loaded
install for x64
* installing *source* package 'UniProt.ws' ...
** testing if installed package can be loaded
* MD5 sums
packaged installation of 'UniProt.ws' as UniProt.ws_2.10.4.zip
* DONE (UniProt.ws)
* installing to library 'D:/biocbld/bbs-3.2-bioc/R/library'
package 'UniProt.ws' successfully unpacked and MD5 sums checked