RpsiXML 2.12.0 Jitao David Zhang
Snapshot Date: 2015-11-09 16:24:09 -0800 (Mon, 09 Nov 2015) | URL: https://hedgehog.fhcrc.org/bioconductor/branches/RELEASE_3_2/madman/Rpacks/RpsiXML | Last Changed Rev: 109589 / Revision: 110496 | Last Changed Date: 2015-10-13 12:36:05 -0700 (Tue, 13 Oct 2015) |
| zin1 | Linux (Ubuntu 14.04.2 LTS) / x86_64 | OK | OK | OK | | ![UNNEEDED, same version exists in internal repository UNNEEDED, same version exists in internal repository](../120px-Blue_Light_Icon.svg.png) |
perceval | Mac OS X Snow Leopard (10.6.8) / x86_64 | OK | OK | OK | [ OK ] | ![UNNEEDED, same version exists in internal repository UNNEEDED, same version exists in internal repository](../120px-Blue_Light_Icon.svg.png) |
oaxaca | Mac OS X Mavericks (10.9.5) / x86_64 | OK | OK | OK | OK | ![UNNEEDED, same version exists in internal repository UNNEEDED, same version exists in internal repository](../120px-Blue_Light_Icon.svg.png) |
##############################################################################
##############################################################################
###
### Running command:
###
### rm -rf RpsiXML.buildbin-libdir && mkdir RpsiXML.buildbin-libdir && /Users/biocbuild/BBS/utils/build-universal.sh RpsiXML_2.12.0.tar.gz /Library/Frameworks/R.framework/Versions/Current/Resources/bin/R RpsiXML.buildbin-libdir
###
##############################################################################
##############################################################################
>>>>>>>
>>>>>>> INSTALLATION WITH 'R CMD INSTALL --preclean --no-multiarch --library=RpsiXML.buildbin-libdir RpsiXML_2.12.0.tar.gz'
>>>>>>>
* installing *source* package ‘RpsiXML’ ...
** R
** inst
** preparing package for lazy loading
No methods found in "Biobase" for requests: listlen
No methods found in "annotate" for requests: pubmed, buildPubMedAbst
Note: in method for ‘head’ with signature ‘x="ANY"’: expanding the
signature to include omitted arguments in definition: x = "missing"
Note: in method for ‘tail’ with signature ‘x="ANY"’: expanding the
signature to include omitted arguments in definition: x = "missing"
** help
*** installing help indices
** building package indices
** installing vignettes
** testing if installed package can be loaded
No methods found in "Biobase" for requests: listlen
No methods found in "annotate" for requests: pubmed, buildPubMedAbst
* DONE (RpsiXML)