RBGL 1.46.0 Bioconductor Package Maintainer
Snapshot Date: 2015-11-09 16:24:09 -0800 (Mon, 09 Nov 2015) | URL: https://hedgehog.fhcrc.org/bioconductor/branches/RELEASE_3_2/madman/Rpacks/RBGL | Last Changed Rev: 109589 / Revision: 110496 | Last Changed Date: 2015-10-13 12:36:05 -0700 (Tue, 13 Oct 2015) |
| zin1 | Linux (Ubuntu 14.04.2 LTS) / x86_64 | OK | OK | OK | | ![UNNEEDED, same version exists in internal repository UNNEEDED, same version exists in internal repository](../120px-Blue_Light_Icon.svg.png) |
perceval | Mac OS X Snow Leopard (10.6.8) / x86_64 | OK | OK | [ OK ] | OK | ![UNNEEDED, same version exists in internal repository UNNEEDED, same version exists in internal repository](../120px-Blue_Light_Icon.svg.png) |
oaxaca | Mac OS X Mavericks (10.9.5) / x86_64 | OK | OK | OK | OK | ![UNNEEDED, same version exists in internal repository UNNEEDED, same version exists in internal repository](../120px-Blue_Light_Icon.svg.png) |
##############################################################################
##############################################################################
###
### Running command:
###
### /Library/Frameworks/R.framework/Versions/Current/Resources/bin/R CMD check --no-vignettes --timings RBGL_1.46.0.tar.gz
###
##############################################################################
##############################################################################
* using log directory ‘/Users/biocbuild/bbs-3.2-bioc/meat/RBGL.Rcheck’
* using R version 3.2.2 Patched (2015-10-08 r69496)
* using platform: x86_64-apple-darwin10.8.0 (64-bit)
* using session charset: UTF-8
* using option ‘--no-vignettes’
* checking for file ‘RBGL/DESCRIPTION’ ... OK
* this is package ‘RBGL’ version ‘1.46.0’
* checking package namespace information ... OK
* checking package dependencies ... OK
* checking if this is a source package ... OK
* checking if there is a namespace ... OK
* checking for hidden files and directories ... OK
* checking for portable file names ... OK
* checking for sufficient/correct file permissions ... OK
* checking whether package ‘RBGL’ can be installed ... [87s/88s] OK
* checking installed package size ... OK
* checking package directory ... OK
* checking ‘build’ directory ... OK
* checking DESCRIPTION meta-information ... NOTE
Package listed in more than one of Depends, Imports, Suggests, Enhances:
‘methods’
A package should be listed in only one of these fields.
* checking top-level files ... OK
* checking for left-over files ... OK
* checking index information ... OK
* checking package subdirectories ... OK
* checking R files for non-ASCII characters ... OK
* checking R files for syntax errors ... OK
* checking whether the package can be loaded ... OK
* checking whether the package can be loaded with stated dependencies ... OK
* checking whether the package can be unloaded cleanly ... OK
* checking whether the namespace can be loaded with stated dependencies ... OK
* checking whether the namespace can be unloaded cleanly ... OK
* checking dependencies in R code ... NOTE
'library' or 'require' call to ‘methods’ which was already attached by Depends.
Please remove these calls from your code.
* checking S3 generic/method consistency ... OK
* checking replacement functions ... OK
* checking foreign function calls ... OK
* checking R code for possible problems ... NOTE
File ‘RBGL/R/zzz.R’:
.onLoad calls:
require("methods")
Package startup functions should not change the search path.
See section ‘Good practice’ in '?.onAttach'.
* checking Rd files ... OK
* checking Rd metadata ... OK
* checking Rd cross-references ... OK
* checking for missing documentation entries ... OK
* checking for code/documentation mismatches ... OK
* checking Rd \usage sections ... OK
* checking Rd contents ... OK
* checking for unstated dependencies in examples ... OK
* checking contents of ‘data’ directory ... OK
* checking data for non-ASCII characters ... OK
* checking data for ASCII and uncompressed saves ... OK
* checking line endings in C/C++/Fortran sources/headers ... OK
* checking line endings in Makefiles ... OK
* checking compilation flags in Makevars ... OK
* checking for GNU extensions in Makefiles ... OK
* checking for portable use of $(BLAS_LIBS) and $(LAPACK_LIBS) ... OK
* checking compiled code ... OK
* checking sizes of PDF files under ‘inst/doc’ ... OK
* checking installed files from ‘inst/doc’ ... OK
* checking files in ‘vignettes’ ... OK
* checking examples ... [3s/3s] OK
* checking for unstated dependencies in ‘tests’ ... OK
* checking tests ...
Running ‘runTests.R’ [1s/1s]
[2s/2s] OK
* checking for unstated dependencies in vignettes ... OK
* checking package vignettes in ‘inst/doc’ ... OK
* checking running R code from vignettes ... SKIPPED
* checking re-building of vignette outputs ... SKIPPED
* checking PDF version of manual ... OK
* DONE
Status: 3 NOTEs
See
‘/Users/biocbuild/bbs-3.2-bioc/meat/RBGL.Rcheck/00check.log’
for details.
* installing *source* package ‘RBGL’ ...
untarring boost include tree...
** libs
llvm-g++-4.2 -arch x86_64 -I/Library/Frameworks/R.framework/Resources/include -DNDEBUG -I/usr/local/include -Irbgl_trimmed_boost_1_49_0 -fPIC -mtune=core2 -g -O2 -Wall -c bbc.cpp -o bbc.o
llvm-g++-4.2 -arch x86_64 -I/Library/Frameworks/R.framework/Resources/include -DNDEBUG -I/usr/local/include -Irbgl_trimmed_boost_1_49_0 -fPIC -mtune=core2 -g -O2 -Wall -c cliques.cpp -o cliques.o
llvm-g++-4.2 -arch x86_64 -I/Library/Frameworks/R.framework/Resources/include -DNDEBUG -I/usr/local/include -Irbgl_trimmed_boost_1_49_0 -fPIC -mtune=core2 -g -O2 -Wall -c clusteringCoef.cpp -o clusteringCoef.o
llvm-g++-4.2 -arch x86_64 -I/Library/Frameworks/R.framework/Resources/include -DNDEBUG -I/usr/local/include -Irbgl_trimmed_boost_1_49_0 -fPIC -mtune=core2 -g -O2 -Wall -c dominatorTree.cpp -o dominatorTree.o
llvm-g++-4.2 -arch x86_64 -I/Library/Frameworks/R.framework/Resources/include -DNDEBUG -I/usr/local/include -Irbgl_trimmed_boost_1_49_0 -fPIC -mtune=core2 -g -O2 -Wall -c edmonds_optimum_branching.cpp -o edmonds_optimum_branching.o
llvm-g++-4.2 -arch x86_64 -I/Library/Frameworks/R.framework/Resources/include -DNDEBUG -I/usr/local/include -Irbgl_trimmed_boost_1_49_0 -fPIC -mtune=core2 -g -O2 -Wall -c hcs.cpp -o hcs.o
llvm-g++-4.2 -arch x86_64 -I/Library/Frameworks/R.framework/Resources/include -DNDEBUG -I/usr/local/include -Irbgl_trimmed_boost_1_49_0 -fPIC -mtune=core2 -g -O2 -Wall -c incrConnComp.cpp -o incrConnComp.o
incrConnComp.cpp: In function ‘SEXPREC* BGL_incr_comp_internal(SEXPREC*, SEXPREC*, SEXPREC*, E_IC_METHOD)’:
incrConnComp.cpp:74: warning: unused variable ‘child_index’
llvm-g++-4.2 -arch x86_64 -I/Library/Frameworks/R.framework/Resources/include -DNDEBUG -I/usr/local/include -Irbgl_trimmed_boost_1_49_0 -fPIC -mtune=core2 -g -O2 -Wall -c interfaces.cpp -o interfaces.o
llvm-g++-4.2 -arch x86_64 -I/Library/Frameworks/R.framework/Resources/include -DNDEBUG -I/usr/local/include -Irbgl_trimmed_boost_1_49_0 -fPIC -mtune=core2 -g -O2 -Wall -c minST.cpp -o minST.o
llvm-g++-4.2 -arch x86_64 -I/Library/Frameworks/R.framework/Resources/include -DNDEBUG -I/usr/local/include -Irbgl_trimmed_boost_1_49_0 -fPIC -mtune=core2 -g -O2 -Wall -c mincut.cpp -o mincut.o
llvm-g++-4.2 -arch x86_64 -I/Library/Frameworks/R.framework/Resources/include -DNDEBUG -I/usr/local/include -Irbgl_trimmed_boost_1_49_0 -fPIC -mtune=core2 -g -O2 -Wall -c ordering.cpp -o ordering.o
llvm-g++-4.2 -arch x86_64 -I/Library/Frameworks/R.framework/Resources/include -DNDEBUG -I/usr/local/include -Irbgl_trimmed_boost_1_49_0 -fPIC -mtune=core2 -g -O2 -Wall -c planar.cpp -o planar.o
planar.cpp: In function ‘SEXPREC* planarFaceTraversal(SEXPREC*, SEXPREC*, SEXPREC*)’:
planar.cpp:161: warning: comparison between signed and unsigned integer expressions
planar.cpp:165: warning: comparison between signed and unsigned integer expressions
planar.cpp: In function ‘SEXPREC* planarCanonicalOrdering(SEXPREC*, SEXPREC*, SEXPREC*)’:
planar.cpp:256: warning: comparison between signed and unsigned integer expressions
planar.cpp: In function ‘SEXPREC* isStraightLineDrawing(SEXPREC*, SEXPREC*, SEXPREC*, SEXPREC*)’:
planar.cpp:369: warning: comparison between signed and unsigned integer expressions
planar.cpp: In function ‘SEXPREC* isKuratowskiSubgraph(SEXPREC*, SEXPREC*, SEXPREC*)’:
planar.cpp:461: warning: unused variable ‘i’
llvm-g++-4.2 -arch x86_64 -I/Library/Frameworks/R.framework/Resources/include -DNDEBUG -I/usr/local/include -Irbgl_trimmed_boost_1_49_0 -fPIC -mtune=core2 -g -O2 -Wall -c shortestPath.cpp -o shortestPath.o
llvm-g++-4.2 -arch x86_64 -I/Library/Frameworks/R.framework/Resources/include -DNDEBUG -I/usr/local/include -Irbgl_trimmed_boost_1_49_0 -fPIC -mtune=core2 -g -O2 -Wall -c sna.cpp -o sna.o
llvm-g++-4.2 -arch x86_64 -I/Library/Frameworks/R.framework/Resources/include -DNDEBUG -I/usr/local/include -Irbgl_trimmed_boost_1_49_0 -fPIC -mtune=core2 -g -O2 -Wall -c transitive_closure.cpp -o transitive_closure.o
llvm-g++-4.2 -arch x86_64 -I/Library/Frameworks/R.framework/Resources/include -DNDEBUG -I/usr/local/include -Irbgl_trimmed_boost_1_49_0 -fPIC -mtune=core2 -g -O2 -Wall -c wavefront.cpp -o wavefront.o
llvm-g++-4.2 -arch x86_64 -dynamiclib -Wl,-headerpad_max_install_names -undefined dynamic_lookup -single_module -multiply_defined suppress -L/Library/Frameworks/R.framework/Resources/lib -L/usr/local/lib -L/usr/local/lib -o RBGL.so bbc.o cliques.o clusteringCoef.o dominatorTree.o edmonds_optimum_branching.o hcs.o incrConnComp.o interfaces.o minST.o mincut.o ordering.o planar.o shortestPath.o sna.o transitive_closure.o wavefront.o -F/Library/Frameworks/R.framework/.. -framework R -Wl,-framework -Wl,CoreFoundation
installing to /Users/biocbuild/bbs-3.2-bioc/meat/RBGL.Rcheck/RBGL/libs
** R
** data
** inst
** preparing package for lazy loading
** help
*** installing help indices
** building package indices
** installing vignettes
** testing if installed package can be loaded
* DONE (RBGL)