GSVA 1.18.0 Justin Guinney
Snapshot Date: 2016-04-22 16:20:12 -0700 (Fri, 22 Apr 2016) | URL: https://hedgehog.fhcrc.org/bioconductor/branches/RELEASE_3_2/madman/Rpacks/GSVA | Last Changed Rev: 109589 / Revision: 116712 | Last Changed Date: 2015-10-13 12:36:05 -0700 (Tue, 13 Oct 2015) |
| zin1 | Linux (Ubuntu 14.04.2 LTS) / x86_64 | OK | OK | OK | | ![UNNEEDED, same version exists in internal repository UNNEEDED, same version exists in internal repository](../120px-Blue_Light_Icon.svg.png) |
moscato1 | Windows Server 2008 R2 Standard (64-bit) / x64 | [ OK ] | OK | OK | OK | ![UNNEEDED, same version exists in internal repository UNNEEDED, same version exists in internal repository](../120px-Blue_Light_Icon.svg.png) |
oaxaca | Mac OS X Mavericks (10.9.5) / x86_64 | OK | OK | OK | OK | ![UNNEEDED, same version exists in internal repository UNNEEDED, same version exists in internal repository](../120px-Blue_Light_Icon.svg.png) |
##############################################################################
##############################################################################
###
### Running command:
###
### rm -rf GSVA.buildbin-libdir && mkdir GSVA.buildbin-libdir && C:\cygwin\bin\curl.exe -O http://zin1/BBS/3.2/bioc/src/contrib/GSVA_1.18.0.tar.gz && D:\biocbld\bbs-3.2-bioc\R\bin\R.exe CMD INSTALL --build --library=GSVA.buildbin-libdir --merge-multiarch GSVA_1.18.0.tar.gz && D:\biocbld\bbs-3.2-bioc\R\bin\R.exe CMD INSTALL GSVA_1.18.0.zip && rm GSVA_1.18.0.tar.gz GSVA_1.18.0.zip
###
##############################################################################
##############################################################################
% Total % Received % Xferd Average Speed Time Time Time Current
Dload Upload Total Spent Left Speed
0 0 0 0 0 0 0 0 --:--:-- --:--:-- --:--:-- 0
100 816k 100 816k 0 0 30.4M 0 --:--:-- --:--:-- --:--:-- 37.9M
install for i386
* installing *source* package 'GSVA' ...
** libs
gcc -m32 -I"D:/biocbld/BBS-3˜1.2-B/R/include" -DNDEBUG -I"d:/RCompile/r-compiling/local/local323/include" -O3 -Wall -std=gnu99 -mtune=core2 -c kernel_estimation.c -o kernel_estimation.o
gcc -m32 -I"D:/biocbld/BBS-3˜1.2-B/R/include" -DNDEBUG -I"d:/RCompile/r-compiling/local/local323/include" -O3 -Wall -std=gnu99 -mtune=core2 -c ks_test.c -o ks_test.o
ks_test.c: In function 'ks_sample':
ks_test.c:22:9: warning: unused variable 'mx_value' [-Wunused-variable]
gcc -m32 -I"D:/biocbld/BBS-3˜1.2-B/R/include" -DNDEBUG -I"d:/RCompile/r-compiling/local/local323/include" -O3 -Wall -std=gnu99 -mtune=core2 -c register_cmethods.c -o register_cmethods.o
gcc -m32 -shared -s -static-libgcc -o GSVA.dll tmp.def kernel_estimation.o ks_test.o register_cmethods.o -Ld:/RCompile/r-compiling/local/local323/lib/i386 -Ld:/RCompile/r-compiling/local/local323/lib -LD:/biocbld/BBS-3˜1.2-B/R/bin/i386 -lR
installing to D:/biocbld/bbs-3.2-bioc/meat/GSVA.buildbin-libdir/GSVA/libs/i386
** R
** inst
** preparing package for lazy loading
** help
*** installing help indices
** building package indices
** installing vignettes
** testing if installed package can be loaded
install for x64
* installing *source* package 'GSVA' ...
** libs
gcc -m64 -I"D:/biocbld/BBS-3˜1.2-B/R/include" -DNDEBUG -I"d:/RCompile/r-compiling/local/local323/include" -O2 -Wall -std=gnu99 -mtune=core2 -c kernel_estimation.c -o kernel_estimation.o
gcc -m64 -I"D:/biocbld/BBS-3˜1.2-B/R/include" -DNDEBUG -I"d:/RCompile/r-compiling/local/local323/include" -O2 -Wall -std=gnu99 -mtune=core2 -c ks_test.c -o ks_test.o
ks_test.c: In function 'ks_sample':
ks_test.c:22:9: warning: unused variable 'mx_value' [-Wunused-variable]
gcc -m64 -I"D:/biocbld/BBS-3˜1.2-B/R/include" -DNDEBUG -I"d:/RCompile/r-compiling/local/local323/include" -O2 -Wall -std=gnu99 -mtune=core2 -c register_cmethods.c -o register_cmethods.o
gcc -m64 -shared -s -static-libgcc -o GSVA.dll tmp.def kernel_estimation.o ks_test.o register_cmethods.o -Ld:/RCompile/r-compiling/local/local323/lib/x64 -Ld:/RCompile/r-compiling/local/local323/lib -LD:/biocbld/BBS-3˜1.2-B/R/bin/x64 -lR
installing to D:/biocbld/bbs-3.2-bioc/meat/GSVA.buildbin-libdir/GSVA/libs/x64
** testing if installed package can be loaded
* MD5 sums
packaged installation of 'GSVA' as GSVA_1.18.0.zip
* DONE (GSVA)
* installing to library 'D:/biocbld/bbs-3.2-bioc/R/library'
package 'GSVA' successfully unpacked and MD5 sums checked