CGHcall 2.32.0 Mark van de Wiel
Snapshot Date: 2016-04-22 16:20:12 -0700 (Fri, 22 Apr 2016) | URL: https://hedgehog.fhcrc.org/bioconductor/branches/RELEASE_3_2/madman/Rpacks/CGHcall | Last Changed Rev: 109589 / Revision: 116712 | Last Changed Date: 2015-10-13 12:36:05 -0700 (Tue, 13 Oct 2015) |
| zin1 | Linux (Ubuntu 14.04.2 LTS) / x86_64 | OK | OK | OK | | ![UNNEEDED, same version exists in internal repository UNNEEDED, same version exists in internal repository](../120px-Blue_Light_Icon.svg.png) |
moscato1 | Windows Server 2008 R2 Standard (64-bit) / x64 | OK | OK | OK | [ OK ] | ![UNNEEDED, same version exists in internal repository UNNEEDED, same version exists in internal repository](../120px-Blue_Light_Icon.svg.png) |
oaxaca | Mac OS X Mavericks (10.9.5) / x86_64 | OK | OK | OK | OK | ![UNNEEDED, same version exists in internal repository UNNEEDED, same version exists in internal repository](../120px-Blue_Light_Icon.svg.png) |
##############################################################################
##############################################################################
###
### Running command:
###
### cd CGHcall.buildbin-libdir/CGHcall && zip -r ../../CGHcall_2.32.0.zip . & cd ../..
###
##############################################################################
##############################################################################
adding: data/ (208 bytes security) (stored 0%)
adding: data/Wilting.txt (188 bytes security) (deflated 57%)
adding: DESCRIPTION (188 bytes security) (deflated 37%)
adding: doc/ (208 bytes security) (stored 0%)
adding: doc/CGHcall.pdf (188 bytes security) (deflated 12%)
adding: doc/CGHcall.R (188 bytes security) (deflated 79%)
adding: doc/CGHcall.Rnw (188 bytes security) (deflated 59%)
adding: doc/index.html (188 bytes security) (deflated 58%)
adding: help/ (208 bytes security) (stored 0%)
adding: help/aliases.rds (188 bytes security) (stored 0%)
adding: help/AnIndex (188 bytes security) (deflated 49%)
adding: help/CGHcall.rdb (188 bytes security) (deflated 1%)
adding: help/CGHcall.rdx (188 bytes security) (stored 0%)
adding: help/paths.rds (188 bytes security) (stored 0%)
adding: html/ (208 bytes security) (stored 0%)
adding: html/00Index.html (188 bytes security) (deflated 64%)
adding: html/R.css (188 bytes security) (deflated 75%)
adding: INDEX (188 bytes security) (deflated 61%)
adding: MD5 (188 bytes security) (deflated 42%)
adding: Meta/ (208 bytes security) (stored 0%)
adding: Meta/data.rds (188 bytes security) (stored 0%)
adding: Meta/hsearch.rds (188 bytes security) (stored 0%)
adding: Meta/links.rds (188 bytes security) (stored 0%)
adding: Meta/nsInfo.rds (188 bytes security) (stored 0%)
adding: Meta/package.rds (188 bytes security) (stored 0%)
adding: Meta/Rd.rds (188 bytes security) (stored 0%)
adding: Meta/vignette.rds (188 bytes security) (stored 0%)
adding: NAMESPACE (188 bytes security) (deflated 29%)
adding: R/ (208 bytes security) (stored 0%)
adding: R/CGHcall (188 bytes security) (deflated 41%)
adding: R/CGHcall.rdb (188 bytes security) (deflated 3%)
adding: R/CGHcall.rdx (188 bytes security) (stored 0%)