Back to Build/check report for BioC 3.19 experimental data
ABCDEFGHIJKLMNO[P]QRSTUVWXYZ

This page was generated on 2024-10-17 14:51 -0400 (Thu, 17 Oct 2024).

HostnameOSArch (*)R versionInstalled pkgs
nebbiolo1Linux (Ubuntu 22.04.3 LTS)x86_644.4.1 (2024-06-14) -- "Race for Your Life" 4763
Click on any hostname to see more info about the system (e.g. compilers)      (*) as reported by 'uname -p', except on Windows and Mac OS X

Package 298/430HostnameOS / ArchINSTALLBUILDCHECK
pRolocdata 1.42.0  (landing page)
Laurent Gatto
Snapshot Date: 2024-10-17 07:30 -0400 (Thu, 17 Oct 2024)
git_url: https://git.bioconductor.org/packages/pRolocdata
git_branch: RELEASE_3_19
git_last_commit: 4de5304
git_last_commit_date: 2024-04-30 10:38:04 -0400 (Tue, 30 Apr 2024)
nebbiolo1Linux (Ubuntu 22.04.3 LTS) / x86_64  OK    OK    OK  UNNEEDED, same version is already published


CHECK results for pRolocdata on nebbiolo1

To the developers/maintainers of the pRolocdata package:
- Use the following Renviron settings to reproduce errors and warnings.
- If 'R CMD check' started to fail recently on the Linux builder(s) over a missing dependency, add the missing dependency to 'Suggests:' in your DESCRIPTION file. See Renviron.bioc for more information.

raw results


Summary

Package: pRolocdata
Version: 1.42.0
Command: /home/biocbuild/bbs-3.19-bioc/R/bin/R CMD check --install=check:pRolocdata.install-out.txt --library=/home/biocbuild/bbs-3.19-bioc/R/site-library --timings pRolocdata_1.42.0.tar.gz
StartedAt: 2024-10-17 11:54:22 -0400 (Thu, 17 Oct 2024)
EndedAt: 2024-10-17 12:02:33 -0400 (Thu, 17 Oct 2024)
EllapsedTime: 491.7 seconds
RetCode: 0
Status:   OK  
CheckDir: pRolocdata.Rcheck
Warnings: 0

Command output

##############################################################################
##############################################################################
###
### Running command:
###
###   /home/biocbuild/bbs-3.19-bioc/R/bin/R CMD check --install=check:pRolocdata.install-out.txt --library=/home/biocbuild/bbs-3.19-bioc/R/site-library --timings pRolocdata_1.42.0.tar.gz
###
##############################################################################
##############################################################################


* using log directory ‘/home/biocbuild/bbs-3.19-data-experiment/meat/pRolocdata.Rcheck’
* using R version 4.4.1 (2024-06-14)
* using platform: x86_64-pc-linux-gnu
* R was compiled by
    gcc (Ubuntu 11.4.0-1ubuntu1~22.04) 11.4.0
    GNU Fortran (Ubuntu 11.4.0-1ubuntu1~22.04) 11.4.0
* running under: Ubuntu 22.04.5 LTS
* using session charset: UTF-8
* checking for file ‘pRolocdata/DESCRIPTION’ ... OK
* checking extension type ... Package
* this is package ‘pRolocdata’ version ‘1.42.0’
* package encoding: UTF-8
* checking package namespace information ... OK
* checking package dependencies ... OK
* checking if this is a source package ... OK
* checking if there is a namespace ... OK
* checking for hidden files and directories ... OK
* checking for portable file names ... OK
* checking for sufficient/correct file permissions ... OK
* checking whether package ‘pRolocdata’ can be installed ... OK
* checking installed package size ... NOTE
  installed size is 554.7Mb
  sub-directories of 1Mb or more:
    data     191.4Mb
    extdata  362.9Mb
* checking package directory ... OK
* checking DESCRIPTION meta-information ... OK
* checking top-level files ... OK
* checking for left-over files ... OK
* checking index information ... OK
* checking package subdirectories ... OK
* checking code files for non-ASCII characters ... OK
* checking R files for syntax errors ... OK
* checking whether the package can be loaded ... OK
* checking whether the package can be loaded with stated dependencies ... OK
* checking whether the package can be unloaded cleanly ... OK
* checking whether the namespace can be loaded with stated dependencies ... OK
* checking whether the namespace can be unloaded cleanly ... OK
* checking loading without being on the library search path ... OK
* checking whether startup messages can be suppressed ... OK
* checking dependencies in R code ... OK
* checking S3 generic/method consistency ... OK
* checking replacement functions ... OK
* checking foreign function calls ... OK
* checking R code for possible problems ... OK
* checking Rd files ... NOTE
checkRd: (-1) thpLOPIT2021.Rd:82: Lost braces
    82 |   PSM-level csv files are available in the code{extdata} directory
       |                                                ^
checkRd: (-1) thpTimecourse2021.Rd:52: Lost braces
    52 |   code{extdata} directory and have been imported as 
       |       ^
* checking Rd metadata ... OK
* checking Rd cross-references ... OK
* checking for missing documentation entries ... OK
* checking for code/documentation mismatches ... OK
* checking Rd \usage sections ... OK
* checking Rd contents ... OK
* checking for unstated dependencies in examples ... OK
* checking contents of ‘data’ directory ... OK
* checking data for non-ASCII characters ... NOTE
  Note: found 24 marked UTF-8 strings
* checking data for ASCII and uncompressed saves ... OK
* checking examples ... OK
Examples with CPU (user + system) or elapsed time > 5s
                 user system elapsed
thpLOPIT2021   12.910  0.480  13.389
krahmer2018pcp 10.522  0.672  11.194
Shin2020        4.703  0.331   5.043
* checking for unstated dependencies in ‘tests’ ... OK
* checking tests ...
  Running ‘testthat.R’
 OK
* checking PDF version of manual ... OK
* DONE

Status: 3 NOTEs
See
  ‘/home/biocbuild/bbs-3.19-data-experiment/meat/pRolocdata.Rcheck/00check.log’
for details.


Installation output

pRolocdata.Rcheck/00install.out

##############################################################################
##############################################################################
###
### Running command:
###
###   /home/biocbuild/bbs-3.19-bioc/R/bin/R CMD INSTALL pRolocdata
###
##############################################################################
##############################################################################


* installing to library ‘/home/biocbuild/bbs-3.19-bioc/R/site-library’
* installing *source* package ‘pRolocdata’ ...
** using staged installation
** R
** data
** inst
** byte-compile and prepare package for lazy loading
** help
*** installing help indices
** building package indices
** testing if installed package can be loaded from temporary location
** testing if installed package can be loaded from final location
** testing if installed package keeps a record of temporary installation path
* DONE (pRolocdata)

Tests output

pRolocdata.Rcheck/tests/testthat.Rout


R version 4.4.1 (2024-06-14) -- "Race for Your Life"
Copyright (C) 2024 The R Foundation for Statistical Computing
Platform: x86_64-pc-linux-gnu

R is free software and comes with ABSOLUTELY NO WARRANTY.
You are welcome to redistribute it under certain conditions.
Type 'license()' or 'licence()' for distribution details.

R is a collaborative project with many contributors.
Type 'contributors()' for more information and
'citation()' on how to cite R or R packages in publications.

Type 'demo()' for some demos, 'help()' for on-line help, or
'help.start()' for an HTML browser interface to help.
Type 'q()' to quit R.

> # setting R_TESTS to empty string because of 
> # https://github.com/hadley/testthat/issues/144
> # revert this when that issue in R is fixed.
> Sys.setenv("R_TESTS" = "")
> library(testthat)
> library(MSnbase)
Loading required package: BiocGenerics

Attaching package: 'BiocGenerics'

The following objects are masked from 'package:stats':

    IQR, mad, sd, var, xtabs

The following objects are masked from 'package:base':

    Filter, Find, Map, Position, Reduce, anyDuplicated, aperm, append,
    as.data.frame, basename, cbind, colnames, dirname, do.call,
    duplicated, eval, evalq, get, grep, grepl, intersect, is.unsorted,
    lapply, mapply, match, mget, order, paste, pmax, pmax.int, pmin,
    pmin.int, rank, rbind, rownames, sapply, setdiff, table, tapply,
    union, unique, unsplit, which.max, which.min

Loading required package: Biobase
Welcome to Bioconductor

    Vignettes contain introductory material; view with
    'browseVignettes()'. To cite Bioconductor, see
    'citation("Biobase")', and for packages 'citation("pkgname")'.

Loading required package: mzR
Loading required package: Rcpp
Loading required package: S4Vectors
Loading required package: stats4

Attaching package: 'S4Vectors'

The following object is masked from 'package:utils':

    findMatches

The following objects are masked from 'package:base':

    I, expand.grid, unname

Loading required package: ProtGenerics

Attaching package: 'ProtGenerics'

The following object is masked from 'package:stats':

    smooth


This is MSnbase version 2.30.1 
  Visit https://lgatto.github.io/MSnbase/ to get started.
 Consider switching to the 'R for Mass Spectrometry'
 packages - see https://RforMassSpectrometry.org for details.


Attaching package: 'MSnbase'

The following object is masked from 'package:base':

    trimws

> library(pRolocdata)

This is pRolocdata version 1.42.0.
Use 'pRolocdata()' to list available data sets.
> 
> test_check("pRolocdata")
[ FAIL 0 | WARN 0 | SKIP 0 | PASS 144 ]
> 
> proc.time()
   user  system elapsed 
 43.869   1.868  45.728 

Example timings

pRolocdata.Rcheck/pRolocdata-Ex.timings

nameusersystemelapsed
E14TG2a0.0320.0000.032
Shin20204.7030.3315.043
ToxoLopit0.5530.0280.582
andreyev20100.6190.0200.639
andy20110.0590.0040.063
at_chloro0.1270.0040.132
baers20180.3640.0160.380
beltran20160.5780.0200.599
courtland20200.6010.0400.641
davies20180.3580.0080.366
dunkley20060.0050.0080.013
fabre20150.2670.0160.283
foster20060.0280.0040.032
groen20141.0670.2031.271
hall20090.1640.0120.176
havugimana20120.1240.0060.130
hirst20180.5000.0140.515
hyperLOPIT20154.2090.3844.593
hyperLOPITU2OS20171.4430.0361.479
itzhak2016stcSILAC0.6440.0160.660
itzhak20171.7900.0961.886
itzhak2017dynamic1.2950.0201.315
kirkwood20130.0580.0080.066
kozik20200.2030.0160.219
krahmer2018pcp10.522 0.67211.194
kristensen20120.0250.0000.025
lopimsSyn20.6460.0120.658
moloney20230.7680.0320.799
mulvey20152.2980.1012.399
nikolovski20120.3100.0080.318
nikolovski20140.3570.0120.369
orre20190.4250.0080.433
pRolocdata0.0150.0000.016
pRolocmetadata0.0140.0000.015
rodriguez2012r10.6430.0080.651
stekhoven20140.2090.0160.225
tan20090.0180.0000.018
thpLOPIT202112.910 0.48013.389
thpTimecourse20210.1500.0000.151
trotter20100.3620.0000.362
yeast0.3580.0200.378