Back to Mac ARM64 build report for BioC 3.16 |
|
This page was generated on 2023-04-19 11:01:50 -0400 (Wed, 19 Apr 2023).
Hostname | OS | Arch (*) | R version | Installed pkgs |
---|---|---|---|---|
kjohnson | macOS 13.0 Ventura | arm64 | 4.2.2 (2022-10-31) -- "Innocent and Trusting" | 4256 |
Click on any hostname to see more info about the system (e.g. compilers) (*) as reported by 'uname -p', except on Windows and Mac OS X |
To the developers/maintainers of the pcaMethods package: Make sure to use the following settings in order to reproduce any error or warning you see on this page. |
Package 1450/2183 | Hostname | OS / Arch | INSTALL | BUILD | BUILD BIN | ||||||||
pcaMethods 1.90.0 (landing page) Henning Redestig
| kjohnson | macOS 13.0 Ventura / arm64 | OK | OK | OK | ![]() | |||||||
QUICK STATS | OS / Arch | INSTALL | BUILD | BUILD BIN | |||||||||||||
kjohnson | macOS 13.0 Ventura / arm64 |
|
|
| |||||||||||||
Package 1/15 | Hostname | OS / Arch | INSTALL | BUILD | BUILD BIN | ||||||||||||
autonomics 1.6.0 (landing page) Aditya Bhagwat
| kjohnson | macOS 13.0 Ventura / arm64 | OK | OK | OK | ![]() | |||||||||||
Package 2/15 | Hostname | OS / Arch | INSTALL | BUILD | BUILD BIN | ||||||||||||
consensusDE 1.16.0 (landing page) Ashley J. Waardenberg
| kjohnson | macOS 13.0 Ventura / arm64 | OK | OK | OK | ![]() | |||||||||||
Package 3/15 | Hostname | OS / Arch | INSTALL | BUILD | BUILD BIN | ||||||||||||
DeconRNASeq 1.40.0 (landing page) Ting Gong
| kjohnson | macOS 13.0 Ventura / arm64 | OK | OK | OK | ![]() | |||||||||||
Package 4/15 | Hostname | OS / Arch | INSTALL | BUILD | BUILD BIN | ||||||||||||
destiny 3.12.0 (landing page) Philipp Angerer
| kjohnson | macOS 13.0 Ventura / arm64 | OK | OK | OK | ![]() | |||||||||||
Package 5/15 | Hostname | OS / Arch | INSTALL | BUILD | BUILD BIN | ||||||||||||
FRASER 1.10.2 (landing page) Christian Mertes
| kjohnson | macOS 13.0 Ventura / arm64 | OK | OK | OK | ![]() | |||||||||||
Package 6/15 | Hostname | OS / Arch | INSTALL | BUILD | BUILD BIN | ||||||||||||
MAI 1.4.0 (landing page) Jonathan Dekermanjian
| kjohnson | macOS 13.0 Ventura / arm64 | OK | OK | OK | ![]() | |||||||||||
Package 7/15 | Hostname | OS / Arch | INSTALL | BUILD | BUILD BIN | ||||||||||||
MatrixQCvis 1.6.1 (landing page) Thomas Naake
| kjohnson | macOS 13.0 Ventura / arm64 | OK | OK | OK | ![]() | |||||||||||
Package 8/15 | Hostname | OS / Arch | INSTALL | BUILD | BUILD BIN | ||||||||||||
MSnbase 2.24.2 (landing page) Laurent Gatto
| kjohnson | macOS 13.0 Ventura / arm64 | OK | OK | OK | ![]() | |||||||||||
Package 9/15 | Hostname | OS / Arch | INSTALL | BUILD | BUILD BIN | ||||||||||||
MSPrep 1.8.0 (landing page) Max McGrath
| kjohnson | macOS 13.0 Ventura / arm64 | OK | OK | OK | ![]() | |||||||||||
Package 10/15 | Hostname | OS / Arch | INSTALL | BUILD | BUILD BIN | ||||||||||||
MultiBaC 1.8.0 (landing page) The package maintainer
| kjohnson | macOS 13.0 Ventura / arm64 | OK | OK | OK | ![]() | |||||||||||
Package 11/15 | Hostname | OS / Arch | INSTALL | BUILD | BUILD BIN | ||||||||||||
OUTRIDER 1.16.3 (landing page) Christian Mertes
| kjohnson | macOS 13.0 Ventura / arm64 | OK | TIMEOUT | skipped | ||||||||||||
Package 12/15 | Hostname | OS / Arch | INSTALL | BUILD | BUILD BIN | ||||||||||||
PhosR 1.8.0 (landing page) Taiyun Kim
| kjohnson | macOS 13.0 Ventura / arm64 | OK | OK | OK | ![]() | |||||||||||
Package 13/15 | Hostname | OS / Arch | INSTALL | BUILD | BUILD BIN | ||||||||||||
pmp 1.10.0 (landing page) Gavin Rhys Lloyd
| kjohnson | macOS 13.0 Ventura / arm64 | OK | OK | OK | ![]() | |||||||||||
Package 14/15 | Hostname | OS / Arch | INSTALL | BUILD | BUILD BIN | ||||||||||||
scde 2.26.2 (landing page) Jean Fan
| kjohnson | macOS 13.0 Ventura / arm64 | OK | OK | OK | ![]() | |||||||||||
Package 15/15 | Hostname | OS / Arch | INSTALL | BUILD | BUILD BIN | ||||||||||||
SomaticSignatures 2.34.0 (landing page) Julian Gehring
| kjohnson | macOS 13.0 Ventura / arm64 | OK | OK | OK | ![]() | |||||||||||