Back to Mac ARM64 build report for BioC 3.16 |
|
This page was generated on 2023-04-19 11:01:56 -0400 (Wed, 19 Apr 2023).
Hostname | OS | Arch (*) | R version | Installed pkgs |
---|---|---|---|---|
kjohnson | macOS 13.0 Ventura | arm64 | 4.2.2 (2022-10-31) -- "Innocent and Trusting" | 4256 |
Click on any hostname to see more info about the system (e.g. compilers) (*) as reported by 'uname -p', except on Windows and Mac OS X |
To the developers/maintainers of the MSnbase package: Make sure to use the following settings in order to reproduce any error or warning you see on this page. |
Package 1278/2183 | Hostname | OS / Arch | INSTALL | BUILD | BUILD BIN | ||||||||
MSnbase 2.24.2 (landing page) Laurent Gatto
| kjohnson | macOS 13.0 Ventura / arm64 | OK | OK | OK | ![]() | |||||||
Package: MSnbase |
Version: 2.24.2 |
Command: rm -rf MSnbase.buildbin-libdir && mkdir MSnbase.buildbin-libdir && /Users/biocbuild/BBS/utils/build-universal.sh MSnbase_2.24.2.tar.gz /Library/Frameworks/R.framework/Resources/bin/R MSnbase.buildbin-libdir |
StartedAt: 2023-04-18 17:36:49 -0400 (Tue, 18 Apr 2023) |
EndedAt: 2023-04-18 17:38:40 -0400 (Tue, 18 Apr 2023) |
EllapsedTime: 111.1 seconds |
RetCode: 0 |
Status: OK |
PackageFile: MSnbase_2.24.2.tgz |
PackageFileSize: 7.938 MiB |
############################################################################## ############################################################################## ### ### Running command: ### ### rm -rf MSnbase.buildbin-libdir && mkdir MSnbase.buildbin-libdir && /Users/biocbuild/BBS/utils/build-universal.sh MSnbase_2.24.2.tar.gz /Library/Frameworks/R.framework/Resources/bin/R MSnbase.buildbin-libdir ### ############################################################################## ############################################################################## >>>>>>> >>>>>>> INSTALLATION WITH 'R CMD INSTALL --preclean --no-multiarch --library=MSnbase.buildbin-libdir MSnbase_2.24.2.tar.gz' >>>>>>> * installing *source* package ‘MSnbase’ ... ** using staged installation ** libs clang++ -arch arm64 -std=gnu++14 -I"/Library/Frameworks/R.framework/Resources/include" -DNDEBUG -I'/Library/Frameworks/R.framework/Versions/4.2-arm64/Resources/library/Rcpp/include' -I/opt/R/arm64/include -fPIC -falign-functions=64 -Wall -g -O2 -c RcppExports.cpp -o RcppExports.o In file included from RcppExports.cpp:4: In file included from /Library/Frameworks/R.framework/Versions/4.2-arm64/Resources/library/Rcpp/include/Rcpp.h:27: In file included from /Library/Frameworks/R.framework/Versions/4.2-arm64/Resources/library/Rcpp/include/RcppCommon.h:168: /Library/Frameworks/R.framework/Versions/4.2-arm64/Resources/library/Rcpp/include/Rcpp/internal/r_coerce.h:255:7: warning: 'sprintf' is deprecated: This function is provided for compatibility reasons only. Due to security concerns inherent in the design of sprintf(3), it is highly recommended that you use snprintf(3) instead. [-Wdeprecated-declarations] ::sprintf(buff, "%02x", from); ^ /Library/Developer/CommandLineTools/SDKs/MacOSX.sdk/usr/include/stdio.h:188:1: note: 'sprintf' has been explicitly marked deprecated here __deprecated_msg("This function is provided for compatibility reasons only. Due to security concerns inherent in the design of sprintf(3), it is highly recommended that you use snprintf(3) instead.") ^ /Library/Developer/CommandLineTools/SDKs/MacOSX.sdk/usr/include/sys/cdefs.h:215:48: note: expanded from macro '__deprecated_msg' #define __deprecated_msg(_msg) __attribute__((__deprecated__(_msg))) ^ 1 warning generated. clang -arch arm64 -I"/Library/Frameworks/R.framework/Resources/include" -DNDEBUG -I'/Library/Frameworks/R.framework/Versions/4.2-arm64/Resources/library/Rcpp/include' -I/opt/R/arm64/include -fPIC -falign-functions=64 -Wall -g -O2 -c Spectrum1_class.c -o Spectrum1_class.o Spectrum1_class.c:8:13: warning: unused function '_new_Spectrum1' [-Wunused-function] static SEXP _new_Spectrum1(SEXP msLevel, SEXP peaksCount, SEXP rt, ^ 1 warning generated. clang -arch arm64 -I"/Library/Frameworks/R.framework/Resources/include" -DNDEBUG -I'/Library/Frameworks/R.framework/Versions/4.2-arm64/Resources/library/Rcpp/include' -I/opt/R/arm64/include -fPIC -falign-functions=64 -Wall -g -O2 -c Spectrum2_class.c -o Spectrum2_class.o Spectrum2_class.c:9:13: warning: unused function '_new_Spectrum2' [-Wunused-function] static SEXP _new_Spectrum2(SEXP msLevel, SEXP peaksCount, SEXP rt, ^ 1 warning generated. clang++ -arch arm64 -std=gnu++14 -I"/Library/Frameworks/R.framework/Resources/include" -DNDEBUG -I'/Library/Frameworks/R.framework/Versions/4.2-arm64/Resources/library/Rcpp/include' -I/opt/R/arm64/include -fPIC -falign-functions=64 -Wall -g -O2 -c imp_neighbour_avg.cpp -o imp_neighbour_avg.o In file included from imp_neighbour_avg.cpp:1: In file included from /Library/Frameworks/R.framework/Versions/4.2-arm64/Resources/library/Rcpp/include/Rcpp.h:27: In file included from /Library/Frameworks/R.framework/Versions/4.2-arm64/Resources/library/Rcpp/include/RcppCommon.h:168: /Library/Frameworks/R.framework/Versions/4.2-arm64/Resources/library/Rcpp/include/Rcpp/internal/r_coerce.h:255:7: warning: 'sprintf' is deprecated: This function is provided for compatibility reasons only. Due to security concerns inherent in the design of sprintf(3), it is highly recommended that you use snprintf(3) instead. [-Wdeprecated-declarations] ::sprintf(buff, "%02x", from); ^ /Library/Developer/CommandLineTools/SDKs/MacOSX.sdk/usr/include/stdio.h:188:1: note: 'sprintf' has been explicitly marked deprecated here __deprecated_msg("This function is provided for compatibility reasons only. Due to security concerns inherent in the design of sprintf(3), it is highly recommended that you use snprintf(3) instead.") ^ /Library/Developer/CommandLineTools/SDKs/MacOSX.sdk/usr/include/sys/cdefs.h:215:48: note: expanded from macro '__deprecated_msg' #define __deprecated_msg(_msg) __attribute__((__deprecated__(_msg))) ^ 1 warning generated. clang -arch arm64 -I"/Library/Frameworks/R.framework/Resources/include" -DNDEBUG -I'/Library/Frameworks/R.framework/Versions/4.2-arm64/Resources/library/Rcpp/include' -I/opt/R/arm64/include -fPIC -falign-functions=64 -Wall -g -O2 -c utils.c -o utils.o utils.c:92:15: warning: unused variable 'ret' [-Wunused-variable] int i1, i2, ret; ^ utils.c:107:15: warning: unused variable 'ret' [-Wunused-variable] int i1, i2, ret; ^ utils.c:123:18: warning: unused variable 'ret' [-Wunused-variable] double d1, d2, ret; ^ utils.c:133:18: warning: unused variable 'ret' [-Wunused-variable] double d1, d2, ret; ^ utils.c:121:12: warning: unused function 'compar_double_asc_order' [-Wunused-function] static int compar_double_asc_order(const void *p1, const void *p2) ^ utils.c:131:12: warning: unused function 'compar_double_desc_order' [-Wunused-function] static int compar_double_desc_order(const void *p1, const void *p2) ^ 6 warnings generated. clang++ -arch arm64 -std=gnu++14 -dynamiclib -Wl,-headerpad_max_install_names -undefined dynamic_lookup -single_module -multiply_defined suppress -L/Library/Frameworks/R.framework/Resources/lib -L/opt/R/arm64/lib -o MSnbase.so RcppExports.o Spectrum1_class.o Spectrum2_class.o imp_neighbour_avg.o utils.o -F/Library/Frameworks/R.framework/.. -framework R -Wl,-framework -Wl,CoreFoundation ld: warning: -undefined dynamic_lookup may not work with chained fixups installing to /Volumes/External/bbs-3.16-bioc-m1/meat/MSnbase.buildbin-libdir/00LOCK-MSnbase/00new/MSnbase/libs ** R ** data *** moving datasets to lazyload DB Creating a new generic function for ‘trimws’ in package ‘MSnbase’ in method for ‘coerce’ with signature ‘"MSnSet","SummarizedExperiment"’: no definition for class “SummarizedExperiment” in method for ‘coerce’ with signature ‘"SummarizedExperiment","MSnSet"’: no definition for class “SummarizedExperiment” in method for ‘coerce’ with signature ‘"IBSpectra","MSnSet"’: no definition for class “IBSpectra” in method for ‘plotMzDelta’ with signature ‘"mzRramp"’: no definition for class “mzRramp” ** inst ** byte-compile and prepare package for lazy loading Creating a new generic function for ‘trimws’ in package ‘MSnbase’ in method for ‘coerce’ with signature ‘"MSnSet","SummarizedExperiment"’: no definition for class “SummarizedExperiment” in method for ‘coerce’ with signature ‘"SummarizedExperiment","MSnSet"’: no definition for class “SummarizedExperiment” in method for ‘coerce’ with signature ‘"IBSpectra","MSnSet"’: no definition for class “IBSpectra” in method for ‘plotMzDelta’ with signature ‘"mzRramp"’: no definition for class “mzRramp” ** help *** installing help indices ** building package indices ** installing vignettes ** testing if installed package can be loaded from temporary location ** checking absolute paths in shared objects and dynamic libraries ** testing if installed package can be loaded from final location ** testing if installed package keeps a record of temporary installation path * DONE (MSnbase) >>>>>>> >>>>>>> FIXING LINKS FOR MSnbase.buildbin-libdir/MSnbase/libs/MSnbase.so >>>>>>> install_name_tool -change "/opt/R/arm64/lib/libgcc_s.1.1.dylib" "/Library/Frameworks/R.framework/Versions/4.2-arm64/Resources/lib/libgcc_s.1.1.dylib" "MSnbase.buildbin-libdir/MSnbase/libs/MSnbase.so" install_name_tool -change "/opt/R/arm64/lib/libgfortran.5.dylib" "/Library/Frameworks/R.framework/Versions/4.2-arm64/Resources/lib/libgfortran.5.dylib" "MSnbase.buildbin-libdir/MSnbase/libs/MSnbase.so" install_name_tool -change "/opt/R/arm64/lib/libquadmath.0.dylib" "/Library/Frameworks/R.framework/Versions/4.2-arm64/Resources/lib/libquadmath.0.dylib" "MSnbase.buildbin-libdir/MSnbase/libs/MSnbase.so"