Back to Mac ARM64 build report for BioC 3.16 |
|
This page was generated on 2023-04-19 11:01:53 -0400 (Wed, 19 Apr 2023).
Hostname | OS | Arch (*) | R version | Installed pkgs |
---|---|---|---|---|
kjohnson | macOS 13.0 Ventura | arm64 | 4.2.2 (2022-10-31) -- "Innocent and Trusting" | 4256 |
Click on any hostname to see more info about the system (e.g. compilers) (*) as reported by 'uname -p', except on Windows and Mac OS X |
To the developers/maintainers of the ChIPseqR package: Make sure to use the following settings in order to reproduce any error or warning you see on this page. |
Package 317/2183 | Hostname | OS / Arch | INSTALL | BUILD | BUILD BIN | ||||||||
ChIPseqR 1.52.0 (landing page) Peter Humburg
| kjohnson | macOS 13.0 Ventura / arm64 | OK | OK | OK | ![]() | |||||||
Package: ChIPseqR |
Version: 1.52.0 |
Command: rm -rf ChIPseqR.buildbin-libdir && mkdir ChIPseqR.buildbin-libdir && /Users/biocbuild/BBS/utils/build-universal.sh ChIPseqR_1.52.0.tar.gz /Library/Frameworks/R.framework/Resources/bin/R ChIPseqR.buildbin-libdir |
StartedAt: 2023-04-18 14:27:08 -0400 (Tue, 18 Apr 2023) |
EndedAt: 2023-04-18 14:28:31 -0400 (Tue, 18 Apr 2023) |
EllapsedTime: 82.2 seconds |
RetCode: 0 |
Status: OK |
PackageFile: ChIPseqR_1.52.0.tgz |
PackageFileSize: 1.494 MiB |
############################################################################## ############################################################################## ### ### Running command: ### ### rm -rf ChIPseqR.buildbin-libdir && mkdir ChIPseqR.buildbin-libdir && /Users/biocbuild/BBS/utils/build-universal.sh ChIPseqR_1.52.0.tar.gz /Library/Frameworks/R.framework/Resources/bin/R ChIPseqR.buildbin-libdir ### ############################################################################## ############################################################################## >>>>>>> >>>>>>> INSTALLATION WITH 'R CMD INSTALL --preclean --no-multiarch --library=ChIPseqR.buildbin-libdir ChIPseqR_1.52.0.tar.gz' >>>>>>> * installing *source* package ‘ChIPseqR’ ... ** using staged installation ** libs clang -arch arm64 -I"/Library/Frameworks/R.framework/Resources/include" -DNDEBUG -I/opt/R/arm64/include -fPIC -falign-functions=64 -Wall -g -O2 -c startScore.c -o startScore.o startScore.c:66:15: warning: unused variable 'tmp_stat' [-Wunused-variable] double stat, tmp_stat; ^ 1 warning generated. clang -arch arm64 -dynamiclib -Wl,-headerpad_max_install_names -undefined dynamic_lookup -single_module -multiply_defined suppress -L/Library/Frameworks/R.framework/Resources/lib -L/opt/R/arm64/lib -o ChIPseqR.so startScore.o -F/Library/Frameworks/R.framework/.. -framework R -Wl,-framework -Wl,CoreFoundation ld: warning: -undefined dynamic_lookup may not work with chained fixups installing to /Volumes/External/bbs-3.16-bioc-m1/meat/ChIPseqR.buildbin-libdir/00LOCK-ChIPseqR/00new/ChIPseqR/libs ** R ** inst ** byte-compile and prepare package for lazy loading ** help *** installing help indices ** building package indices ** installing vignettes ** testing if installed package can be loaded from temporary location ** checking absolute paths in shared objects and dynamic libraries ** testing if installed package can be loaded from final location ** testing if installed package keeps a record of temporary installation path * DONE (ChIPseqR) >>>>>>> >>>>>>> FIXING LINKS FOR ChIPseqR.buildbin-libdir/ChIPseqR/libs/ChIPseqR.so >>>>>>> install_name_tool -change "/opt/R/arm64/lib/libgcc_s.1.1.dylib" "/Library/Frameworks/R.framework/Versions/4.2-arm64/Resources/lib/libgcc_s.1.1.dylib" "ChIPseqR.buildbin-libdir/ChIPseqR/libs/ChIPseqR.so" install_name_tool -change "/opt/R/arm64/lib/libgfortran.5.dylib" "/Library/Frameworks/R.framework/Versions/4.2-arm64/Resources/lib/libgfortran.5.dylib" "ChIPseqR.buildbin-libdir/ChIPseqR/libs/ChIPseqR.so" install_name_tool -change "/opt/R/arm64/lib/libquadmath.0.dylib" "/Library/Frameworks/R.framework/Versions/4.2-arm64/Resources/lib/libquadmath.0.dylib" "ChIPseqR.buildbin-libdir/ChIPseqR/libs/ChIPseqR.so"