Back to Workflows build report for BioC 3.13 |
This page was generated on 2021-10-15 15:50:07 -0400 (Fri, 15 Oct 2021).
To the developers/maintainers of the cytofWorkflow package: Make sure to use the following settings in order to reproduce any error or warning you see on this page. |
Package 8/29 | Hostname | OS / Arch | INSTALL | BUILD | ||||||||
cytofWorkflow 1.16.0 (landing page) Mark D. Robinson
| nebbiolo1 | Linux (Ubuntu 20.04.2 LTS) / x86_64 | OK | OK | ![]() | |||||||
Package: cytofWorkflow |
Version: 1.16.0 |
Command: /home/biocbuild/bbs-3.13-bioc/R/bin/R CMD INSTALL cytofWorkflow |
StartedAt: 2021-10-15 09:00:11 -0400 (Fri, 15 Oct 2021) |
EndedAt: 2021-10-15 09:00:40 -0400 (Fri, 15 Oct 2021) |
EllapsedTime: 29.7 seconds |
RetCode: 0 |
Status: OK |
############################################################################## ############################################################################## ### ### Running command: ### ### /home/biocbuild/bbs-3.13-bioc/R/bin/R CMD INSTALL cytofWorkflow ### ############################################################################## ############################################################################## * installing to library ‘/home/biocbuild/bbs-3.13-bioc/R/library’ * installing *source* package ‘cytofWorkflow’ ... ** using staged installation ** help No man pages found in package ‘cytofWorkflow’ *** installing help indices ** building package indices ** installing vignettes ** testing if installed package can be loaded from temporary location snapshotDate(): 2021-05-18 Warning: replacing previous import ‘pheatmap::pheatmap’ by ‘ComplexHeatmap::pheatmap’ when loading ‘cytofWorkflow’ ** testing if installed package can be loaded from final location snapshotDate(): 2021-05-18 Warning: replacing previous import ‘pheatmap::pheatmap’ by ‘ComplexHeatmap::pheatmap’ when loading ‘cytofWorkflow’ ** testing if installed package keeps a record of temporary installation path * DONE (cytofWorkflow)