Back to Multiple platform build/check report for BioC 3.11 |
|
This page was generated on 2020-01-16 13:41:20 -0500 (Thu, 16 Jan 2020).
Package 744/1818 | Hostname | OS / Arch | INSTALL | BUILD | CHECK | BUILD BIN | ||||||
GreyListChIP 1.19.0 Gordon Brown
| malbec2 | Linux (Ubuntu 18.04.3 LTS) / x86_64 | OK | OK | OK | ![]() | ||||||
tokay2 | Windows Server 2012 R2 Standard / x64 | OK | OK | OK | OK | ![]() | ||||||
celaya2 | OS X 10.11.6 El Capitan / x86_64 | OK | OK | OK | [ OK ] | ![]() |
Package: GreyListChIP |
Version: 1.19.0 |
Command: rm -rf GreyListChIP.buildbin-libdir && mkdir GreyListChIP.buildbin-libdir && /Users/biocbuild/BBS/utils/build-universal.sh GreyListChIP_1.19.0.tar.gz /Library/Frameworks/R.framework/Versions/Current/Resources/bin/R GreyListChIP.buildbin-libdir |
StartedAt: 2020-01-16 11:03:17 -0500 (Thu, 16 Jan 2020) |
EndedAt: 2020-01-16 11:04:08 -0500 (Thu, 16 Jan 2020) |
EllapsedTime: 51.1 seconds |
RetCode: 0 |
Status: OK |
PackageFile: GreyListChIP_1.19.0.tgz |
PackageFileSize: 797.7 KiB |
############################################################################## ############################################################################## ### ### Running command: ### ### rm -rf GreyListChIP.buildbin-libdir && mkdir GreyListChIP.buildbin-libdir && /Users/biocbuild/BBS/utils/build-universal.sh GreyListChIP_1.19.0.tar.gz /Library/Frameworks/R.framework/Versions/Current/Resources/bin/R GreyListChIP.buildbin-libdir ### ############################################################################## ############################################################################## >>>>>>> >>>>>>> INSTALLATION WITH 'R CMD INSTALL --preclean --no-multiarch --library=GreyListChIP.buildbin-libdir GreyListChIP_1.19.0.tar.gz' >>>>>>> * installing *source* package ‘GreyListChIP’ ... ** using staged installation ** R ** data ** inst ** byte-compile and prepare package for lazy loading ** help *** installing help indices ** building package indices ** installing vignettes ** testing if installed package can be loaded from temporary location ** testing if installed package can be loaded from final location ** testing if installed package keeps a record of temporary installation path * DONE (GreyListChIP)