xcms 1.44.0 Steffen Neumann
Snapshot Date: 2015-10-08 17:20:21 -0700 (Thu, 08 Oct 2015) | URL: https://hedgehog.fhcrc.org/bioconductor/branches/RELEASE_3_1/madman/Rpacks/xcms | Last Changed Rev: 102591 / Revision: 109384 | Last Changed Date: 2015-04-16 12:42:01 -0700 (Thu, 16 Apr 2015) |
| zin2 | Linux (Ubuntu 14.04.2 LTS) / x86_64 | OK | OK | TIMEOUT | | |
moscato2 | Windows Server 2008 R2 Enterprise SP1 (64-bit) / x64 | [ OK ] | OK | OK | OK | |
petty | Mac OS X Snow Leopard (10.6.8) / x86_64 | OK | OK | OK | OK | |
morelia | Mac OS X Mavericks (10.9.5) / x86_64 | OK | OK | OK | OK | |
##############################################################################
##############################################################################
###
### Running command:
###
### C:\cygwin\bin\curl.exe -O http://zin2/BBS/3.1/bioc/src/contrib/xcms_1.44.0.tar.gz && E:\biocbld\bbs-3.1-bioc\R\bin\R.exe CMD INSTALL --merge-multiarch xcms_1.44.0.tar.gz && rm xcms_1.44.0.tar.gz
###
##############################################################################
##############################################################################
install for i386
* installing to library 'E:/biocbld/bbs-3.1-bioc/R/library'
* installing *source* package 'xcms' ...
** libs
g++ -m32 -I"E:/biocbld/BBS-3˜1.1-B/R/include" -DNDEBUG -I"d:/RCompile/r-compiling/local/local320/include" -O2 -Wall -mtune=core2 -c massifquant/xcms_massifquant.cpp -o massifquant/xcms_massifquant.o
massifquant/xcms_massifquant.cpp: In function 'SEXPREC* massifquant(SEXP, SEXP, SEXP, SEXP, SEXP, SEXP, SEXP, SEXP, SEXP, SEXP, SEXP, SEXP, SEXP, SEXP)':
massifquant/xcms_massifquant.cpp:122:6: warning: unused variable 'scanLength' [-Wunused-variable]
massifquant/xcms_massifquant.cpp:33:58: warning: unused variable 'vstcenter' [-Wunused-variable]
massifquant/xcms_massifquant.cpp:33:93: warning: unused variable 'vintenmax' [-Wunused-variable]
massifquant/xcms_massifquant.cpp:76:12: warning: unused variable 'maxScanNums' [-Wunused-variable]
g++ -m32 -I"E:/biocbld/BBS-3˜1.1-B/R/include" -DNDEBUG -I"d:/RCompile/r-compiling/local/local320/include" -O2 -Wall -mtune=core2 -c massifquant/TrMgr.cpp -o massifquant/TrMgr.o
g++ -m32 -I"E:/biocbld/BBS-3˜1.1-B/R/include" -DNDEBUG -I"d:/RCompile/r-compiling/local/local320/include" -O2 -Wall -mtune=core2 -c massifquant/Tracker.cpp -o massifquant/Tracker.o
g++ -m32 -I"E:/biocbld/BBS-3˜1.1-B/R/include" -DNDEBUG -I"d:/RCompile/r-compiling/local/local320/include" -O2 -Wall -mtune=core2 -c massifquant/SegProc.cpp -o massifquant/SegProc.o
massifquant/SegProc.cpp: In member function 'void SegProc::collapseSubsets()':
massifquant/SegProc.cpp:119:13: warning: variable 'combinedUnions' set but not used [-Wunused-but-set-variable]
g++ -m32 -I"E:/biocbld/BBS-3˜1.1-B/R/include" -DNDEBUG -I"d:/RCompile/r-compiling/local/local320/include" -O2 -Wall -mtune=core2 -c massifquant/DataKeeper.cpp -o massifquant/DataKeeper.o
g++ -m32 -I"E:/biocbld/BBS-3˜1.1-B/R/include" -DNDEBUG -I"d:/RCompile/r-compiling/local/local320/include" -O2 -Wall -mtune=core2 -c massifquant/OpOverload.cpp -o massifquant/OpOverload.o
g++ -m32 -I"E:/biocbld/BBS-3˜1.1-B/R/include" -DNDEBUG -I"d:/RCompile/r-compiling/local/local320/include" -O2 -Wall -mtune=core2 -c obiwarp/mat.cpp -o obiwarp/mat.o
g++ -m32 -I"E:/biocbld/BBS-3˜1.1-B/R/include" -DNDEBUG -I"d:/RCompile/r-compiling/local/local320/include" -O2 -Wall -mtune=core2 -c obiwarp/vec.cpp -o obiwarp/vec.o
g++ -m32 -I"E:/biocbld/BBS-3˜1.1-B/R/include" -DNDEBUG -I"d:/RCompile/r-compiling/local/local320/include" -O2 -Wall -mtune=core2 -c obiwarp/xcms_dynprog.cpp -o obiwarp/xcms_dynprog.o
obiwarp/xcms_dynprog.cpp: In member function 'void DynProg::find_path(VEC::MatF&, VEC::VecF&, int, float, float, int, float)':
obiwarp/xcms_dynprog.cpp:1113:9: warning: variable 'bestscore' set but not used [-Wunused-but-set-variable]
g++ -m32 -I"E:/biocbld/BBS-3˜1.1-B/R/include" -DNDEBUG -I"d:/RCompile/r-compiling/local/local320/include" -O2 -Wall -mtune=core2 -c obiwarp/xcms_lmat.cpp -o obiwarp/xcms_lmat.o
g++ -m32 -I"E:/biocbld/BBS-3˜1.1-B/R/include" -DNDEBUG -I"d:/RCompile/r-compiling/local/local320/include" -O2 -Wall -mtune=core2 -c xcms_obiwarp.cpp -o xcms_obiwarp.o
gcc -m32 -I"E:/biocbld/BBS-3˜1.1-B/R/include" -DNDEBUG -I"d:/RCompile/r-compiling/local/local320/include" -O3 -Wall -std=gnu99 -mtune=core2 -fno-inline -c fastMatch.c -o fastMatch.o
gcc -m32 -I"E:/biocbld/BBS-3˜1.1-B/R/include" -DNDEBUG -I"d:/RCompile/r-compiling/local/local320/include" -O3 -Wall -std=gnu99 -mtune=core2 -fno-inline -c mzClust_hclust.c -o mzClust_hclust.o
gcc -m32 -I"E:/biocbld/BBS-3˜1.1-B/R/include" -DNDEBUG -I"d:/RCompile/r-compiling/local/local320/include" -O3 -Wall -std=gnu99 -mtune=core2 -fno-inline -c mzROI.c -o mzROI.o
mzROI.c: In function 'getMZ':
mzROI.c:486:17: warning: variable 'pintensity' set but not used [-Wunused-but-set-variable]
mzROI.c: In function 'findmzROI':
mzROI.c:538:41: warning: variable 'mzrangeTo' set but not used [-Wunused-but-set-variable]
mzROI.c:538:29: warning: variable 'mzrangeFrom' set but not used [-Wunused-but-set-variable]
gcc -m32 -I"E:/biocbld/BBS-3˜1.1-B/R/include" -DNDEBUG -I"d:/RCompile/r-compiling/local/local320/include" -O3 -Wall -std=gnu99 -mtune=core2 -fno-inline -c util.c -o util.o
gcc -m32 -I"E:/biocbld/BBS-3˜1.1-B/R/include" -DNDEBUG -I"d:/RCompile/r-compiling/local/local320/include" -O3 -Wall -std=gnu99 -mtune=core2 -fno-inline -c xcms.c -o xcms.o
g++ -m32 -shared -s -static-libgcc -o xcms.dll tmp.def massifquant/xcms_massifquant.o massifquant/TrMgr.o massifquant/Tracker.o massifquant/SegProc.o massifquant/DataKeeper.o massifquant/OpOverload.o obiwarp/mat.o obiwarp/vec.o obiwarp/xcms_dynprog.o obiwarp/xcms_lmat.o xcms_obiwarp.o fastMatch.o mzClust_hclust.o mzROI.o util.o xcms.o -Ld:/RCompile/r-compiling/local/local320/lib/i386 -Ld:/RCompile/r-compiling/local/local320/lib -LE:/biocbld/BBS-3˜1.1-B/R/bin/i386 -lR
installing to E:/biocbld/bbs-3.1-bioc/R/library/xcms/libs/i386
** R
** inst
** preparing package for lazy loading
** help
*** installing help indices
** building package indices
** installing vignettes
** testing if installed package can be loaded
install for x64
* installing to library 'E:/biocbld/bbs-3.1-bioc/R/library'
* installing *source* package 'xcms' ...
** libs
g++ -m64 -I"E:/biocbld/BBS-3˜1.1-B/R/include" -DNDEBUG -I"d:/RCompile/r-compiling/local/local320/include" -O2 -Wall -mtune=core2 -c massifquant/xcms_massifquant.cpp -o massifquant/xcms_massifquant.o
massifquant/xcms_massifquant.cpp: In function 'SEXPREC* massifquant(SEXP, SEXP, SEXP, SEXP, SEXP, SEXP, SEXP, SEXP, SEXP, SEXP, SEXP, SEXP, SEXP, SEXP)':
massifquant/xcms_massifquant.cpp:122:6: warning: unused variable 'scanLength' [-Wunused-variable]
massifquant/xcms_massifquant.cpp:33:58: warning: unused variable 'vstcenter' [-Wunused-variable]
massifquant/xcms_massifquant.cpp:33:93: warning: unused variable 'vintenmax' [-Wunused-variable]
massifquant/xcms_massifquant.cpp:76:12: warning: unused variable 'maxScanNums' [-Wunused-variable]
g++ -m64 -I"E:/biocbld/BBS-3˜1.1-B/R/include" -DNDEBUG -I"d:/RCompile/r-compiling/local/local320/include" -O2 -Wall -mtune=core2 -c massifquant/TrMgr.cpp -o massifquant/TrMgr.o
g++ -m64 -I"E:/biocbld/BBS-3˜1.1-B/R/include" -DNDEBUG -I"d:/RCompile/r-compiling/local/local320/include" -O2 -Wall -mtune=core2 -c massifquant/Tracker.cpp -o massifquant/Tracker.o
g++ -m64 -I"E:/biocbld/BBS-3˜1.1-B/R/include" -DNDEBUG -I"d:/RCompile/r-compiling/local/local320/include" -O2 -Wall -mtune=core2 -c massifquant/SegProc.cpp -o massifquant/SegProc.o
massifquant/SegProc.cpp: In member function 'void SegProc::collapseSubsets()':
massifquant/SegProc.cpp:119:13: warning: variable 'combinedUnions' set but not used [-Wunused-but-set-variable]
g++ -m64 -I"E:/biocbld/BBS-3˜1.1-B/R/include" -DNDEBUG -I"d:/RCompile/r-compiling/local/local320/include" -O2 -Wall -mtune=core2 -c massifquant/DataKeeper.cpp -o massifquant/DataKeeper.o
g++ -m64 -I"E:/biocbld/BBS-3˜1.1-B/R/include" -DNDEBUG -I"d:/RCompile/r-compiling/local/local320/include" -O2 -Wall -mtune=core2 -c massifquant/OpOverload.cpp -o massifquant/OpOverload.o
g++ -m64 -I"E:/biocbld/BBS-3˜1.1-B/R/include" -DNDEBUG -I"d:/RCompile/r-compiling/local/local320/include" -O2 -Wall -mtune=core2 -c obiwarp/mat.cpp -o obiwarp/mat.o
g++ -m64 -I"E:/biocbld/BBS-3˜1.1-B/R/include" -DNDEBUG -I"d:/RCompile/r-compiling/local/local320/include" -O2 -Wall -mtune=core2 -c obiwarp/vec.cpp -o obiwarp/vec.o
g++ -m64 -I"E:/biocbld/BBS-3˜1.1-B/R/include" -DNDEBUG -I"d:/RCompile/r-compiling/local/local320/include" -O2 -Wall -mtune=core2 -c obiwarp/xcms_dynprog.cpp -o obiwarp/xcms_dynprog.o
obiwarp/xcms_dynprog.cpp: In member function 'void DynProg::find_path(VEC::MatF&, VEC::VecF&, int, float, float, int, float)':
obiwarp/xcms_dynprog.cpp:1113:9: warning: variable 'bestscore' set but not used [-Wunused-but-set-variable]
g++ -m64 -I"E:/biocbld/BBS-3˜1.1-B/R/include" -DNDEBUG -I"d:/RCompile/r-compiling/local/local320/include" -O2 -Wall -mtune=core2 -c obiwarp/xcms_lmat.cpp -o obiwarp/xcms_lmat.o
g++ -m64 -I"E:/biocbld/BBS-3˜1.1-B/R/include" -DNDEBUG -I"d:/RCompile/r-compiling/local/local320/include" -O2 -Wall -mtune=core2 -c xcms_obiwarp.cpp -o xcms_obiwarp.o
gcc -m64 -I"E:/biocbld/BBS-3˜1.1-B/R/include" -DNDEBUG -I"d:/RCompile/r-compiling/local/local320/include" -O2 -Wall -std=gnu99 -mtune=core2 -fno-inline -c fastMatch.c -o fastMatch.o
gcc -m64 -I"E:/biocbld/BBS-3˜1.1-B/R/include" -DNDEBUG -I"d:/RCompile/r-compiling/local/local320/include" -O2 -Wall -std=gnu99 -mtune=core2 -fno-inline -c mzClust_hclust.c -o mzClust_hclust.o
gcc -m64 -I"E:/biocbld/BBS-3˜1.1-B/R/include" -DNDEBUG -I"d:/RCompile/r-compiling/local/local320/include" -O2 -Wall -std=gnu99 -mtune=core2 -fno-inline -c mzROI.c -o mzROI.o
mzROI.c: In function 'getMZ':
mzROI.c:486:17: warning: variable 'pintensity' set but not used [-Wunused-but-set-variable]
mzROI.c: In function 'findmzROI':
mzROI.c:538:41: warning: variable 'mzrangeTo' set but not used [-Wunused-but-set-variable]
mzROI.c:538:29: warning: variable 'mzrangeFrom' set but not used [-Wunused-but-set-variable]
gcc -m64 -I"E:/biocbld/BBS-3˜1.1-B/R/include" -DNDEBUG -I"d:/RCompile/r-compiling/local/local320/include" -O2 -Wall -std=gnu99 -mtune=core2 -fno-inline -c util.c -o util.o
gcc -m64 -I"E:/biocbld/BBS-3˜1.1-B/R/include" -DNDEBUG -I"d:/RCompile/r-compiling/local/local320/include" -O2 -Wall -std=gnu99 -mtune=core2 -fno-inline -c xcms.c -o xcms.o
g++ -m64 -shared -s -static-libgcc -o xcms.dll tmp.def massifquant/xcms_massifquant.o massifquant/TrMgr.o massifquant/Tracker.o massifquant/SegProc.o massifquant/DataKeeper.o massifquant/OpOverload.o obiwarp/mat.o obiwarp/vec.o obiwarp/xcms_dynprog.o obiwarp/xcms_lmat.o xcms_obiwarp.o fastMatch.o mzClust_hclust.o mzROI.o util.o xcms.o -Ld:/RCompile/r-compiling/local/local320/lib/x64 -Ld:/RCompile/r-compiling/local/local320/lib -LE:/biocbld/BBS-3˜1.1-B/R/bin/x64 -lR
installing to E:/biocbld/bbs-3.1-bioc/R/library/xcms/libs/x64
** testing if installed package can be loaded
* DONE (xcms)