##############################################################################
##############################################################################
###
### Running command:
###
### cd triplex.buildbin-libdir/triplex && zip -r ../../triplex_1.8.0.zip . & cd ../..
###
##############################################################################
##############################################################################
adding: CITATION (188 bytes security) (deflated 54%)
adding: DESCRIPTION (188 bytes security) (deflated 49%)
adding: doc/ (256 bytes security) (stored 0%)
adding: doc/index.html (188 bytes security) (deflated 58%)
adding: doc/triplex.pdf (188 bytes security) (deflated 21%)
adding: doc/triplex.R (188 bytes security) (deflated 82%)
adding: doc/triplex.Rnw (188 bytes security) (deflated 65%)
adding: help/ (256 bytes security) (stored 0%)
adding: help/aliases.rds (188 bytes security) (stored 0%)
adding: help/AnIndex (188 bytes security) (deflated 78%)
adding: help/figures/ (256 bytes security) (stored 0%)
adding: help/figures/triplex.pdf (188 bytes security) (deflated 6%)
adding: help/figures/triplex.png (188 bytes security) (deflated 6%)
adding: help/figures/triplex2d.png (188 bytes security) (deflated 9%)
adding: help/figures/triplex3d.png (188 bytes security) (deflated 1%)
adding: help/figures/types.pdf (188 bytes security) (deflated 10%)
adding: help/figures/types.png (188 bytes security) (deflated 6%)
adding: help/paths.rds (188 bytes security) (stored 0%)
adding: help/triplex.rdb (188 bytes security) (deflated 2%)
adding: help/triplex.rdx (188 bytes security) (stored 0%)
adding: html/ (256 bytes security) (stored 0%)
adding: html/00Index.html (188 bytes security) (deflated 79%)
adding: html/R.css (188 bytes security) (deflated 75%)
adding: INDEX (188 bytes security) (deflated 63%)
adding: libs/ (256 bytes security) (stored 0%)
adding: libs/i386/ (256 bytes security) (stored 0%)
adding: libs/i386/triplex.dll (188 bytes security) (deflated 58%)
adding: libs/x64/ (256 bytes security) (stored 0%)
adding: libs/x64/triplex.dll (188 bytes security) (deflated 59%)
adding: LICENSE (188 bytes security) (deflated 1%)
adding: MD5 (188 bytes security) (deflated 45%)
adding: Meta/ (256 bytes security) (stored 0%)
adding: Meta/hsearch.rds (188 bytes security) (stored 0%)
adding: Meta/links.rds (188 bytes security) (stored 0%)
adding: Meta/nsInfo.rds (188 bytes security) (stored 0%)
adding: Meta/package.rds (188 bytes security) (stored 0%)
adding: Meta/Rd.rds (188 bytes security) (stored 0%)
adding: Meta/vignette.rds (188 bytes security) (stored 0%)
adding: NAMESPACE (188 bytes security) (deflated 44%)
adding: NEWS (188 bytes security) (deflated 50%)
adding: R/ (256 bytes security) (stored 0%)
adding: R/triplex (188 bytes security) (deflated 41%)
adding: R/triplex.rdb (188 bytes security) (deflated 33%)
adding: R/triplex.rdx (188 bytes security) (deflated 2%)