##############################################################################
##############################################################################
###
### Running command:
###
### cd trackViewer.buildbin-libdir/trackViewer && zip -r ../../trackViewer_1.4.0.zip . & cd ../..
###
##############################################################################
##############################################################################
adding: DESCRIPTION (188 bytes security) (deflated 36%)
adding: doc/ (256 bytes security) (stored 0%)
adding: doc/index.html (188 bytes security) (deflated 60%)
adding: doc/trackViewer.pdf (188 bytes security) (deflated 27%)
adding: doc/trackViewer.R (188 bytes security) (deflated 80%)
adding: doc/trackViewer.Rnw (188 bytes security) (deflated 71%)
adding: extdata/ (256 bytes security) (stored 0%)
adding: extdata/cpsf160.repA_+.wig (188 bytes security) (deflated 97%)
adding: extdata/cpsf160.repA_-.wig (188 bytes security) (deflated 96%)
adding: extdata/cpsf160.repB_+.wig (188 bytes security) (deflated 96%)
adding: extdata/cpsf160.repB_-.wig (188 bytes security) (deflated 95%)
adding: extdata/fox2.bed (188 bytes security) (deflated 73%)
adding: help/ (256 bytes security) (stored 0%)
adding: help/aliases.rds (188 bytes security) (stored 0%)
adding: help/AnIndex (188 bytes security) (deflated 74%)
adding: help/paths.rds (188 bytes security) (stored 0%)
adding: help/trackViewer.rdb (188 bytes security) (deflated 1%)
adding: help/trackViewer.rdx (188 bytes security) (stored 0%)
adding: html/ (256 bytes security) (stored 0%)
adding: html/00Index.html (188 bytes security) (deflated 79%)
adding: html/R.css (188 bytes security) (deflated 75%)
adding: INDEX (188 bytes security) (deflated 59%)
adding: MD5 (188 bytes security) (deflated 44%)
adding: Meta/ (256 bytes security) (stored 0%)
adding: Meta/hsearch.rds (188 bytes security) (stored 0%)
adding: Meta/links.rds (188 bytes security) (stored 0%)
adding: Meta/nsInfo.rds (188 bytes security) (stored 0%)
adding: Meta/package.rds (188 bytes security) (stored 0%)
adding: Meta/Rd.rds (188 bytes security) (stored 0%)
adding: Meta/vignette.rds (188 bytes security) (stored 0%)
adding: NAMESPACE (188 bytes security) (deflated 61%)
adding: NEWS (188 bytes security) (deflated 70%)
adding: R/ (256 bytes security) (stored 0%)
adding: R/trackViewer (188 bytes security) (deflated 41%)
adding: R/trackViewer.rdb (188 bytes security) (deflated 26%)
adding: R/trackViewer.rdx (188 bytes security) (stored 0%)
adding: unitTests/ (256 bytes security) (stored 0%)
adding: unitTests/test_coverage.R (188 bytes security) (deflated 39%)