##############################################################################
##############################################################################
###
### Running command:
###
### cd splicegear.buildbin-libdir/splicegear && zip -r ../../splicegear_1.40.0.zip . & cd ../..
###
##############################################################################
##############################################################################
adding: data/ (256 bytes security) (stored 0%)
adding: data/eset.rda (188 bytes security) (deflated 0%)
adding: data/probes.rda (188 bytes security) (stored 0%)
adding: data/spliceset.rda (188 bytes security) (deflated 0%)
adding: data/spsites.rda (188 bytes security) (stored 0%)
adding: DESCRIPTION (188 bytes security) (deflated 36%)
adding: doc/ (256 bytes security) (stored 0%)
adding: doc/index.html (188 bytes security) (deflated 59%)
adding: doc/splicegear.pdf (188 bytes security) (deflated 9%)
adding: doc/splicegear.R (188 bytes security) (deflated 73%)
adding: doc/splicegear.Rnw (188 bytes security) (deflated 59%)
adding: extdata/ (256 bytes security) (stored 0%)
adding: extdata/example.xml (188 bytes security) (deflated 91%)
adding: help/ (256 bytes security) (stored 0%)
adding: help/aliases.rds (188 bytes security) (stored 0%)
adding: help/AnIndex (188 bytes security) (deflated 80%)
adding: help/paths.rds (188 bytes security) (stored 0%)
adding: help/splicegear.rdb (188 bytes security) (deflated 2%)
adding: help/splicegear.rdx (188 bytes security) (stored 0%)
adding: html/ (256 bytes security) (stored 0%)
adding: html/00Index.html (188 bytes security) (deflated 82%)
adding: html/R.css (188 bytes security) (deflated 75%)
adding: INDEX (188 bytes security) (deflated 64%)
adding: MD5 (188 bytes security) (deflated 43%)
adding: Meta/ (256 bytes security) (stored 0%)
adding: Meta/data.rds (188 bytes security) (stored 0%)
adding: Meta/hsearch.rds (188 bytes security) (stored 0%)
adding: Meta/links.rds (188 bytes security) (stored 0%)
adding: Meta/nsInfo.rds (188 bytes security) (stored 0%)
adding: Meta/package.rds (188 bytes security) (stored 0%)
adding: Meta/Rd.rds (188 bytes security) (stored 0%)
adding: Meta/vignette.rds (188 bytes security) (stored 0%)
adding: NAMESPACE (188 bytes security) (deflated 53%)
adding: R/ (256 bytes security) (stored 0%)
adding: R/splicegear (188 bytes security) (deflated 41%)
adding: R/splicegear.rdb (188 bytes security) (deflated 28%)
adding: R/splicegear.rdx (188 bytes security) (stored 0%)