##############################################################################
##############################################################################
###
### Running command:
###
### cd snapCGH.buildbin-libdir/snapCGH && zip -r ../../snapCGH_1.38.0.zip . & cd ../..
###
##############################################################################
##############################################################################
adding: data/ (256 bytes security) (stored 0%)
adding: data/non.zero.length.distr.non.tiled.rda (188 bytes security) (stored 0%)
adding: data/non.zero.length.distr.tiled.rda (188 bytes security) (stored 0%)
adding: data/zero.length.distr.non.tiled.rda (188 bytes security) (stored 0%)
adding: data/zero.length.distr.tiled.rda (188 bytes security) (stored 0%)
adding: DESCRIPTION (188 bytes security) (deflated 39%)
adding: doc/ (256 bytes security) (stored 0%)
adding: doc/index.html (188 bytes security) (deflated 58%)
adding: doc/snapCGHguide.pdf (188 bytes security) (deflated 28%)
adding: doc/snapCGHguide.R (188 bytes security) (deflated 83%)
adding: doc/snapCGHguide.Rnw (188 bytes security) (deflated 63%)
adding: help/ (256 bytes security) (stored 0%)
adding: help/aliases.rds (188 bytes security) (stored 0%)
adding: help/AnIndex (188 bytes security) (deflated 68%)
adding: help/paths.rds (188 bytes security) (stored 0%)
adding: help/snapCGH.rdb (188 bytes security) (deflated 2%)
adding: help/snapCGH.rdx (188 bytes security) (stored 0%)
adding: html/ (256 bytes security) (stored 0%)
adding: html/00Index.html (188 bytes security) (deflated 82%)
adding: html/R.css (188 bytes security) (deflated 75%)
adding: INDEX (188 bytes security) (deflated 72%)
adding: libs/ (256 bytes security) (stored 0%)
adding: libs/i386/ (256 bytes security) (stored 0%)
adding: libs/i386/snapCGH.dll (188 bytes security) (deflated 55%)
adding: libs/x64/ (256 bytes security) (stored 0%)
adding: libs/x64/snapCGH.dll (188 bytes security) (deflated 55%)
adding: MD5 (188 bytes security) (deflated 46%)
adding: Meta/ (256 bytes security) (stored 0%)
adding: Meta/data.rds (188 bytes security) (stored 0%)
adding: Meta/hsearch.rds (188 bytes security) (stored 0%)
adding: Meta/links.rds (188 bytes security) (stored 0%)
adding: Meta/nsInfo.rds (188 bytes security) (stored 0%)
adding: Meta/package.rds (188 bytes security) (stored 0%)
adding: Meta/Rd.rds (188 bytes security) (stored 0%)
adding: Meta/vignette.rds (188 bytes security) (stored 0%)
adding: NAMESPACE (188 bytes security) (deflated 51%)
adding: R/ (256 bytes security) (stored 0%)
adding: R/snapCGH (188 bytes security) (deflated 41%)
adding: R/snapCGH.rdb (188 bytes security) (deflated 19%)
adding: R/snapCGH.rdx (188 bytes security) (stored 0%)
adding: testdata/ (256 bytes security) (stored 0%)
adding: testdata/10Mbslide28.gpr (188 bytes security) (deflated 60%)
adding: testdata/10Mbslide29.gpr (188 bytes security) (deflated 60%)
adding: testdata/cloneinfo.txt (188 bytes security) (deflated 72%)
adding: testdata/SpotTypes.txt (188 bytes security) (deflated 25%)
adding: testdata/targets.txt (188 bytes security) (deflated 28%)