##############################################################################
##############################################################################
###
### Running command:
###
### cd sincell.buildbin-libdir/sincell && zip -r ../../sincell_1.0.0.zip . & cd ../..
###
##############################################################################
##############################################################################
adding: CITATION (188 bytes security) (deflated 56%)
adding: data/ (256 bytes security) (stored 0%)
adding: data/datalist (188 bytes security) (stored 0%)
adding: data/ExpressionMatrix.rda (188 bytes security) (deflated 0%)
adding: data/geneset.list.rda (188 bytes security) (deflated 0%)
adding: DESCRIPTION (188 bytes security) (deflated 49%)
adding: doc/ (256 bytes security) (stored 0%)
adding: doc/index.html (188 bytes security) (deflated 57%)
adding: doc/sincell-vignette.pdf (188 bytes security) (deflated 14%)
adding: doc/sincell-vignette.Rnw (188 bytes security) (deflated 75%)
adding: help/ (256 bytes security) (stored 0%)
adding: help/aliases.rds (188 bytes security) (stored 0%)
adding: help/AnIndex (188 bytes security) (deflated 66%)
adding: help/paths.rds (188 bytes security) (stored 0%)
adding: help/sincell.rdb (188 bytes security) (deflated 1%)
adding: help/sincell.rdx (188 bytes security) (stored 0%)
adding: html/ (256 bytes security) (stored 0%)
adding: html/00Index.html (188 bytes security) (deflated 70%)
adding: html/R.css (188 bytes security) (deflated 75%)
adding: INDEX (188 bytes security) (deflated 71%)
adding: libs/ (256 bytes security) (stored 0%)
adding: libs/i386/ (256 bytes security) (stored 0%)
adding: libs/i386/sincell.dll (188 bytes security) (deflated 65%)
adding: libs/x64/ (256 bytes security) (stored 0%)
adding: libs/x64/sincell.dll (188 bytes security) (deflated 69%)
adding: MD5 (188 bytes security) (deflated 42%)
adding: Meta/ (256 bytes security) (stored 0%)
adding: Meta/data.rds (188 bytes security) (stored 0%)
adding: Meta/hsearch.rds (188 bytes security) (stored 0%)
adding: Meta/links.rds (188 bytes security) (stored 0%)
adding: Meta/nsInfo.rds (188 bytes security) (stored 0%)
adding: Meta/package.rds (188 bytes security) (stored 0%)
adding: Meta/Rd.rds (188 bytes security) (stored 0%)
adding: Meta/vignette.rds (188 bytes security) (stored 0%)
adding: NAMESPACE (188 bytes security) (deflated 42%)
adding: NEWS (188 bytes security) (stored 0%)
adding: R/ (256 bytes security) (stored 0%)
adding: R/sincell (188 bytes security) (deflated 41%)
adding: R/sincell.rdb (188 bytes security) (deflated 1%)
adding: R/sincell.rdx (188 bytes security) (stored 0%)