##############################################################################
##############################################################################
###
### Running command:
###
### cd sagenhaft.buildbin-libdir/sagenhaft && zip -r ../../sagenhaft_1.38.1.zip . & cd ../..
###
##############################################################################
##############################################################################
adding: data/ (256 bytes security) (stored 0%)
adding: data/SAGEartifacts.txt.gz (188 bytes security) (stored 0%)
adding: DESCRIPTION (188 bytes security) (deflated 44%)
adding: doc/ (256 bytes security) (stored 0%)
adding: doc/index.html (188 bytes security) (deflated 59%)
adding: doc/SAGEnhaft.pdf (188 bytes security) (deflated 8%)
adding: doc/SAGEnhaft.R (188 bytes security) (deflated 66%)
adding: doc/SAGEnhaft.Rnw (188 bytes security) (deflated 57%)
adding: extdata/ (256 bytes security) (stored 0%)
adding: extdata/B6HypothalHFI.sage (188 bytes security) (deflated 76%)
adding: extdata/E15postHFI.sage (188 bytes security) (deflated 76%)
adding: extdata/E15postHFI.zip (188 bytes security) (stored 0%)
adding: help/ (256 bytes security) (stored 0%)
adding: help/aliases.rds (188 bytes security) (stored 0%)
adding: help/AnIndex (188 bytes security) (deflated 73%)
adding: help/paths.rds (188 bytes security) (stored 0%)
adding: help/sagenhaft.rdb (188 bytes security) (deflated 0%)
adding: help/sagenhaft.rdx (188 bytes security) (stored 0%)
adding: html/ (256 bytes security) (stored 0%)
adding: html/00Index.html (188 bytes security) (deflated 82%)
adding: html/R.css (188 bytes security) (deflated 75%)
adding: INDEX (188 bytes security) (deflated 53%)
adding: MD5 (188 bytes security) (deflated 42%)
adding: Meta/ (256 bytes security) (stored 0%)
adding: Meta/data.rds (188 bytes security) (stored 0%)
adding: Meta/hsearch.rds (188 bytes security) (stored 0%)
adding: Meta/links.rds (188 bytes security) (stored 0%)
adding: Meta/nsInfo.rds (188 bytes security) (stored 0%)
adding: Meta/package.rds (188 bytes security) (stored 0%)
adding: Meta/Rd.rds (188 bytes security) (stored 0%)
adding: Meta/vignette.rds (188 bytes security) (stored 0%)
adding: NAMESPACE (188 bytes security) (deflated 61%)
adding: R/ (256 bytes security) (stored 0%)
adding: R/sagenhaft (188 bytes security) (deflated 41%)
adding: R/sagenhaft.rdb (188 bytes security) (deflated 1%)
adding: R/sagenhaft.rdx (188 bytes security) (stored 0%)