Back to the "Multiple platform build/check report" | A B C D E F G H I J K L M N O P Q [R] S T U V W X Y Z |
This page was generated on 2015-10-09 09:40:09 -0700 (Fri, 09 Oct 2015).
Package 819/1024 | Hostname | OS / Arch | INSTALL | BUILD | CHECK | BUILD BIN | |||||
rhdf5 2.12.0 Bernd Fischer
| zin2 | Linux (Ubuntu 14.04.2 LTS) / x86_64 | OK | OK | OK | ![]() | |||||
moscato2 | Windows Server 2008 R2 Enterprise SP1 (64-bit) / x64 | OK | OK | OK | OK | ![]() | |||||
petty | Mac OS X Snow Leopard (10.6.8) / x86_64 | OK | OK | OK | OK | ![]() | |||||
morelia | Mac OS X Mavericks (10.9.5) / x86_64 | OK | [ OK ] | OK | OK | ![]() |
Package: rhdf5 |
Version: 2.12.0 |
Command: /Library/Frameworks/R.framework/Versions/Current/Resources/bin/R CMD build --keep-empty-dirs --no-resave-data rhdf5 |
StartedAt: 2015-10-08 20:28:07 -0700 (Thu, 08 Oct 2015) |
EndedAt: 2015-10-08 20:29:46 -0700 (Thu, 08 Oct 2015) |
EllapsedTime: 99.0 seconds |
RetCode: 0 |
Status: OK |
PackageFile: rhdf5_2.12.0.tar.gz |
PackageFileSize: 5.108 MiB |
############################################################################## ############################################################################## ### ### Running command: ### ### /Library/Frameworks/R.framework/Versions/Current/Resources/bin/R CMD build --keep-empty-dirs --no-resave-data rhdf5 ### ############################################################################## ############################################################################## * checking for file ‘rhdf5/DESCRIPTION’ ... OK * preparing ‘rhdf5’: * checking DESCRIPTION meta-information ... OK * cleaning src * running ‘cleanup’ * installing the package to build vignettes * creating vignettes ... OK * cleaning src * running ‘cleanup’ * checking for LF line-endings in source and make files * checking for empty or unneeded directories * building ‘rhdf5_2.12.0.tar.gz’