##############################################################################
##############################################################################
###
### Running command:
###
### cd qpgraph.buildbin-libdir/qpgraph && zip -r ../../qpgraph_2.2.3.zip . & cd ../..
###
##############################################################################
##############################################################################
adding: CITATION (188 bytes security) (deflated 70%)
adding: data/ (256 bytes security) (stored 0%)
adding: data/datalist (188 bytes security) (deflated 34%)
adding: data/Rdata.rdb (188 bytes security) (deflated 0%)
adding: data/Rdata.rds (188 bytes security) (stored 0%)
adding: data/Rdata.rdx (188 bytes security) (stored 0%)
adding: DESCRIPTION (188 bytes security) (deflated 41%)
adding: doc/ (256 bytes security) (stored 0%)
adding: doc/BasicUsersGuide.pdf (188 bytes security) (deflated 8%)
adding: doc/eQTLnetworks.pdf (188 bytes security) (deflated 11%)
adding: doc/eQTLnetworks.R (188 bytes security) (deflated 79%)
adding: doc/eQTLnetworks.Rnw (188 bytes security) (deflated 68%)
adding: doc/index.html (188 bytes security) (deflated 72%)
adding: doc/qpgraphSimulate.pdf (188 bytes security) (deflated 20%)
adding: doc/qpgraphSimulate.R (188 bytes security) (deflated 82%)
adding: doc/qpgraphSimulate.Rnw (188 bytes security) (deflated 68%)
adding: doc/qpTxRegNet.pdf (188 bytes security) (deflated 13%)
adding: doc/qpTxRegNet.R (188 bytes security) (deflated 81%)
adding: doc/qpTxRegNet.Rnw (188 bytes security) (deflated 69%)
adding: help/ (256 bytes security) (stored 0%)
adding: help/aliases.rds (188 bytes security) (stored 0%)
adding: help/AnIndex (188 bytes security) (deflated 85%)
adding: help/paths.rds (188 bytes security) (stored 0%)
adding: help/qpgraph.rdb (188 bytes security) (deflated 1%)
adding: help/qpgraph.rdx (188 bytes security) (stored 0%)
adding: html/ (256 bytes security) (stored 0%)
adding: html/00Index.html (188 bytes security) (deflated 89%)
adding: html/R.css (188 bytes security) (deflated 75%)
adding: INDEX (188 bytes security) (deflated 66%)
adding: libs/ (256 bytes security) (stored 0%)
adding: libs/i386/ (256 bytes security) (stored 0%)
adding: libs/i386/qpgraph.dll (188 bytes security) (deflated 56%)
adding: libs/x64/ (256 bytes security) (stored 0%)
adding: libs/x64/qpgraph.dll (188 bytes security) (deflated 53%)
adding: MD5 (188 bytes security) (deflated 44%)
adding: Meta/ (256 bytes security) (stored 0%)
adding: Meta/data.rds (188 bytes security) (stored 0%)
adding: Meta/hsearch.rds (188 bytes security) (stored 0%)
adding: Meta/links.rds (188 bytes security) (stored 0%)
adding: Meta/nsInfo.rds (188 bytes security) (stored 0%)
adding: Meta/package.rds (188 bytes security) (stored 0%)
adding: Meta/Rd.rds (188 bytes security) (stored 0%)
adding: Meta/vignette.rds (188 bytes security) (stored 0%)
adding: NAMESPACE (188 bytes security) (deflated 75%)
adding: NEWS (188 bytes security) (deflated 66%)
adding: R/ (256 bytes security) (stored 0%)
adding: R/qpgraph (188 bytes security) (deflated 41%)
adding: R/qpgraph.rdb (188 bytes security) (deflated 29%)
adding: R/qpgraph.rdx (188 bytes security) (deflated 3%)
adding: snow/ (256 bytes security) (stored 0%)
adding: snow/RMPInode.R (188 bytes security) (deflated 51%)
adding: snow/RNWSnode.R (188 bytes security) (deflated 57%)
adding: snow/RPVMnode.R (188 bytes security) (deflated 54%)
adding: snow/RSOCKnode.R (188 bytes security) (deflated 53%)
adding: unitTests/ (256 bytes security) (stored 0%)
adding: unitTests/test_qpCItest.R (188 bytes security) (deflated 50%)
adding: unitTests/test_qpNrr.R (188 bytes security) (deflated 58%)
adding: unitTests/test_rgraphBAM.R (188 bytes security) (deflated 39%)