##############################################################################
##############################################################################
###
### Running command:
###
### cd prot2D.buildbin-libdir/prot2D && zip -r ../../prot2D_1.6.0.zip . & cd ../..
###
##############################################################################
##############################################################################
adding: CITATION (188 bytes security) (deflated 48%)
adding: data/ (256 bytes security) (stored 0%)
adding: data/pecten.fac.RData (188 bytes security) (stored 0%)
adding: data/pecten.RData (188 bytes security) (deflated 0%)
adding: DESCRIPTION (188 bytes security) (deflated 35%)
adding: doc/ (256 bytes security) (stored 0%)
adding: doc/index.html (188 bytes security) (deflated 58%)
adding: doc/prot2D.pdf (188 bytes security) (deflated 7%)
adding: doc/prot2D.R (188 bytes security) (deflated 83%)
adding: doc/prot2D.Rnw (188 bytes security) (deflated 65%)
adding: help/ (256 bytes security) (stored 0%)
adding: help/aliases.rds (188 bytes security) (stored 0%)
adding: help/AnIndex (188 bytes security) (deflated 56%)
adding: help/paths.rds (188 bytes security) (stored 0%)
adding: help/prot2D.rdb (188 bytes security) (deflated 1%)
adding: help/prot2D.rdx (188 bytes security) (stored 0%)
adding: html/ (256 bytes security) (stored 0%)
adding: html/00Index.html (188 bytes security) (deflated 73%)
adding: html/R.css (188 bytes security) (deflated 75%)
adding: INDEX (188 bytes security) (deflated 59%)
adding: MD5 (188 bytes security) (deflated 42%)
adding: Meta/ (256 bytes security) (stored 0%)
adding: Meta/data.rds (188 bytes security) (stored 0%)
adding: Meta/hsearch.rds (188 bytes security) (stored 0%)
adding: Meta/links.rds (188 bytes security) (stored 0%)
adding: Meta/nsInfo.rds (188 bytes security) (stored 0%)
adding: Meta/package.rds (188 bytes security) (stored 0%)
adding: Meta/Rd.rds (188 bytes security) (stored 0%)
adding: Meta/vignette.rds (188 bytes security) (stored 0%)
adding: NAMESPACE (188 bytes security) (deflated 45%)
adding: R/ (256 bytes security) (stored 0%)
adding: R/prot2D (188 bytes security) (deflated 41%)
adding: R/prot2D.rdb (188 bytes security) (deflated 2%)
adding: R/prot2D.rdx (188 bytes security) (stored 0%)