##############################################################################
##############################################################################
###
### Running command:
###
### cd netresponse.buildbin-libdir/netresponse && zip -r ../../netresponse_1.18.0.zip . & cd ../..
###
##############################################################################
##############################################################################
adding: CITATION (188 bytes security) (deflated 48%)
adding: data/ (256 bytes security) (stored 0%)
adding: data/dna.rda (188 bytes security) (deflated 0%)
adding: data/osmo.rda (188 bytes security) (deflated 0%)
adding: data/toydata.rda (188 bytes security) (deflated 2%)
adding: DESCRIPTION (188 bytes security) (deflated 40%)
adding: help/ (256 bytes security) (stored 0%)
adding: help/aliases.rds (188 bytes security) (stored 0%)
adding: help/AnIndex (188 bytes security) (deflated 73%)
adding: help/netresponse.rdb (188 bytes security) (deflated 3%)
adding: help/netresponse.rdx (188 bytes security) (stored 0%)
adding: help/paths.rds (188 bytes security) (stored 0%)
adding: html/ (256 bytes security) (stored 0%)
adding: html/00Index.html (188 bytes security) (deflated 80%)
adding: html/R.css (188 bytes security) (deflated 75%)
adding: INDEX (188 bytes security) (deflated 76%)
adding: libs/ (256 bytes security) (stored 0%)
adding: libs/i386/ (256 bytes security) (stored 0%)
adding: libs/i386/netresponse.dll (188 bytes security) (deflated 52%)
adding: libs/x64/ (256 bytes security) (stored 0%)
adding: libs/x64/netresponse.dll (188 bytes security) (deflated 53%)
adding: MD5 (188 bytes security) (deflated 43%)
adding: Meta/ (256 bytes security) (stored 0%)
adding: Meta/data.rds (188 bytes security) (stored 0%)
adding: Meta/hsearch.rds (188 bytes security) (stored 0%)
adding: Meta/links.rds (188 bytes security) (stored 0%)
adding: Meta/nsInfo.rds (188 bytes security) (stored 0%)
adding: Meta/package.rds (188 bytes security) (stored 0%)
adding: Meta/Rd.rds (188 bytes security) (stored 0%)
adding: NAMESPACE (188 bytes security) (deflated 70%)
adding: NEWS (188 bytes security) (deflated 66%)
adding: R/ (256 bytes security) (stored 0%)
adding: R/netresponse (188 bytes security) (deflated 41%)
adding: R/netresponse.rdb (188 bytes security) (deflated 18%)
adding: R/netresponse.rdx (188 bytes security) (stored 0%)