##############################################################################
##############################################################################
###
### Running command:
###
### cd logitT.buildbin-libdir/logitT && zip -r ../../logitT_1.26.0.zip . & cd ../..
###
##############################################################################
##############################################################################
adding: DESCRIPTION (188 bytes security) (deflated 35%)
adding: doc/ (256 bytes security) (stored 0%)
adding: doc/index.html (188 bytes security) (deflated 58%)
adding: doc/logitT.pdf (188 bytes security) (deflated 9%)
adding: doc/logitT.R (188 bytes security) (deflated 71%)
adding: doc/logitT.Rnw (188 bytes security) (deflated 65%)
adding: help/ (256 bytes security) (stored 0%)
adding: help/aliases.rds (188 bytes security) (deflated 1%)
adding: help/AnIndex (188 bytes security) (deflated 26%)
adding: help/logitT.rdb (188 bytes security) (stored 0%)
adding: help/logitT.rdx (188 bytes security) (stored 0%)
adding: help/paths.rds (188 bytes security) (stored 0%)
adding: html/ (256 bytes security) (stored 0%)
adding: html/00Index.html (188 bytes security) (deflated 49%)
adding: html/R.css (188 bytes security) (deflated 75%)
adding: INDEX (188 bytes security) (deflated 29%)
adding: libs/ (256 bytes security) (stored 0%)
adding: libs/i386/ (256 bytes security) (stored 0%)
adding: libs/i386/logitT.dll (188 bytes security) (deflated 53%)
adding: libs/x64/ (256 bytes security) (stored 0%)
adding: libs/x64/logitT.dll (188 bytes security) (deflated 55%)
adding: MD5 (188 bytes security) (deflated 42%)
adding: Meta/ (256 bytes security) (stored 0%)
adding: Meta/hsearch.rds (188 bytes security) (stored 0%)
adding: Meta/links.rds (188 bytes security) (stored 0%)
adding: Meta/nsInfo.rds (188 bytes security) (stored 0%)
adding: Meta/package.rds (188 bytes security) (stored 0%)
adding: Meta/Rd.rds (188 bytes security) (stored 0%)
adding: Meta/vignette.rds (188 bytes security) (stored 0%)
adding: NAMESPACE (188 bytes security) (deflated 5%)
adding: R/ (256 bytes security) (stored 0%)
adding: R/logitT (188 bytes security) (deflated 41%)
adding: R/logitT.rdb (188 bytes security) (deflated 7%)
adding: R/logitT.rdx (188 bytes security) (stored 0%)