##############################################################################
##############################################################################
###
### Running command:
###
### cd gtrellis.buildbin-libdir/gtrellis && zip -r ../../gtrellis_1.0.0.zip . & cd ../..
###
##############################################################################
##############################################################################
adding: DESCRIPTION (188 bytes security) (deflated 40%)
adding: doc/ (256 bytes security) (stored 0%)
adding: doc/gtrellis.html (188 bytes security) (deflated 40%)
adding: doc/gtrellis.Rmd (188 bytes security) (deflated 73%)
adding: doc/index.html (188 bytes security) (deflated 57%)
adding: extdata/ (256 bytes security) (stored 0%)
adding: extdata/df_control.rds (188 bytes security) (deflated 7%)
adding: extdata/df_tumor.rds (188 bytes security) (deflated 9%)
adding: extdata/gencode_v19_protein_coding_genes.rds (188 bytes security) (deflated 0%)
adding: help/ (256 bytes security) (stored 0%)
adding: help/aliases.rds (188 bytes security) (stored 0%)
adding: help/AnIndex (188 bytes security) (deflated 58%)
adding: help/gtrellis.rdb (188 bytes security) (deflated 0%)
adding: help/gtrellis.rdx (188 bytes security) (stored 0%)
adding: help/paths.rds (188 bytes security) (stored 0%)
adding: html/ (256 bytes security) (stored 0%)
adding: html/00Index.html (188 bytes security) (deflated 61%)
adding: html/R.css (188 bytes security) (deflated 75%)
adding: INDEX (188 bytes security) (deflated 43%)
adding: MD5 (188 bytes security) (deflated 42%)
adding: Meta/ (256 bytes security) (stored 0%)
adding: Meta/hsearch.rds (188 bytes security) (stored 0%)
adding: Meta/links.rds (188 bytes security) (stored 0%)
adding: Meta/nsInfo.rds (188 bytes security) (stored 0%)
adding: Meta/package.rds (188 bytes security) (stored 0%)
adding: Meta/Rd.rds (188 bytes security) (stored 0%)
adding: Meta/vignette.rds (188 bytes security) (stored 0%)
adding: NAMESPACE (188 bytes security) (deflated 57%)
adding: NEWS (188 bytes security) (deflated 40%)
adding: R/ (256 bytes security) (stored 0%)
adding: R/gtrellis (188 bytes security) (deflated 41%)
adding: R/gtrellis.rdb (188 bytes security) (deflated 2%)
adding: R/gtrellis.rdx (188 bytes security) (stored 0%)
adding: tests/ (256 bytes security) (stored 0%)
adding: tests/test_layout.R (188 bytes security) (deflated 56%)