##############################################################################
##############################################################################
###
### Running command:
###
### cd goTools.buildbin-libdir/goTools && zip -r ../../goTools_1.42.0.zip . & cd ../..
###
##############################################################################
##############################################################################
adding: data/ (256 bytes security) (stored 0%)
adding: data/probeID.RData (188 bytes security) (stored 0%)
adding: DESCRIPTION (188 bytes security) (deflated 36%)
adding: doc/ (256 bytes security) (stored 0%)
adding: doc/goTools.pdf (188 bytes security) (deflated 9%)
adding: doc/goTools.R (188 bytes security) (deflated 78%)
adding: doc/goTools.Rnw (188 bytes security) (deflated 62%)
adding: doc/index.html (188 bytes security) (deflated 58%)
adding: help/ (256 bytes security) (stored 0%)
adding: help/aliases.rds (188 bytes security) (stored 0%)
adding: help/AnIndex (188 bytes security) (deflated 59%)
adding: help/goTools.rdb (188 bytes security) (deflated 0%)
adding: help/goTools.rdx (188 bytes security) (stored 0%)
adding: help/paths.rds (188 bytes security) (stored 0%)
adding: html/ (256 bytes security) (stored 0%)
adding: html/00Index.html (188 bytes security) (deflated 71%)
adding: html/R.css (188 bytes security) (deflated 75%)
adding: INDEX (188 bytes security) (deflated 42%)
adding: LICENSE (188 bytes security) (deflated 62%)
adding: MD5 (188 bytes security) (deflated 41%)
adding: Meta/ (256 bytes security) (stored 0%)
adding: Meta/data.rds (188 bytes security) (stored 0%)
adding: Meta/hsearch.rds (188 bytes security) (stored 0%)
adding: Meta/links.rds (188 bytes security) (stored 0%)
adding: Meta/nsInfo.rds (188 bytes security) (stored 0%)
adding: Meta/package.rds (188 bytes security) (stored 0%)
adding: Meta/Rd.rds (188 bytes security) (stored 0%)
adding: Meta/vignette.rds (188 bytes security) (stored 0%)
adding: NAMESPACE (188 bytes security) (deflated 37%)
adding: R/ (256 bytes security) (stored 0%)
adding: R/goTools (188 bytes security) (deflated 41%)
adding: R/goTools.rdb (188 bytes security) (deflated 4%)
adding: R/goTools.rdx (188 bytes security) (stored 0%)