##############################################################################
##############################################################################
###
### Running command:
###
### cd goProfiles.buildbin-libdir/goProfiles && zip -r ../../goProfiles_1.30.0.zip . & cd ../..
###
##############################################################################
##############################################################################
adding: data/ (256 bytes security) (stored 0%)
adding: data/CD4Ids.rda (188 bytes security) (stored 0%)
adding: data/drosophila.rda (188 bytes security) (deflated 0%)
adding: data/hugoIds.rda (188 bytes security) (deflated 18%)
adding: data/omimIds.rda (188 bytes security) (stored 0%)
adding: data/prostateIds.rda (188 bytes security) (stored 0%)
adding: DESCRIPTION (188 bytes security) (deflated 36%)
adding: doc/ (256 bytes security) (stored 0%)
adding: doc/goProfiles.pdf (188 bytes security) (deflated 13%)
adding: doc/goProfiles.R (188 bytes security) (deflated 78%)
adding: doc/goProfiles.Rnw (188 bytes security) (deflated 59%)
adding: doc/index.html (188 bytes security) (deflated 59%)
adding: help/ (256 bytes security) (stored 0%)
adding: help/aliases.rds (188 bytes security) (stored 0%)
adding: help/AnIndex (188 bytes security) (deflated 75%)
adding: help/goProfiles.rdb (188 bytes security) (deflated 1%)
adding: help/goProfiles.rdx (188 bytes security) (stored 0%)
adding: help/paths.rds (188 bytes security) (stored 0%)
adding: html/ (256 bytes security) (stored 0%)
adding: html/00Index.html (188 bytes security) (deflated 85%)
adding: html/R.css (188 bytes security) (deflated 75%)
adding: INDEX (188 bytes security) (deflated 67%)
adding: MD5 (188 bytes security) (deflated 44%)
adding: Meta/ (256 bytes security) (stored 0%)
adding: Meta/data.rds (188 bytes security) (stored 0%)
adding: Meta/hsearch.rds (188 bytes security) (stored 0%)
adding: Meta/links.rds (188 bytes security) (stored 0%)
adding: Meta/nsInfo.rds (188 bytes security) (stored 0%)
adding: Meta/package.rds (188 bytes security) (stored 0%)
adding: Meta/Rd.rds (188 bytes security) (stored 0%)
adding: Meta/vignette.rds (188 bytes security) (stored 0%)
adding: NAMESPACE (188 bytes security) (deflated 73%)
adding: R/ (256 bytes security) (stored 0%)
adding: R/goProfiles (188 bytes security) (deflated 41%)
adding: R/goProfiles.rdb (188 bytes security) (deflated 6%)
adding: R/goProfiles.rdx (188 bytes security) (stored 0%)