##############################################################################
##############################################################################
###
### Running command:
###
### cd flipflop.buildbin-libdir/flipflop && zip -r ../../flipflop_1.6.1.zip . & cd ../..
###
##############################################################################
##############################################################################
adding: CITATION (188 bytes security) (deflated 65%)
adding: COPYING (188 bytes security) (deflated 66%)
adding: DESCRIPTION (188 bytes security) (deflated 37%)
adding: doc/ (256 bytes security) (stored 0%)
adding: doc/flipflop.pdf (188 bytes security) (deflated 12%)
adding: doc/flipflop.R (188 bytes security) (deflated 75%)
adding: doc/flipflop.Rnw (188 bytes security) (deflated 62%)
adding: doc/index.html (188 bytes security) (deflated 57%)
adding: extdata/ (256 bytes security) (stored 0%)
adding: extdata/flipflop.Rex (188 bytes security) (deflated 56%)
adding: extdata/vignette-annot.bed.txt (188 bytes security) (deflated 52%)
adding: extdata/vignette-sam.txt (188 bytes security) (deflated 96%)
adding: help/ (256 bytes security) (stored 0%)
adding: help/aliases.rds (188 bytes security) (deflated 6%)
adding: help/AnIndex (188 bytes security) (deflated 21%)
adding: help/flipflop.rdb (188 bytes security) (stored 0%)
adding: help/flipflop.rdx (188 bytes security) (stored 0%)
adding: help/paths.rds (188 bytes security) (stored 0%)
adding: html/ (256 bytes security) (stored 0%)
adding: html/00Index.html (188 bytes security) (deflated 51%)
adding: html/R.css (188 bytes security) (deflated 75%)
adding: INDEX (188 bytes security) (deflated 19%)
adding: libs/ (256 bytes security) (stored 0%)
adding: libs/i386/ (256 bytes security) (stored 0%)
adding: libs/i386/flipflop.dll (188 bytes security) (deflated 62%)
adding: libs/x64/ (256 bytes security) (stored 0%)
adding: libs/x64/flipflop.dll (188 bytes security) (deflated 66%)
adding: MD5 (188 bytes security) (deflated 42%)
adding: Meta/ (256 bytes security) (stored 0%)
adding: Meta/hsearch.rds (188 bytes security) (stored 0%)
adding: Meta/links.rds (188 bytes security) (stored 0%)
adding: Meta/nsInfo.rds (188 bytes security) (stored 0%)
adding: Meta/package.rds (188 bytes security) (stored 0%)
adding: Meta/Rd.rds (188 bytes security) (stored 0%)
adding: Meta/vignette.rds (188 bytes security) (stored 0%)
adding: NAMESPACE (188 bytes security) (deflated 41%)
adding: NEWS (188 bytes security) (deflated 64%)
adding: R/ (256 bytes security) (stored 0%)
adding: R/flipflop (188 bytes security) (deflated 41%)
adding: R/flipflop.rdb (188 bytes security) (deflated 8%)
adding: R/flipflop.rdx (188 bytes security) (deflated 0%)
adding: scripts/ (256 bytes security) (stored 0%)
adding: scripts/generateManPages.R (188 bytes security) (deflated 43%)